BEGIN:VCALENDAR
VERSION:2.0
PRODID:-//Calp - ECPv6.15.20//NONSGML v1.0//EN
CALSCALE:GREGORIAN
METHOD:PUBLISH
X-ORIGINAL-URL:https://calpcomunica.calp.es/?lang=va-val
X-WR-CALDESC:Events for Calp
REFRESH-INTERVAL;VALUE=DURATION:PT1H
X-Robots-Tag:noindex
X-PUBLISHED-TTL:PT1H
BEGIN:VTIMEZONE
TZID:UTC
BEGIN:STANDARD
TZOFFSETFROM:+0000
TZOFFSETTO:+0000
TZNAME:UTC
DTSTART:20250101T000000
END:STANDARD
END:VTIMEZONE
BEGIN:VEVENT
DTSTART;VALUE=DATE:20260206
DTEND;VALUE=DATE:20260207
DTSTAMP:20260422T093844
CREATED:20260206T073730Z
LAST-MODIFIED:20260206T073730Z
UID:10003486-1770336000-1770422399@calpcomunica.calp.es
SUMMARY:🎭🎉 Calp s’ompli de color i diversió amb els Carnavals 2026! 🎉🎭
DESCRIPTION:El dissabte 14 de febrer viurem una jornada festiva pensada per a totes les edats a la Plaça Major de Calp:\n👧🧒 Carnaval Infantil a les 17:30 h Una vesprada per a gaudir en família amb ball\, concurs de disfresses\, globoflèxia… i moltes sorpreses més!\n🎧🎶 Carnavals Calp a partir de les 23:00 h La festa continua amb una macro discomòbil.\nVine amb la teua millor disfressa i prepara’t per a gaudir d’un dia complet de música\, ball i ambient carnvaler 🎊\n📍 Lloc: Plaça Major de Calp\n🤝 Organitza: Ajuntament de Calp i CalpJove\n🎭 Col·labora: Festers Calp 2026
URL:https://calpcomunica.calp.es/evento/%f0%9f%8e%ad%f0%9f%8e%89-calp-sompli-de-color-i-diversio-amb-els-carnavals-2026-%f0%9f%8e%89%f0%9f%8e%ad/?lang=va-val
CATEGORIES:Actividades
ATTACH;FMTTYPE=image/jpeg:https://calpcomunica.calp.es/wp-content/uploads/2026/02/Carnavales-ninos.jpg
END:VEVENT
BEGIN:VEVENT
DTSTART;VALUE=DATE:20260212
DTEND;VALUE=DATE:20260213
DTSTAMP:20260422T093844
CREATED:20260212T171828Z
LAST-MODIFIED:20260212T171828Z
UID:10003558-1770854400-1770940799@calpcomunica.calp.es
SUMMARY:ANUNCI
DESCRIPTION:
URL:https://calpcomunica.calp.es/evento/anunci/?lang=va-val
CATEGORIES:Anuncios
ATTACH;FMTTYPE=image/png:https://calpcomunica.calp.es/wp-content/uploads/2026/02/Ingles.png
END:VEVENT
BEGIN:VEVENT
DTSTART;VALUE=DATE:20260217
DTEND;VALUE=DATE:20260218
DTSTAMP:20260422T093844
CREATED:20260217T085017Z
LAST-MODIFIED:20260217T085017Z
UID:10003612-1771286400-1771372799@calpcomunica.calp.es
SUMMARY:🎭✨ Torna el Carnaval a Calp! ✨🎭
DESCRIPTION:Després de l’ajornament per causes meteorològiques\, celebrem el Carnaval 2026 el pròxim dissabte 21 de febrer amb una jornada plena de diversió per a totes les edats.\n👧🧒 Festa Infantil\n🕠 17:30 h\n🌙🎧 Carnavals Calp – Macro Discomòbil “SanSaru”\n🕚 23:00 h\n👗🦸‍♂️🧙‍♀️ Treu la teua millor disfressa i vine a celebrar el Carnaval amb nosaltres.\nT’esperem el 21 de febrer a la Plaça Major! 🎉
URL:https://calpcomunica.calp.es/evento/%f0%9f%8e%ad%e2%9c%a8-torna-el-carnaval-a-calp-%e2%9c%a8%f0%9f%8e%ad/?lang=va-val
CATEGORIES:Actividades
ATTACH;FMTTYPE=image/jpeg:https://calpcomunica.calp.es/wp-content/uploads/2026/02/WhatsApp-Image-2026-02-16-at-11.03.41.jpeg
END:VEVENT
BEGIN:VEVENT
DTSTART;VALUE=DATE:20260220
DTEND;VALUE=DATE:20260221
DTSTAMP:20260422T093844
CREATED:20260220T113241Z
LAST-MODIFIED:20260220T113241Z
UID:10003684-1771545600-1771631999@calpcomunica.calp.es
SUMMARY:Canvi horari Teatre Infantil
DESCRIPTION:
URL:https://calpcomunica.calp.es/evento/canvi-horari-teatre-infantil/?lang=va-val
CATEGORIES:Cultura
ATTACH;FMTTYPE=image/jpeg:https://calpcomunica.calp.es/wp-content/uploads/2026/02/CAMBIO-HORARIO-TEATRO-INFANTIL-21-FEBRERO-BOBO.jpg
END:VEVENT
BEGIN:VEVENT
DTSTART;VALUE=DATE:20260225
DTEND;VALUE=DATE:20260226
DTSTAMP:20260422T093844
CREATED:20260225T101946Z
LAST-MODIFIED:20260225T101946Z
UID:10003774-1771977600-1772063999@calpcomunica.calp.es
SUMMARY:📢 Curs d'Especialització Penal i Processal en Violència de Gènere i Sistema VioGén 2.
DESCRIPTION:Les Regidories d’Igualtat i Seguretat Ciutadana de l’Ajuntament de Calp organitzen este curs de formació especialitzada\, impartit pel brigada de la Guàrdia Civil Juan Antonio Jover Pineda\, amb la intervenció del Magistrat del Tribunal Suprem Vicente Magro Servet.\n🗓 Del 23 al 27 de març\n🕘 De 9.00 a 13.00 h\n📍 Campus d’Excel·lència Empresarial de la Casa Nova (Calp)\n🎓 Formació homologada per l’IVASPE i finançada amb fons del Pacte d’Estat contra la Violència de Gènere\n🔗 Inscripcions obertes:
URL:https://calpcomunica.calp.es/evento/%f0%9f%93%a2-curs-despecialitzacio-penal-i-processal-en-violencia-de-genere-i-sistema-viogen-2-2/?lang=va-val
CATEGORIES:Noticies
ATTACH;FMTTYPE=image/jpeg:https://calpcomunica.calp.es/wp-content/uploads/2026/02/Viogen-1.jpg
END:VEVENT
BEGIN:VEVENT
DTSTART;VALUE=DATE:20260227
DTEND;VALUE=DATE:20260228
DTSTAMP:20260422T093844
CREATED:20260227T071516Z
LAST-MODIFIED:20260227T071516Z
UID:10003798-1772150400-1772236799@calpcomunica.calp.es
SUMMARY:Dossier de Premsa
DESCRIPTION:
URL:https://calpcomunica.calp.es/evento/dossier-de-premsa-131/?lang=va-val
CATEGORIES:Noticies
ATTACH;FMTTYPE=image/jpeg:https://calpcomunica.calp.es/wp-content/uploads/2026/02/Dosier-prensa.jpg
END:VEVENT
END:VCALENDAR