BEGIN:VCALENDAR
VERSION:2.0
PRODID:-//Calp - ECPv6.15.20//NONSGML v1.0//EN
CALSCALE:GREGORIAN
METHOD:PUBLISH
X-WR-CALNAME:Calp
X-ORIGINAL-URL:https://calpcomunica.calp.es/?lang=va-val
X-WR-CALDESC:Events for Calp
REFRESH-INTERVAL;VALUE=DURATION:PT1H
X-Robots-Tag:noindex
X-PUBLISHED-TTL:PT1H
BEGIN:VTIMEZONE
TZID:UTC
BEGIN:STANDARD
TZOFFSETFROM:+0000
TZOFFSETTO:+0000
TZNAME:UTC
DTSTART:20240101T000000
END:STANDARD
END:VTIMEZONE
BEGIN:VEVENT
DTSTART;TZID=UTC:20250529T080000
DTEND;TZID=UTC:20250529T170000
DTSTAMP:20260423T065315
CREATED:20250529T135821Z
LAST-MODIFIED:20250529T135821Z
UID:10000253-1748505600-1748538000@calpcomunica.calp.es
SUMMARY:Cumbre Robotica 2025 (Evento Prueba Lyn)
DESCRIPTION:Cumbre Robotica 2025 em CES
URL:https://calpcomunica.calp.es/evento/cumbre-robotica-2025-evento-prueba-lyn/?lang=va-val
LOCATION:Campus d’Excelència Empresarial\, Partida Casa Nova\, 1\, M\, Calp\, Alicante\, 03710\, Spain
CATEGORIES:Tecnologia
ATTACH;FMTTYPE=image/jpeg:https://calpcomunica.calp.es/wp-content/uploads/2025/04/ces-1.jpeg
END:VEVENT
END:VCALENDAR