BEGIN:VCALENDAR
VERSION:2.0
PRODID:-//Calp Comunica - ECPv6.15.20//NONSGML v1.0//EN
CALSCALE:GREGORIAN
METHOD:PUBLISH
X-ORIGINAL-URL:https://calpcomunica.calp.es
X-WR-CALDESC:Eventos para Calp Comunica
REFRESH-INTERVAL;VALUE=DURATION:PT1H
X-Robots-Tag:noindex
X-PUBLISHED-TTL:PT1H
BEGIN:VTIMEZONE
TZID:UTC
BEGIN:STANDARD
TZOFFSETFROM:+0000
TZOFFSETTO:+0000
TZNAME:UTC
DTSTART:20250101T000000
END:STANDARD
END:VTIMEZONE
BEGIN:VEVENT
DTSTART;VALUE=DATE:20260302
DTEND;VALUE=DATE:20260303
DTSTAMP:20260422T043441
CREATED:20260302T073012Z
LAST-MODIFIED:20260302T073012Z
UID:10003809-1772409600-1772495999@calpcomunica.calp.es
SUMMARY:Dosier de Prensa
DESCRIPTION:
URL:https://calpcomunica.calp.es/evento/dosier-de-prensa-126/
CATEGORIES:Noticia
ATTACH;FMTTYPE=image/jpeg:https://calpcomunica.calp.es/wp-content/uploads/2026/03/619672999_1331645579004225_6566389310431176086_n_3.jpg
END:VEVENT
BEGIN:VEVENT
DTSTART;TZID=UTC:20260303T080000
DTEND;TZID=UTC:20260330T170000
DTSTAMP:20260422T043441
CREATED:20260225T120944Z
LAST-MODIFIED:20260225T120944Z
UID:10003788-1772524800-1774890000@calpcomunica.calp.es
SUMMARY:Exposición Grupo Arte-Son
DESCRIPTION:
URL:https://calpcomunica.calp.es/evento/exposicion-grupo-arte-son/
CATEGORIES:Cultura
ATTACH;FMTTYPE=image/jpeg:https://calpcomunica.calp.es/wp-content/uploads/2026/02/PHOTO-2026-02-10-19-14-45.jpg
END:VEVENT
BEGIN:VEVENT
DTSTART;TZID=UTC:20260305T190000
DTEND;TZID=UTC:20260305T203000
DTSTAMP:20260422T043441
CREATED:20260302T114939Z
LAST-MODIFIED:20260302T114939Z
UID:10003815-1772737200-1772742600@calpcomunica.calp.es
SUMMARY:40º aniversario de la entrada en la Unión Europea
DESCRIPTION:
URL:https://calpcomunica.calp.es/evento/40o-aniversario-de-la-entrada-en-la-union-europea-2/
CATEGORIES:Cultura
ATTACH;FMTTYPE=image/jpeg:https://calpcomunica.calp.es/wp-content/uploads/2026/02/Aniversario-UE-Calpe-1.jpg
END:VEVENT
BEGIN:VEVENT
DTSTART;VALUE=DATE:20260307
DTEND;VALUE=DATE:20260308
DTSTAMP:20260422T043441
CREATED:20260227T112812Z
LAST-MODIFIED:20260227T112812Z
UID:10003800-1772841600-1772927999@calpcomunica.calp.es
SUMMARY:La Nit Encesa
DESCRIPTION:
URL:https://calpcomunica.calp.es/evento/la-nit-encesa/
CATEGORIES:Cultura
ATTACH;FMTTYPE=image/jpeg:https://calpcomunica.calp.es/wp-content/uploads/2026/02/CARTEL-GRAL-LA-NIT-ENCESA.jpg
END:VEVENT
BEGIN:VEVENT
DTSTART;TZID=UTC:20260310T170000
DTEND;TZID=UTC:20260310T230000
DTSTAMP:20260422T043441
CREATED:20260306T083044Z
LAST-MODIFIED:20260306T083044Z
UID:10003872-1773162000-1773183600@calpcomunica.calp.es
SUMMARY:Convocatoria de pleno
DESCRIPTION:
URL:https://calpcomunica.calp.es/evento/convocatoria-de-pleno-3/
CATEGORIES:Anuncios
ATTACH;FMTTYPE=image/jpeg:https://calpcomunica.calp.es/wp-content/uploads/2026/03/20260305_Comunicacion_Anuncio-de-la-convocatoria_page-0001.jpg
END:VEVENT
BEGIN:VEVENT
DTSTART;VALUE=DATE:20260311
DTEND;VALUE=DATE:20260312
DTSTAMP:20260422T043441
CREATED:20260311T122009Z
LAST-MODIFIED:20260311T122009Z
UID:10003947-1773187200-1773273599@calpcomunica.calp.es
SUMMARY:✝️ Cuaresma y Semana Santa Calp 2026 | Actos de este fin de semana
DESCRIPTION:📅 Viernes 13 de marzo: Celebración del Cristo de Marzo.\n🕢 19:30 h – Santa Misa y Vía Crucis por el casco antiguo.\n📅 Sábado 14 de marzo: Hermandad Penitencial del Silencio\n⛪ Durante la mañana: traslado del Santísimo Cristo del Sudor a la Parroquia de la Merced.\n🕡 18:30 h – Santa Misa\, bendición e imposición de medallas a nuevos cofrades y Juramento de Silencio (Parroquia Ntra. Sra. de la Merced).\n📅 Domingo 15 de marzo: Cofradía del Santísimo Cristo de las Tres Caídas.\n🕛 12:00 h – Santa Misa\, bendición e imposición de medallas a nuevos cofrades.
URL:https://calpcomunica.calp.es/evento/%e2%9c%9d%ef%b8%8f-cuaresma-y-semana-santa-calp-2026-actos-de-este-fin-de-semana/
CATEGORIES:Actividades
ATTACH;FMTTYPE=image/jpeg:https://calpcomunica.calp.es/wp-content/uploads/2026/03/libro-semana-santa-2026ok_page-0014.jpg
END:VEVENT
BEGIN:VEVENT
DTSTART;TZID=UTC:20260311T193000
DTEND;TZID=UTC:20260311T210000
DTSTAMP:20260422T043441
CREATED:20260310T074432Z
LAST-MODIFIED:20260310T074432Z
UID:10003911-1773257400-1773262800@calpcomunica.calp.es
SUMMARY:Actuación de Toronzo Cannon & Blues Band (Chicago\, USA)
DESCRIPTION:
URL:https://calpcomunica.calp.es/evento/actuacion-de-toronzo-cannon-blues-band-chicago-usa/
CATEGORIES:Cultura
ATTACH;FMTTYPE=image/jpeg:https://calpcomunica.calp.es/wp-content/uploads/2026/03/DEF_TORONZO-500-X-600_MAIL-1.jpg
END:VEVENT
BEGIN:VEVENT
DTSTART;TZID=UTC:20260317T190000
DTEND;TZID=UTC:20260317T203000
DTSTAMP:20260422T043441
CREATED:20260226T070404Z
LAST-MODIFIED:20260226T070404Z
UID:10003791-1773774000-1773779400@calpcomunica.calp.es
SUMMARY:La comedia “Ifach" de Azorín y su relación con Calpe
DESCRIPTION:
URL:https://calpcomunica.calp.es/evento/la-comedia-ifach-de-azorin-y-su-relacion-con-calpe/
CATEGORIES:Cultura
ATTACH;FMTTYPE=image/jpeg:https://calpcomunica.calp.es/wp-content/uploads/2026/02/Azorin-Calpe.jpg
END:VEVENT
BEGIN:VEVENT
DTSTART;VALUE=DATE:20260324
DTEND;VALUE=DATE:20260325
DTSTAMP:20260422T043441
CREATED:20260324T122128Z
LAST-MODIFIED:20260324T122128Z
UID:10004093-1774310400-1774396799@calpcomunica.calp.es
SUMMARY:📊 La violencia de género en Calp: perfil sociodemográfico
DESCRIPTION:El análisis de los 89 expedientes registrados en Calp permite trazar un perfil de víctimas y agresores y profundizar en la realidad local vinculada a la violencia de género.\n🔹 La franja de 25 a 34 años concentra la mayor incidencia: 37% de las víctimas y 28% de los agresores.\n🔹 La nacionalidad española es la más frecuente en ambos perfiles\, seguida de la colombiana.\n🔹 Destaca la presencia de 8 víctimas de 65 años o más (9%)\, lo que evidencia que esta problemática también afecta de forma significativa a personas mayores.\n🔹 En muchos expedientes\, víctima y agresor comparten nacionalidad\, especialmente en los casos de España y Colombia.\n➡️ Lee la nota de prensa completa aquí: \n 
URL:https://calpcomunica.calp.es/evento/%f0%9f%93%8a-la-violencia-de-genero-en-calp-perfil-sociodemografico/
CATEGORIES:Noticia
ATTACH;FMTTYPE=image/jpeg:https://calpcomunica.calp.es/wp-content/uploads/2026/03/Nacionalidad.jpeg
END:VEVENT
BEGIN:VEVENT
DTSTART;VALUE=DATE:20260327
DTEND;VALUE=DATE:20260328
DTSTAMP:20260422T043441
CREATED:20260327T130051Z
LAST-MODIFIED:20260327T130051Z
UID:10004159-1774569600-1774655999@calpcomunica.calp.es
SUMMARY:🚧 El camino viejo de Benissa pasa a ser de un único sentido
DESCRIPTION:
URL:https://calpcomunica.calp.es/evento/%f0%9f%9a%a7-el-camino-viejo-de-benissa-pasa-a-ser-de-un-unico-sentido/
CATEGORIES:Noticia
ATTACH;FMTTYPE=image/jpeg:https://calpcomunica.calp.es/wp-content/uploads/2026/03/9ff07bdd-7d19-4195-9356-4d4fdb3960cf.jpg
END:VEVENT
BEGIN:VEVENT
DTSTART;TZID=UTC:20260327T200000
DTEND;TZID=UTC:20260327T213000
DTSTAMP:20260422T043441
CREATED:20260324T085550Z
LAST-MODIFIED:20260324T085550Z
UID:10004084-1774641600-1774647000@calpcomunica.calp.es
SUMMARY:La fuga perpendicular
DESCRIPTION:
URL:https://calpcomunica.calp.es/evento/la-fuga-perpendicular/
CATEGORIES:Cultura
ATTACH;FMTTYPE=image/jpeg:https://calpcomunica.calp.es/wp-content/uploads/2026/03/27-03-Cartel-largometraje-PL.jpg
END:VEVENT
BEGIN:VEVENT
DTSTART;TZID=UTC:20260328T183000
DTEND;TZID=UTC:20260328T200000
DTSTAMP:20260422T043441
CREATED:20260325T101950Z
LAST-MODIFIED:20260325T101950Z
UID:10004105-1774722600-1774728000@calpcomunica.calp.es
SUMMARY:Teatro Infantil
DESCRIPTION:
URL:https://calpcomunica.calp.es/evento/teatro-infantil/
CATEGORIES:Cultura
ATTACH;FMTTYPE=image/jpeg:https://calpcomunica.calp.es/wp-content/uploads/2026/03/28-03-2026-ritmos-animalescosTEATRO-INFANTIL.jpg
END:VEVENT
BEGIN:VEVENT
DTSTART;TZID=UTC:20260331T180000
DTEND;TZID=UTC:20260331T200000
DTSTAMP:20260422T043441
CREATED:20260317T084830Z
LAST-MODIFIED:20260317T084830Z
UID:10004004-1774980000-1774987200@calpcomunica.calp.es
SUMMARY:Actividad Casa Nova
DESCRIPTION:
URL:https://calpcomunica.calp.es/evento/actividad-casa-nova/
CATEGORIES:Cultura
ATTACH;FMTTYPE=image/jpeg:https://calpcomunica.calp.es/wp-content/uploads/2026/03/Impacto-Calpe.jpg
END:VEVENT
END:VCALENDAR