BEGIN:VCALENDAR
VERSION:2.0
PRODID:-//Calp Comunica - ECPv6.15.20//NONSGML v1.0//EN
CALSCALE:GREGORIAN
METHOD:PUBLISH
X-WR-CALNAME:Calp Comunica
X-ORIGINAL-URL:https://calpcomunica.calp.es
X-WR-CALDESC:Eventos para Calp Comunica
REFRESH-INTERVAL;VALUE=DURATION:PT1H
X-Robots-Tag:noindex
X-PUBLISHED-TTL:PT1H
BEGIN:VTIMEZONE
TZID:UTC
BEGIN:STANDARD
TZOFFSETFROM:+0000
TZOFFSETTO:+0000
TZNAME:UTC
DTSTART:20250101T000000
END:STANDARD
END:VTIMEZONE
BEGIN:VEVENT
DTSTART;VALUE=DATE:20260206
DTEND;VALUE=DATE:20260207
DTSTAMP:20260422T095213
CREATED:20260206T073730Z
LAST-MODIFIED:20260206T073730Z
UID:10003485-1770336000-1770422399@calpcomunica.calp.es
SUMMARY:🎭🎉 ¡Calp se llena de color y diversión con los Carnavales 2026! 🎉🎭
DESCRIPTION:El sábado 14 de febrero viviremos una jornada festiva pensada para todas las edades en la Plaza Mayor de Calp:\n👧🧒 Carnaval Infantil a las 17:30 h\nUna tarde para disfrutar en familia con baile\, concurso de disfraces\, globoflexia …¡y muchas sorpresas más!\n🎧🎶 Carnavales Calpe a partir de las 23:00 h\nLa fiesta continúa con una macro discomóvil.\nVen con tu mejor disfraz y prepárate para disfrutar de un día completo de música\, baile y ambiente carnavalero 🎊\n📍 Lugar: Plaza Mayor de Calp\n🤝 Organiza: Ayuntamiento de Calp y CalpJove\n🎭 Colabora: Festers Calp 2026 \n 
URL:https://calpcomunica.calp.es/evento/%f0%9f%8e%ad%f0%9f%8e%89-calp-se-llena-de-color-y-diversion-con-los-carnavales-2026-%f0%9f%8e%89%f0%9f%8e%ad/
CATEGORIES:Actividades
ATTACH;FMTTYPE=image/jpeg:https://calpcomunica.calp.es/wp-content/uploads/2026/02/Carnavales-ninos.jpg
END:VEVENT
BEGIN:VEVENT
DTSTART;VALUE=DATE:20260212
DTEND;VALUE=DATE:20260213
DTSTAMP:20260422T095213
CREATED:20260212T171828Z
LAST-MODIFIED:20260212T171828Z
UID:10003557-1770854400-1770940799@calpcomunica.calp.es
SUMMARY:ANUNCIO
DESCRIPTION:
URL:https://calpcomunica.calp.es/evento/anuncio/
CATEGORIES:Anuncios
ATTACH;FMTTYPE=image/png:https://calpcomunica.calp.es/wp-content/uploads/2026/02/Ingles.png
END:VEVENT
BEGIN:VEVENT
DTSTART;VALUE=DATE:20260217
DTEND;VALUE=DATE:20260218
DTSTAMP:20260422T095213
CREATED:20260217T085017Z
LAST-MODIFIED:20260217T085017Z
UID:10003611-1771286400-1771372799@calpcomunica.calp.es
SUMMARY:🎭✨ ¡Vuelve el Carnaval a Calp! ✨🎭
DESCRIPTION:Tras el aplazamiento por causas meteorológicas\, celebramos el Carnaval 2026 el próximo sábado 21 de febrero con una jornada llena de diversión para todas las edades.\n👧🧒 Fiesta Infantil\n🕠 17:30 h\n🌙🎧 Carnavales Calpe – Macro Discomóvil “SanSaru”\n🕚 23:00 h\n👗🦸‍♂️🧙‍♀️ Saca tu mejor disfraz y ven a celebrar el Carnaval con nosotros.\n¡Te esperamos el 21 de febrero en la Plaza Mayor! 🎉 \n 
URL:https://calpcomunica.calp.es/evento/%f0%9f%8e%ad%e2%9c%a8-vuelve-el-carnaval-a-calp-%e2%9c%a8%f0%9f%8e%ad/
CATEGORIES:Actividades
ATTACH;FMTTYPE=image/jpeg:https://calpcomunica.calp.es/wp-content/uploads/2026/02/WhatsApp-Image-2026-02-16-at-11.03.41.jpeg
END:VEVENT
BEGIN:VEVENT
DTSTART;VALUE=DATE:20260220
DTEND;VALUE=DATE:20260221
DTSTAMP:20260422T095213
CREATED:20260220T113241Z
LAST-MODIFIED:20260220T113241Z
UID:10003683-1771545600-1771631999@calpcomunica.calp.es
SUMMARY:Cambio horario Teatro Infantil
DESCRIPTION:
URL:https://calpcomunica.calp.es/evento/cambio-horario-teatro-infantil/
CATEGORIES:Cultura
ATTACH;FMTTYPE=image/jpeg:https://calpcomunica.calp.es/wp-content/uploads/2026/02/CAMBIO-HORARIO-TEATRO-INFANTIL-21-FEBRERO-BOBO.jpg
END:VEVENT
BEGIN:VEVENT
DTSTART;VALUE=DATE:20260225
DTEND;VALUE=DATE:20260226
DTSTAMP:20260422T095213
CREATED:20260225T101946Z
LAST-MODIFIED:20260225T101946Z
UID:10003773-1771977600-1772063999@calpcomunica.calp.es
SUMMARY:📢 Curso de Especialización Penal y Procesal en Violencia de Género y Sistema VioGén 2.
DESCRIPTION:Las Concejalías de Igualdad y Seguridad Ciudadana del Ayuntamiento de Calp organizan este curso de formación especializada\, impartido por el brigada de la Guardia Civil Juan Antonio Jover Pinar\, con la intervención del Magistrado del Tribunal Supremo Vicente Magro Servet.\n🗓 Del 23 al 27 de marzo\n🕘 De 9:00 a 13:00 h\n📍 Campus de Excelencia Empresarial de la Casa Nova (Calp)\n🎓 Formación homologada por el IVASPE y financiada con fondos del Pacto de Estado contra la Violencia de Género\n🔗 Inscripciones abiertas: \n 
URL:https://calpcomunica.calp.es/evento/%f0%9f%93%a2-curso-de-especializacion-penal-y-procesal-en-violencia-de-genero-y-sistema-viogen-2-2/
CATEGORIES:Noticia
ATTACH;FMTTYPE=image/jpeg:https://calpcomunica.calp.es/wp-content/uploads/2026/02/Viogen-1.jpg
END:VEVENT
BEGIN:VEVENT
DTSTART;VALUE=DATE:20260227
DTEND;VALUE=DATE:20260228
DTSTAMP:20260422T095213
CREATED:20260227T071516Z
LAST-MODIFIED:20260227T071516Z
UID:10003797-1772150400-1772236799@calpcomunica.calp.es
SUMMARY:Dosier de Prensa
DESCRIPTION:
URL:https://calpcomunica.calp.es/evento/dosier-de-prensa-125/
CATEGORIES:Noticia
ATTACH;FMTTYPE=image/jpeg:https://calpcomunica.calp.es/wp-content/uploads/2026/02/Dosier-prensa.jpg
END:VEVENT
END:VCALENDAR