BEGIN:VCALENDAR
VERSION:2.0
PRODID:-//Calp Comunica - ECPv6.15.20//NONSGML v1.0//EN
CALSCALE:GREGORIAN
METHOD:PUBLISH
X-ORIGINAL-URL:https://calpcomunica.calp.es
X-WR-CALDESC:Eventos para Calp Comunica
REFRESH-INTERVAL;VALUE=DURATION:PT1H
X-Robots-Tag:noindex
X-PUBLISHED-TTL:PT1H
BEGIN:VTIMEZONE
TZID:UTC
BEGIN:STANDARD
TZOFFSETFROM:+0000
TZOFFSETTO:+0000
TZNAME:UTC
DTSTART:20240101T000000
END:STANDARD
END:VTIMEZONE
BEGIN:VEVENT
DTSTART;TZID=UTC:20250812T080000
DTEND;TZID=UTC:20250812T170000
DTSTAMP:20260423T100244
CREATED:20250812T093905Z
LAST-MODIFIED:20250812T093905Z
UID:10001103-1754985600-1755018000@calpcomunica.calp.es
SUMMARY:Obras vial Balcón de Bernia
DESCRIPTION:Obras vial Balcón de Bernia
URL:https://calpcomunica.calp.es/evento/obras-vial-balcon-de-bernia/
CATEGORIES:Noticia
ATTACH;FMTTYPE=image/jpeg:https://calpcomunica.calp.es/wp-content/uploads/2025/08/484757119_9516702665058027_5823115357836910591_n.jpg
END:VEVENT
BEGIN:VEVENT
DTSTART;TZID=UTC:20250811T210000
DTEND;TZID=UTC:20250811T223000
DTSTAMP:20260423T100244
CREATED:20250807T064416Z
LAST-MODIFIED:20250807T064416Z
UID:10001040-1754946000-1754951400@calpcomunica.calp.es
SUMMARY:Concierto
DESCRIPTION:Concierto
URL:https://calpcomunica.calp.es/evento/concierto/
CATEGORIES:Cultura
ATTACH;FMTTYPE=image/jpeg:https://calpcomunica.calp.es/wp-content/uploads/2025/08/11-08-25-Cartel-CONCIERTO-EL-MALECON.jpg
END:VEVENT
BEGIN:VEVENT
DTSTART;VALUE=DATE:20250802
DTEND;VALUE=DATE:20250901
DTSTAMP:20260423T100244
CREATED:20250731T083913Z
LAST-MODIFIED:20250731T083913Z
UID:10000963-1754092800-1756684799@calpcomunica.calp.es
SUMMARY:🎨 Exposición de pintura: "Pinta que pintarás"🖌️
DESCRIPTION:La Sala de Exposiciones del Ajuntament Vell acoge durante el mes de agosto la muestra pictórica de Paqui Colomina\, una propuesta llena de color\, paisaje y sensibilidad artística. \n📅 Del 2 al 30 de agosto de 2025\n🕖 Horario: de miércoles a domingo\, de 10:00 a 13:00 h y de 18:30 a 22:00 h\n📍 Sala de exposiciones Ajuntament Vell (C/ Francisco Zaragoza\, 2)\n🎟️ Entrada libre  \n🖼️ Inauguración: sábado 2 de agosto a las 19:00 h
URL:https://calpcomunica.calp.es/evento/%f0%9f%8e%a8-exposicion-de-pintura-pinta-que-pintaras%f0%9f%96%8c%ef%b8%8f/
CATEGORIES:Actividades
ATTACH;FMTTYPE=image/jpeg:https://calpcomunica.calp.es/wp-content/uploads/2025/07/02-30-08-25-EXPO-AJ-PAQUI-COLOMINA.jpg
END:VEVENT
BEGIN:VEVENT
DTSTART;VALUE=DATE:20250801
DTEND;VALUE=DATE:20250802
DTSTAMP:20260423T100244
CREATED:20250801T104213Z
LAST-MODIFIED:20250801T104213Z
UID:10000987-1754006400-1754092799@calpcomunica.calp.es
SUMMARY:♻️ ¡Reciclar es dar una nueva vida a nuestros residuos!
DESCRIPTION:En Calp\, apostamos por un reciclaje fácil y responsable. ¿Conoces el significado de cada color? 👇 \n🟡 Amarillo: Envases y envoltorios. Botellas de plástico\, latas y bricks pueden tener una segunda vida útil. ¡Dales una oportunidad! \n🔵 Azul: Papel y cartón. Cada tonelada de papel reciclado evita la tala de unos 17 árboles. 🌳 \n🟢 Verde: Vidrio. El vidrio reciclado se transforma en nuevos envases y ayuda a reducir la contaminación del aire. 🌍 \n🟤 Marrón: Orgánico. Para restos de comida y plantas. Esencial para el compostaje\, que convierte los residuos en fertilizante natural. 🌱
URL:https://calpcomunica.calp.es/evento/%e2%99%bb%ef%b8%8f-reciclar-es-dar-una-nueva-vida-a-nuestros-residuos/
CATEGORIES:Actividades
ATTACH;FMTTYPE=image/jpeg:https://calpcomunica.calp.es/wp-content/uploads/2025/08/Infografia-reciclaje-en-colores.jpg
END:VEVENT
BEGIN:VEVENT
DTSTART;VALUE=DATE:20250801
DTEND;VALUE=DATE:20250802
DTSTAMP:20260423T100244
CREATED:20250801T080942Z
LAST-MODIFIED:20250801T080942Z
UID:10000972-1754006400-1754092799@calpcomunica.calp.es
SUMMARY:🎉 ¡Las Fiestas Patronales en honor a la Mare de Déu de les Neus ya están aquí!
DESCRIPTION:📍Consulta todo el programa completo en los carteles adjuntos o en los canales oficiales del Ayuntamiento.
URL:https://calpcomunica.calp.es/evento/%f0%9f%8e%89-las-fiestas-patronales-en-honor-a-la-mare-de-deu-de-les-neus-ya-estan-aqui/
CATEGORIES:Actividades
ATTACH;FMTTYPE=image/jpeg:https://calpcomunica.calp.es/wp-content/uploads/2025/07/Programa_Festes_Agost_2025-2_page-0001-scaled.jpg
END:VEVENT
BEGIN:VEVENT
DTSTART;TZID=UTC:20250731T220000
DTEND;TZID=UTC:20250731T233000
DTSTAMP:20260423T100244
CREATED:20250730T074107Z
LAST-MODIFIED:20250730T074107Z
UID:10000934-1753999200-1754004600@calpcomunica.calp.es
SUMMARY:🎬 Cinema a la Mar: CAMPEONEX 🏀
DESCRIPTION:Este jueves\, disfruta de una noche de cine al aire libre con «Campeonex»\, la esperada secuela de la exitosa comedia Campeones.\n📅 Jueves\, 31 de julio de 2025\n🕙 22:00 h\n📍 Playa de la Fossa – Calp\n🎟️ Entrada libre\n👦 +7 años | ⏱️ Duración: 124 minutos | 🎭 Comedia
URL:https://calpcomunica.calp.es/evento/%f0%9f%8e%ac-cinema-a-la-mar-campeonex-%f0%9f%8f%80/
CATEGORIES:Actividades
ATTACH;FMTTYPE=image/jpeg:https://calpcomunica.calp.es/wp-content/uploads/2025/07/Cinema-a-la-mar-1.jpg
END:VEVENT
BEGIN:VEVENT
DTSTART;VALUE=DATE:20250730
DTEND;VALUE=DATE:20250731
DTSTAMP:20260423T100244
CREATED:20250730T075320Z
LAST-MODIFIED:20250730T075320Z
UID:10000937-1753833600-1753919999@calpcomunica.calp.es
SUMMARY:🛍✨ ¡Este verano no te pierdas los Mercados de Artesanía de Calp!
DESCRIPTION:Desde junio hasta septiembre\, puedes disfrutar de estos tradicionales mercadillos junto al mar\, con puestos de marroquinería\, orfebrería\, textil\, madera\, velas aromáticas y mucho más.\n📍Plaza Mediterráneo (Playa de la Fossa)\n📍Calle Alemania (Playa Arenal-Bol)\n🎁 Artesanía\, ambiente mediterráneo y muchas ideas para regalar o darte un capricho. ¡Ven a visitarlos!
URL:https://calpcomunica.calp.es/evento/%f0%9f%9b%8d%e2%9c%a8-este-verano-no-te-pierdas-los-mercados-de-artesania-de-calp-2/
CATEGORIES:Actividades
ATTACH;FMTTYPE=image/jpeg:https://calpcomunica.calp.es/wp-content/uploads/2025/07/Mercats-dartesania.jpeg
END:VEVENT
BEGIN:VEVENT
DTSTART;TZID=UTC:20250729T200000
DTEND;TZID=UTC:20250729T210000
DTSTAMP:20260423T100244
CREATED:20250728T074854Z
LAST-MODIFIED:20250728T074854Z
UID:10000896-1753819200-1753822800@calpcomunica.calp.es
SUMMARY:🎭 TEATRO FAMILIAR EN CALP: B.O.B.A.S. 🎺🥁
DESCRIPTION:📅 Martes\, 29 de julio de 2025\n🕗 20:00 h\n📍 Parque de la Vallesa (Av. Jaime I\, El Conquistador)\n🎟️ Entrada libre \n👪 Público familiar | 👧 A partir de 6 años | ⏱️ 60 minutos\n🎪 Un trío de clown clásico y contemporáneo que transforma una ceremonia fúnebre fallida en un espectáculo desternillante lleno de música\, humor y accidentes. \n✨ Premios destacados:\n🏆 Mejor espectáculo de calle – FETÉN 2024\n🏆 Mejor espectáculo – Umore Azoka 2023\n🏆 Premio del Público – Mostra d’Igualada 2024 y Festival ARCA 2023\n🎯 Espectáculo recomendado por la Red Española de Teatros
URL:https://calpcomunica.calp.es/evento/%f0%9f%8e%ad-teatro-familiar-en-calp-b-o-b-a-s-%f0%9f%8e%ba%f0%9f%a5%81/
CATEGORIES:Actividades
ATTACH;FMTTYPE=image/jpeg:https://calpcomunica.calp.es/wp-content/uploads/2025/07/29-07-25-Cartel-ESPECTACULO-BOBAS.jpg
END:VEVENT
BEGIN:VEVENT
DTSTART;TZID=UTC:20250729T170000
DTEND;TZID=UTC:20250729T190000
DTSTAMP:20260423T100244
CREATED:20250725T083148Z
LAST-MODIFIED:20250725T083148Z
UID:10000883-1753808400-1753815600@calpcomunica.calp.es
SUMMARY:Convocatoria de pleno 29 de julio
DESCRIPTION:Convocatoria de pleno 29 de julio
URL:https://calpcomunica.calp.es/evento/convocatoria-de-pleno-29-de-julio/
CATEGORIES:Anuncios
ATTACH;FMTTYPE=image/jpeg:https://calpcomunica.calp.es/wp-content/uploads/2025/07/20250724_Comunicacion_Anuncio-de-la-convocatoria_page-0001.jpg
END:VEVENT
BEGIN:VEVENT
DTSTART;VALUE=DATE:20250729
DTEND;VALUE=DATE:20250730
DTSTAMP:20260423T100244
CREATED:20250729T094951Z
LAST-MODIFIED:20250729T094951Z
UID:10000919-1753747200-1753833599@calpcomunica.calp.es
SUMMARY:🎉 ¡Las Fiestas Patronales en honor a la Mare de Déu de les Neus ya están aquí! 🎆
DESCRIPTION:Calp se llena de tradición\, música\, pólvora\, diversión y actos para todos los públicos del 24 de julio al 10 de agosto.\n📍Consulta todo el programa completo en los carteles adjuntos o en los canales oficiales del Ayuntamiento.
URL:https://calpcomunica.calp.es/evento/%f0%9f%8e%89-las-fiestas-patronales-en-honor-a-la-mare-de-deu-de-les-neus-ya-estan-aqui-%f0%9f%8e%86/
CATEGORIES:Actividades
ATTACH;FMTTYPE=image/jpeg:https://calpcomunica.calp.es/wp-content/uploads/2025/07/Programa_Festes_Agost_2025-2_page-0001-scaled.jpg
END:VEVENT
BEGIN:VEVENT
DTSTART;VALUE=DATE:20250729
DTEND;VALUE=DATE:20250730
DTSTAMP:20260423T100244
CREATED:20250729T073112Z
LAST-MODIFIED:20250729T073112Z
UID:10000913-1753747200-1753833599@calpcomunica.calp.es
SUMMARY:Convocatoria de pleno
DESCRIPTION:Convocatoria de pleno
URL:https://calpcomunica.calp.es/evento/convocatoria-de-pleno/
CATEGORIES:Anuncios
ATTACH;FMTTYPE=image/jpeg:https://calpcomunica.calp.es/wp-content/uploads/2025/07/522689872_1177278757774242_8561141841314723027_n.jpg
END:VEVENT
BEGIN:VEVENT
DTSTART;TZID=UTC:20250726T203000
DTEND;TZID=UTC:20250726T230000
DTSTAMP:20260423T100244
CREATED:20250724T092436Z
LAST-MODIFIED:20250724T092436Z
UID:10000857-1753561800-1753570800@calpcomunica.calp.es
SUMMARY:🥁 Concierto: Connecta Percussió 🎶
DESCRIPTION:Este sábado disfruta del grupo Connecta Percussió en el Auditorio de la Casa de Cultura de Calp. \n📅 Sábado\, 26 de julio de 2025\n🕣 20:30 h\n📍 Auditorio – Casa de Cultura de Calp (Av. Masnou\, 1)\n🎟️ Entrada libre hasta completar aforo \n🎼 Actividad enmarcada dentro de la Campaña de Difusión de Música y Teatro 2025 de la Diputación Provincial de Alicante.
URL:https://calpcomunica.calp.es/evento/%f0%9f%a5%81-concierto-connecta-percussio-%f0%9f%8e%b6/
CATEGORIES:Actividades
ATTACH;FMTTYPE=image/jpeg:https://calpcomunica.calp.es/wp-content/uploads/2025/07/26-07-25-Cartel-CONNECTA-PERCUSSIO.jpg
END:VEVENT
BEGIN:VEVENT
DTSTART;TZID=UTC:20250725T213000
DTEND;TZID=UTC:20250725T230000
DTSTAMP:20260423T100244
CREATED:20250724T090201Z
LAST-MODIFIED:20250724T090201Z
UID:10000854-1753479000-1753484400@calpcomunica.calp.es
SUMMARY:Concierto de la Unió Musical Calp Ifach
DESCRIPTION:Concierto de la Unió Musical Calp Ifach
URL:https://calpcomunica.calp.es/evento/concierto-de-la-unio-musical-calp-ifach/
LOCATION:Plaza Mayor\, Av. de Masnou\, 6\, Calp\, Alicante\, 03710\, Spain
CATEGORIES:Cultura
ATTACH;FMTTYPE=image/jpeg:https://calpcomunica.calp.es/wp-content/uploads/2025/07/20e6d416-3aaa-4cad-af20-c237b0b975cc.jpg
END:VEVENT
BEGIN:VEVENT
DTSTART;TZID=UTC:20250725T200000
DTEND;TZID=UTC:20250725T220000
DTSTAMP:20260423T100244
CREATED:20250723T080745Z
LAST-MODIFIED:20250723T080745Z
UID:10000827-1753473600-1753480800@calpcomunica.calp.es
SUMMARY:🎶 Concierto Coral en Calp 🎶
DESCRIPTION:Actuación a cargo de la Coral Ifach y los Joves Cantors d’Ifach\, bajo la dirección de Rafael Domenech. \n📅 Viernes\, 25 de julio de 2025\n🕗 20:00 h\n📍 Saló Blau – Casa de Cultura de Calp (Av. Masnou\, 1)\n🎟️ Entrada libre hasta completar aforo
URL:https://calpcomunica.calp.es/evento/%f0%9f%8e%b6-concierto-coral-en-calp-%f0%9f%8e%b6/
CATEGORIES:Actividades
ATTACH;FMTTYPE=image/jpeg:https://calpcomunica.calp.es/wp-content/uploads/2025/07/25-07-25-New-Cartel-CORAL.jpg
END:VEVENT
BEGIN:VEVENT
DTSTART;VALUE=DATE:20250725
DTEND;VALUE=DATE:20250731
DTSTAMP:20260423T100244
CREATED:20250725T075125Z
LAST-MODIFIED:20250725T075125Z
UID:10000881-1753401600-1753919999@calpcomunica.calp.es
SUMMARY:🎨 Últimos días para visitar la exposición "Almendras Amargas" de Andrea Chessa 🖼️
DESCRIPTION:No dejes pasar la oportunidad de disfrutar de esta interesante propuesta artística que combina materia\, textura y emoción. La exposición estará abierta hasta el miércoles 30 de julio en la Sala de Exposiciones del Ajuntament Vell. \n🕒 Horario: de miércoles a domingo\n10:00–13:00 / 16:30–22:00 \n 
URL:https://calpcomunica.calp.es/evento/%f0%9f%8e%a8-ultimos-dias-para-visitar-la-exposicion-almendras-amargas-de-andrea-chessa-%f0%9f%96%bc%ef%b8%8f/
CATEGORIES:Actividades
ATTACH;FMTTYPE=image/jpeg:https://calpcomunica.calp.es/wp-content/uploads/2025/07/WhatsApp-Image-2025-07-25-at-08.48.01.jpeg
END:VEVENT
BEGIN:VEVENT
DTSTART;TZID=UTC:20250724T220000
DTEND;TZID=UTC:20250724T233000
DTSTAMP:20260423T100244
CREATED:20250723T075514Z
LAST-MODIFIED:20250723T075514Z
UID:10000824-1753394400-1753399800@calpcomunica.calp.es
SUMMARY:🎬 Cinema a la Mar vuelve este jueves con una divertida comedia bajo las estrellas 🌊✨
DESCRIPTION:📍 Playa del Arenal-Bol\n📅 Jueves\, 24 de julio\n🕙 22:00 h\n🎟️ Entrada libre \n📽️ Proyección de «Menudas piezas»\, una comedia para mayores de 12 años.\n⏱️ Duración: 98 minutos \n¡No te lo pierdas! 🍿
URL:https://calpcomunica.calp.es/evento/%f0%9f%8e%ac-cinema-a-la-mar-vuelve-este-jueves-con-una-divertida-comedia-bajo-las-estrellas-%f0%9f%8c%8a%e2%9c%a8/
CATEGORIES:Actividades
ATTACH;FMTTYPE=image/jpeg:https://calpcomunica.calp.es/wp-content/uploads/2025/07/24-07-25-MENUDAS-PIEZAS.jpg
END:VEVENT
BEGIN:VEVENT
DTSTART;TZID=UTC:20250724T210000
DTEND;TZID=UTC:20250724T230000
DTSTAMP:20260423T100244
CREATED:20250724T071907Z
LAST-MODIFIED:20250724T071907Z
UID:10000848-1753390800-1753398000@calpcomunica.calp.es
SUMMARY:🎉🎉Presentación del Libro de Fiestas Patronales 2025.
DESCRIPTION:📅Jueves 24 de julio.\n⌚️21 horas.\n📍Saló Blau.
URL:https://calpcomunica.calp.es/evento/%f0%9f%8e%89%f0%9f%8e%89presentacion-del-libro-de-fiestas-patronales-2025/
CATEGORIES:Actividades
ATTACH;FMTTYPE=image/jpeg:https://calpcomunica.calp.es/wp-content/uploads/2025/07/Llibres-de-festes.jpg
END:VEVENT
BEGIN:VEVENT
DTSTART;VALUE=DATE:20250724
DTEND;VALUE=DATE:20250725
DTSTAMP:20260423T100244
CREATED:20250724T095909Z
LAST-MODIFIED:20250724T095909Z
UID:10000863-1753315200-1753401599@calpcomunica.calp.es
SUMMARY:Suspensión Cinema a la Mar por lluvias
DESCRIPTION:Suspensión Cinema a la Mar por lluvias
URL:https://calpcomunica.calp.es/evento/suspension-cinema-a-la-mar-por-lluvias/
CATEGORIES:Avisos,Cultura
ATTACH;FMTTYPE=image/jpeg:https://calpcomunica.calp.es/wp-content/uploads/2025/07/SUSPENSION-CINE.jpg
END:VEVENT
BEGIN:VEVENT
DTSTART;TZID=UTC:20250723T204500
DTEND;TZID=UTC:20250723T220000
DTSTAMP:20260423T100244
CREATED:20250722T075510Z
LAST-MODIFIED:20250722T075510Z
UID:10000806-1753303500-1753308000@calpcomunica.calp.es
SUMMARY:🎭 Teatro infantil: “El gato con botas”
DESCRIPTION:
URL:https://calpcomunica.calp.es/evento/%f0%9f%8e%ad-teatro-infantil-el-gato-con-botas/
LOCATION:Auditorio. Casa de Cultura\, Av. Masnou\, 1\, Calp\, Alicante\, 03710\, Spain
ATTACH;FMTTYPE=image/jpeg:https://calpcomunica.calp.es/wp-content/uploads/2025/07/23-07-25-NEW-TEATRO-INFANTIL.jpg
END:VEVENT
BEGIN:VEVENT
DTSTART;TZID=UTC:20250722T220000
DTEND;TZID=UTC:20250722T235900
DTSTAMP:20260423T100244
CREATED:20250721T075103Z
LAST-MODIFIED:20250721T075103Z
UID:10000793-1753221600-1753228740@calpcomunica.calp.es
SUMMARY:🎬🌊 ¡Sigue el ciclo Cinema a la Mar en Calp!
DESCRIPTION:Este martes 22 de julio\, ven a disfrutar de una noche de cine al aire libre en la Playa de la Fossa con la proyección de “El Arca de Noé”\, una divertida película de animación para todos los públicos.\n📅 Martes\, 22 de julio\n🕙 22:00 h\n📍 Playa de la Fossa\, Calp\n🎟️ Entrada libre
URL:https://calpcomunica.calp.es/evento/%f0%9f%8e%ac%f0%9f%8c%8a-sigue-el-ciclo-cinema-a-la-mar-en-calp/
CATEGORIES:Actividades
ATTACH;FMTTYPE=image/jpeg:https://calpcomunica.calp.es/wp-content/uploads/2025/07/22-07-25-EL-ARCA.jpg
END:VEVENT
BEGIN:VEVENT
DTSTART;TZID=UTC:20250721T180000
DTEND;TZID=UTC:20250721T230000
DTSTAMP:20260423T100244
CREATED:20250716T081117Z
LAST-MODIFIED:20250716T081117Z
UID:10000731-1753120800-1753138800@calpcomunica.calp.es
SUMMARY:Más de 70 bateristas en el Calpe Drumt en el Día Nacional de Bélgica
DESCRIPTION:
URL:https://calpcomunica.calp.es/evento/mas-de-70-bateristas-en-el-calpe-drumt-en-el-dia-nacional-de-belgica/
LOCATION:Plaza Mayor\, Av. de Masnou\, 6\, Calp\, Alicante\, 03710\, Spain
CATEGORIES:Noticia
ATTACH;FMTTYPE=image/jpeg:https://calpcomunica.calp.es/wp-content/uploads/2025/07/DRUMT-PANEL.jpg
END:VEVENT
BEGIN:VEVENT
DTSTART;VALUE=DATE:20250721
DTEND;VALUE=DATE:20250722
DTSTAMP:20260423T100245
CREATED:20250721T103037Z
LAST-MODIFIED:20250721T103724Z
UID:10000800-1753056000-1753142399@calpcomunica.calp.es
SUMMARY:El Ayuntamiento de Calp y el Institut d’Estudis Comarcals de la Marina Alta firman un convenio de colaboración para promover la historia y la cultura local
DESCRIPTION:
URL:https://calpcomunica.calp.es/evento/el-ayuntamiento-de-calp-y-el-institut-destudis-comarcals-de-la-marina-alta-firman-un-convenio-de-colaboracion-para-promover-la-historia-y-la-cultura-local/
CATEGORIES:Noticia
ATTACH;FMTTYPE=image/jpeg:https://calpcomunica.calp.es/wp-content/uploads/2025/07/Casa-Cultura-Calp-scaled.jpg
END:VEVENT
BEGIN:VEVENT
DTSTART;VALUE=DATE:20250721
DTEND;VALUE=DATE:20250722
DTSTAMP:20260423T100245
CREATED:20250721T073930Z
LAST-MODIFIED:20250721T073930Z
UID:10000791-1753056000-1753142399@calpcomunica.calp.es
SUMMARY:Todo preparado para el Calpe Drumt
DESCRIPTION:
URL:https://calpcomunica.calp.es/evento/todo-preparado-para-el-calpe-drumt/
LOCATION:Plaza Mayor\, Av. de Masnou\, 6\, Calp\, Alicante\, 03710\, Spain
CATEGORIES:Noticia
ATTACH;FMTTYPE=image/jpeg:https://calpcomunica.calp.es/wp-content/uploads/2025/07/DRUMT-PANEL.jpg
END:VEVENT
BEGIN:VEVENT
DTSTART;TZID=UTC:20250719T200000
DTEND;TZID=UTC:20250719T220000
DTSTAMP:20260423T100245
CREATED:20250717T082920Z
LAST-MODIFIED:20250717T082920Z
UID:10000749-1752955200-1752962400@calpcomunica.calp.es
SUMMARY:🎶✨ ¡Celebra el 25º aniversario de los Xirimiters del Carellot!
DESCRIPTION:Este sábado te esperamos en el Teatro Odeón de la Casa de Cultura para disfrutar de un concierto muy especial con motivo del 25º aniversario de la colla Xirimiters del Carellot de Calp. \n📅 Sábado\, 19 de julio \n🕗 20 h \n📍 Teatro Odeón – Casa de Cultura  \n🎟️ Entrada libre (aforo limitado)
URL:https://calpcomunica.calp.es/evento/%f0%9f%8e%b6%e2%9c%a8-celebra-el-25o-aniversario-de-los-xirimiters-del-carellot/
CATEGORIES:Actividades
ATTACH;FMTTYPE=image/jpeg:https://calpcomunica.calp.es/wp-content/uploads/2025/07/19-07-25-Cartel-CONCIERTO-XIRIMITERS-1.jpg
END:VEVENT
BEGIN:VEVENT
DTSTART;TZID=UTC:20250718T220000
DTEND;TZID=UTC:20250718T235900
DTSTAMP:20260423T100245
CREATED:20250714T072549Z
LAST-MODIFIED:20250714T072549Z
UID:10000693-1752876000-1752883140@calpcomunica.calp.es
SUMMARY:🎸✨ ¡Vuelve el Minifestival Cream Pop a Calp!
DESCRIPTION:XIX edición de este festival que combina música independiente\, ambiente divertido y la brisa del puerto de Calp.\nEste año con los conciertos de:\n🎤 Venturi\n🎸 Alison Darwin\n🥁 L’Home Brut\n📅 Viernes\, 18 de julio\n📍 Puerto de Calp\n🎟️ Entrada gratuita
URL:https://calpcomunica.calp.es/evento/%f0%9f%8e%b8%e2%9c%a8-vuelve-el-minifestival-cream-pop-a-calp/
CATEGORIES:Actividades
ATTACH;FMTTYPE=image/jpeg:https://calpcomunica.calp.es/wp-content/uploads/2025/07/Cream-pop.jpg
END:VEVENT
BEGIN:VEVENT
DTSTART;TZID=UTC:20250717T220000
DTEND;TZID=UTC:20250717T233000
DTSTAMP:20260423T100245
CREATED:20250716T093730Z
LAST-MODIFIED:20250716T093730Z
UID:10000735-1752789600-1752795000@calpcomunica.calp.es
SUMMARY:🎬🌊 ¡Mañana tenemos nueva sesión de Cinema a la Mar en Calp!
DESCRIPTION:Ven a disfrutar de una noche de cine al aire libre con la proyección de “Trolls 3: Todos Juntos”\, una divertida película de animación para toda la familia.\n📅 Jueves\, 17 de julio\n🕙 22 h\n📍 Playa del Arenal-Bol
URL:https://calpcomunica.calp.es/evento/%f0%9f%8e%ac%f0%9f%8c%8a-manana-tenemos-nueva-sesion-de-cinema-a-la-mar-en-calp/
CATEGORIES:Actividades
ATTACH;FMTTYPE=image/jpeg:https://calpcomunica.calp.es/wp-content/uploads/2025/07/Cinema-a-la-mar.jpg
END:VEVENT
BEGIN:VEVENT
DTSTART;TZID=UTC:20250715T220000
DTEND;TZID=UTC:20250715T235900
DTSTAMP:20260423T100245
CREATED:20250714T110530Z
LAST-MODIFIED:20250714T110717Z
UID:10000705-1752616800-1752623940@calpcomunica.calp.es
SUMMARY:🎬🌊 ¡Vuelve Cinema a la Mar a Calp!
DESCRIPTION:Disfruta de una noche de cine al aire libre en la Playa de la Fossa con la proyección de la divertida comedia “Campeonex”\, dirigida por Javier Fesser.\n📅 Martes\, 15 de julio\n🕙 22 h\n📍Playa de la Fossa\n¡Te esperamos!
URL:https://calpcomunica.calp.es/evento/%f0%9f%8e%ac%f0%9f%8c%8a-vuelve-cinema-a-la-mar-a-calp/
CATEGORIES:Actividades
ATTACH;FMTTYPE=image/jpeg:https://calpcomunica.calp.es/wp-content/uploads/2025/07/Campeones.jpg
END:VEVENT
BEGIN:VEVENT
DTSTART;TZID=UTC:20250712T210000
DTEND;TZID=UTC:20250712T230000
DTSTAMP:20260423T100245
CREATED:20250704T084031Z
LAST-MODIFIED:20250704T084031Z
UID:10000570-1752354000-1752361200@calpcomunica.calp.es
SUMMARY:🏃‍♂️🏃‍♀️ V Trail Nocturno Lluna d'Oltà
DESCRIPTION:2 opciones:  \n✅ Trail: 15 km \n✅ Senderismo: 10 km \n🗓️ 12 de julio \n🕘 21h \n📌 Organiza: Grup de Muntanya de Calp \n✅ Inscripciones: 
URL:https://calpcomunica.calp.es/evento/%f0%9f%8f%83%e2%99%82%ef%b8%8f%f0%9f%8f%83%e2%99%80%ef%b8%8f-v-trail-nocturno-lluna-dolta/
CATEGORIES:Actividades
ATTACH;FMTTYPE=image/jpeg:https://calpcomunica.calp.es/wp-content/uploads/2025/07/Trail-1.jpeg
END:VEVENT
BEGIN:VEVENT
DTSTART;TZID=UTC:20250711T200000
DTEND;TZID=UTC:20250711T220000
DTSTAMP:20260423T100245
CREATED:20250710T074244Z
LAST-MODIFIED:20250710T074244Z
UID:10000660-1752264000-1752271200@calpcomunica.calp.es
SUMMARY:🎶✨ XXII Campaña de Conciertos de Intercambios Musicales
DESCRIPTION:Este viernes disfruta de un concierto especial de la mano de la Societat Recreativa Musical d’Altea la Vella y la Agrupació Musical CLAUdeFA de Calp.\n📅 Viernes\, 11 de julio\n🕗 20h\n📍 Auditorio – Casa de Cultura\n🎟️ Entrada libre hasta completar aforo
URL:https://calpcomunica.calp.es/evento/%f0%9f%8e%b6%e2%9c%a8-xxii-campana-de-conciertos-de-intercambios-musicales/
CATEGORIES:Actividades
ATTACH;FMTTYPE=image/jpeg:https://calpcomunica.calp.es/wp-content/uploads/2025/07/11-07-25-Cartel-CONCIERTO-INTERCAMBIO-CLAUDEFA.jpg
END:VEVENT
BEGIN:VEVENT
DTSTART;VALUE=DATE:20250709
DTEND;VALUE=DATE:20250710
DTSTAMP:20260423T100245
CREATED:20250709T094736Z
LAST-MODIFIED:20250709T094736Z
UID:10000645-1752019200-1752105599@calpcomunica.calp.es
SUMMARY:Cinema a la Mar
DESCRIPTION:Cinema a la Mar
URL:https://calpcomunica.calp.es/evento/cinema-a-la-mar/
CATEGORIES:Cultura
ATTACH;FMTTYPE=image/jpeg:https://calpcomunica.calp.es/wp-content/uploads/2025/07/10-07-25-KUNG-FU-PANDA-4.jpg
END:VEVENT
END:VCALENDAR