BEGIN:VCALENDAR
VERSION:2.0
PRODID:-//Calp Comunica - ECPv6.15.20//NONSGML v1.0//EN
CALSCALE:GREGORIAN
METHOD:PUBLISH
X-WR-CALNAME:Calp Comunica
X-ORIGINAL-URL:https://calpcomunica.calp.es
X-WR-CALDESC:Eventos para Calp Comunica
REFRESH-INTERVAL;VALUE=DURATION:PT1H
X-Robots-Tag:noindex
X-PUBLISHED-TTL:PT1H
BEGIN:VTIMEZONE
TZID:UTC
BEGIN:STANDARD
TZOFFSETFROM:+0000
TZOFFSETTO:+0000
TZNAME:UTC
DTSTART:20250101T000000
END:STANDARD
END:VTIMEZONE
BEGIN:VEVENT
DTSTART;VALUE=DATE:20260401
DTEND;VALUE=DATE:20260402
DTSTAMP:20260422T122612
CREATED:20260401T094732Z
LAST-MODIFIED:20260401T094732Z
UID:10004222-1775001600-1775087999@calpcomunica.calp.es
SUMMARY:✝️ Semana Santa en Calp
DESCRIPTION:Las procesiones de Semana Santa continuarán mañana jueves 2 de abril con la Cofradía del Jesús Nazareno y la Hermanda Penitencial del Silencio de Calp.\nAquí os dejamos los itinerarios.
URL:https://calpcomunica.calp.es/evento/%e2%9c%9d%ef%b8%8f-semana-santa-en-calp/
CATEGORIES:Actividades
ATTACH;FMTTYPE=image/jpeg:https://calpcomunica.calp.es/wp-content/uploads/2026/04/1.jpg
END:VEVENT
BEGIN:VEVENT
DTSTART;VALUE=DATE:20260409
DTEND;VALUE=DATE:20260410
DTSTAMP:20260422T122612
CREATED:20260409T093541Z
LAST-MODIFIED:20260409T093541Z
UID:10004300-1775692800-1775779199@calpcomunica.calp.es
SUMMARY:📢 Calp impulsa la reconstrucción del sendero Calalga-Bassetes.
DESCRIPTION:
URL:https://calpcomunica.calp.es/evento/%f0%9f%93%a2-calp-impulsa-la-reconstruccion-del-sendero-calalga-bassetes/
CATEGORIES:Noticia
ATTACH;FMTTYPE=image/jpeg:https://calpcomunica.calp.es/wp-content/uploads/2026/04/WhatsApp-Image-2026-04-08-at-12.28.08.jpeg
END:VEVENT
BEGIN:VEVENT
DTSTART;VALUE=DATE:20260413
DTEND;VALUE=DATE:20260414
DTSTAMP:20260422T122612
CREATED:20260413T085850Z
LAST-MODIFIED:20260413T085850Z
UID:10004341-1776038400-1776124799@calpcomunica.calp.es
SUMMARY:Festival Invierno-Primaveraa
DESCRIPTION:
URL:https://calpcomunica.calp.es/evento/festival-invierno-primaveraa/
CATEGORIES:Cultura
ATTACH;FMTTYPE=image/png:https://calpcomunica.calp.es/wp-content/uploads/2026/04/16-abril-CARTEL-DUO-DI-FALCO-SACCHI-16-DE-ABRIL-DE-2026.png
END:VEVENT
BEGIN:VEVENT
DTSTART;TZID=UTC:20260413T200000
DTEND;TZID=UTC:20260413T220000
DTSTAMP:20260422T122612
CREATED:20260413T122918Z
LAST-MODIFIED:20260413T122918Z
UID:10004348-1776110400-1776117600@calpcomunica.calp.es
SUMMARY:Concierto
DESCRIPTION:
URL:https://calpcomunica.calp.es/evento/concierto-3/
CATEGORIES:Cultura
ATTACH;FMTTYPE=image/jpeg:https://calpcomunica.calp.es/wp-content/uploads/2026/04/17-04-2026.jpg
END:VEVENT
BEGIN:VEVENT
DTSTART;VALUE=DATE:20260414
DTEND;VALUE=DATE:20260415
DTSTAMP:20260422T122612
CREATED:20260414T113648Z
LAST-MODIFIED:20260414T113648Z
UID:10004363-1776124800-1776211199@calpcomunica.calp.es
SUMMARY:🎶 Calp vuelve a sonar a Cream Pop
DESCRIPTION:La XX edición del Cream Pop ya calienta motores con sus fiestas de presentación y con una nueva cita musical este verano en la playa de la Fossa.\n📍 Fiestas de presentación:\nViernes 22 de mayo\, en Soda Bar Alicante\, con Muñeca Rusa\nSábado 23 de mayo\, en Cervezas Althaia de Altea\, con Muñeca Rusa\n📍 Festival:\nSábado 25 de julio\nPlaça del Mediterrani\, playa de la Fossa\nA partir de las 21:00 h\nSobre el escenario estarán Emilia\, Pardo y Bazán\, Kozai Rata\, Xavi Plastik DJ y Joan Mel Punkavinis. \n 
URL:https://calpcomunica.calp.es/evento/%f0%9f%8e%b6-calp-vuelve-a-sonar-a-cream-pop/
CATEGORIES:Actividades
ATTACH;FMTTYPE=image/jpeg:https://calpcomunica.calp.es/wp-content/uploads/2026/04/Cream-pop-4.jpeg
END:VEVENT
BEGIN:VEVENT
DTSTART;VALUE=DATE:20260416
DTEND;VALUE=DATE:20260417
DTSTAMP:20260422T122612
CREATED:20260416T094320Z
LAST-MODIFIED:20260416T094320Z
UID:10004399-1776297600-1776383999@calpcomunica.calp.es
SUMMARY:Qué hacer en Calp este fin de semana
DESCRIPTION:
URL:https://calpcomunica.calp.es/evento/que-hacer-en-calp-este-fin-de-semana-6/
CATEGORIES:Cultura
ATTACH;FMTTYPE=image/png:https://calpcomunica.calp.es/wp-content/uploads/2026/03/agenda-VAL.png
END:VEVENT
BEGIN:VEVENT
DTSTART;TZID=UTC:20260418T190000
DTEND;TZID=UTC:20260418T203000
DTSTAMP:20260422T122612
CREATED:20260416T060440Z
LAST-MODIFIED:20260416T060440Z
UID:10004384-1776538800-1776544200@calpcomunica.calp.es
SUMMARY:Teatro
DESCRIPTION:
URL:https://calpcomunica.calp.es/evento/teatro/
CATEGORIES:Cultura
ATTACH;FMTTYPE=image/jpeg:https://calpcomunica.calp.es/wp-content/uploads/2026/04/1804-2026-TEATRO-CELLER-ROMAN.jpeg
END:VEVENT
END:VCALENDAR