BEGIN:VCALENDAR
VERSION:2.0
PRODID:-//Calp Comunica - ECPv6.15.20//NONSGML v1.0//EN
CALSCALE:GREGORIAN
METHOD:PUBLISH
X-WR-CALNAME:Calp Comunica
X-ORIGINAL-URL:https://calpcomunica.calp.es
X-WR-CALDESC:Eventos para Calp Comunica
REFRESH-INTERVAL;VALUE=DURATION:PT1H
X-Robots-Tag:noindex
X-PUBLISHED-TTL:PT1H
BEGIN:VTIMEZONE
TZID:UTC
BEGIN:STANDARD
TZOFFSETFROM:+0000
TZOFFSETTO:+0000
TZNAME:UTC
DTSTART:20240101T000000
END:STANDARD
END:VTIMEZONE
BEGIN:VEVENT
DTSTART;VALUE=DATE:20251104
DTEND;VALUE=DATE:20251105
DTSTAMP:20260422T221952
CREATED:20251104T090905Z
LAST-MODIFIED:20251104T090905Z
UID:10002291-1762214400-1762300799@calpcomunica.calp.es
SUMMARY:Bandera Verde
DESCRIPTION:
URL:https://calpcomunica.calp.es/evento/bandera-verde-2/
CATEGORIES:Noticia
ATTACH;FMTTYPE=image/jpeg:https://calpcomunica.calp.es/wp-content/uploads/2025/11/8c02df4d-f63c-4d23-bb16-2a967a746e10.jpg
END:VEVENT
BEGIN:VEVENT
DTSTART;VALUE=DATE:20251106
DTEND;VALUE=DATE:20251107
DTSTAMP:20260422T221952
CREATED:20251106T082742Z
LAST-MODIFIED:20251106T082742Z
UID:10002321-1762387200-1762473599@calpcomunica.calp.es
SUMMARY:💶 Nuevas subvenciones recibidas por el Ayuntamiento de Calp
DESCRIPTION:El Ayuntamiento de Calp ha recibido diversas ayudas económicas por parte de la Generalitat Valenciana destinadas a fomentar la formación\, el empleo y la salud pública en el municipio.\n📘 9.662\,59 €\nProcedentes de la Dirección General de Centros Docentes\, para la formación de personas adultas en la Comunitat Valenciana durante el ejercicio 2025.\n💧 531\,93 €\nDe la Dirección General de Salud Pública\, para el tratamiento y control de vectores de relevancia en salud pública en municipios de la Comunitat Valenciana.\n👥 25.208\,27 €\nDe LABORA – Servei Valencià d’Ocupació i Formació\, destinadas a la contratación de personas desempleadas con trastorno mental grave o problemas de salud mental grave por parte de entidades locales. \n 
URL:https://calpcomunica.calp.es/evento/%f0%9f%92%b6-nuevas-subvenciones-recibidas-por-el-ayuntamiento-de-calp/
CATEGORIES:Actividades
ATTACH;FMTTYPE=image/jpeg:https://calpcomunica.calp.es/wp-content/uploads/2025/11/Subvenciones-1.jpg
END:VEVENT
BEGIN:VEVENT
DTSTART;VALUE=DATE:20251106
DTEND;VALUE=DATE:20251107
DTSTAMP:20260422T221952
CREATED:20251106T084408Z
LAST-MODIFIED:20251106T093641Z
UID:10002324-1762387200-1762473599@calpcomunica.calp.es
SUMMARY:🌊 Calp inaugura las II Jornadas Medioambientales del Mar “Calp Blau” 2025 🌿
DESCRIPTION:Ayer se celebró en la Sede Universitaria Casa Nova la inauguración oficial de las II Jornadas “Calp Blau: Resiliencia y Acción por el Litoral de Calp”\, con la participación de la alcaldesa Ana Sala y el concejal de Medio Ambiente\, Pere Moll.\nEstas jornadas\, que se desarrollan del 5 al 8 de noviembre\, reúnen a expertos\, investigadores y entidades comprometidas con la conservación del medio marino y la protección del litoral.\n📅 Hoy\, jueves 6 de noviembre\, el programa incluye ponencias y mesas redondas sobre:\nMonitorización y retirada de artes de pesca abandonados en la Comunidad Valenciana.\nProyectos de investigación en los fondos marinos del Peñón de Ifach.\nRetos de conservación de la posidonia. \n        \n 
URL:https://calpcomunica.calp.es/evento/%f0%9f%8c%8a-calp-inaugura-las-ii-jornadas-medioambientales-del-mar-calp-blau-2025-%f0%9f%8c%bf/
CATEGORIES:Actividades
ATTACH;FMTTYPE=image/jpeg:https://calpcomunica.calp.es/wp-content/uploads/2025/11/WhatsApp-Image-2025-11-06-at-09.04.06.jpeg
END:VEVENT
BEGIN:VEVENT
DTSTART;VALUE=DATE:20251107
DTEND;VALUE=DATE:20251108
DTSTAMP:20260422T221952
CREATED:20251107T091804Z
LAST-MODIFIED:20251107T091804Z
UID:10002348-1762473600-1762559999@calpcomunica.calp.es
SUMMARY:🐟 Sabors de la Mar llega a Calp 🌊
DESCRIPTION:El próximo sábado 15 de noviembre\, la Plaza Mayor de Calp acogerá Sabors de la Mar\, una jornada gastronómica abierta al público para disfrutar del sabor del mar y poner en valor el pescado autóctono de nuestra costa. \nEl proyecto es una iniciativa de Creama como secretaría técnica de Pacte’MA\, subvencionado por el FEMPA (Fons Europeu Marítim\, de Pesca i Aqüicultura) y la Generalitat Valenciana.
URL:https://calpcomunica.calp.es/evento/%f0%9f%90%9f-sabors-de-la-mar-llega-a-calp-%f0%9f%8c%8a/
CATEGORIES:Actividades
ATTACH;FMTTYPE=image/jpeg:https://calpcomunica.calp.es/wp-content/uploads/2025/11/Calp_Generico-Castellano.jpg
END:VEVENT
BEGIN:VEVENT
DTSTART;VALUE=DATE:20251107
DTEND;VALUE=DATE:20251108
DTSTAMP:20260422T221952
CREATED:20251107T113220Z
LAST-MODIFIED:20251107T113220Z
UID:10002360-1762473600-1762559999@calpcomunica.calp.es
SUMMARY:Pleno ordinario noviembre
DESCRIPTION:
URL:https://calpcomunica.calp.es/evento/pleno-ordinario-noviembre/
CATEGORIES:Avisos
ATTACH;FMTTYPE=image/jpeg:https://calpcomunica.calp.es/wp-content/uploads/2025/11/20251106_Comunicacion_Comunicacion-de-la-convocatoria_page-0001.jpg
END:VEVENT
BEGIN:VEVENT
DTSTART;TZID=UTC:20251107T080000
DTEND;TZID=UTC:20251107T230000
DTSTAMP:20260422T221952
CREATED:20251106T101415Z
LAST-MODIFIED:20251106T101415Z
UID:10002333-1762502400-1762556400@calpcomunica.calp.es
SUMMARY:La Noche Azul
DESCRIPTION:
URL:https://calpcomunica.calp.es/evento/la-noche-azul/
CATEGORIES:Cultura
ATTACH;FMTTYPE=image/jpeg:https://calpcomunica.calp.es/wp-content/uploads/2025/11/La-Noche-Azul-2025-Post-de-Instagram.jpg
END:VEVENT
BEGIN:VEVENT
DTSTART;TZID=UTC:20251107T193000
DTEND;TZID=UTC:20251107T220000
DTSTAMP:20260422T221952
CREATED:20251103T094354Z
LAST-MODIFIED:20251103T094354Z
UID:10002264-1762543800-1762552800@calpcomunica.calp.es
SUMMARY:Talento calpino
DESCRIPTION:
URL:https://calpcomunica.calp.es/evento/talento-calpino/
CATEGORIES:Cultura
ATTACH;FMTTYPE=image/jpeg:https://calpcomunica.calp.es/wp-content/uploads/2025/11/07-11-2025-RETALES-Y-JONDO.jpg
END:VEVENT
BEGIN:VEVENT
DTSTART;TZID=UTC:20251110T193000
DTEND;TZID=UTC:20251110T213000
DTSTAMP:20260422T221952
CREATED:20251107T095847Z
LAST-MODIFIED:20251107T095847Z
UID:10002357-1762803000-1762810200@calpcomunica.calp.es
SUMMARY:Proyección documental
DESCRIPTION:
URL:https://calpcomunica.calp.es/evento/proyeccion-documental/
CATEGORIES:Cultura
ATTACH;FMTTYPE=image/png:https://calpcomunica.calp.es/wp-content/uploads/2025/11/Proyeccion-documental-La-vida-en-una-gota-2.png
END:VEVENT
BEGIN:VEVENT
DTSTART;VALUE=DATE:20251111
DTEND;VALUE=DATE:20251112
DTSTAMP:20260422T221952
CREATED:20251111T084622Z
LAST-MODIFIED:20251111T084622Z
UID:10002396-1762819200-1762905599@calpcomunica.calp.es
SUMMARY:Programa Jornadas de la Salud
DESCRIPTION:
URL:https://calpcomunica.calp.es/evento/programa-jornadas-de-la-salud/
CATEGORIES:Actividades
ATTACH;FMTTYPE=image/jpeg:https://calpcomunica.calp.es/wp-content/uploads/2025/11/Jornada-salud.jpeg
END:VEVENT
BEGIN:VEVENT
DTSTART;VALUE=DATE:20251112
DTEND;VALUE=DATE:20251113
DTSTAMP:20260422T221952
CREATED:20251112T094659Z
LAST-MODIFIED:20251112T094659Z
UID:10002417-1762905600-1762991999@calpcomunica.calp.es
SUMMARY:🐟 “Sabors de la Mar” llega a Calp este sábado 15 de noviembre 🌊
DESCRIPTION:La Plaza Mayor de Calp acogerá una nueva edición de estas jornadas gastronómicas dedicadas al pescado autóctono\, con talleres culinarios\, showcooking\, degustaciones y música en directo 🎶 \n📅 Sábado 15 de noviembre de 2025\n📍 Plaza Mayor de Calp\n🕙 A partir de las 10:00 h\n🎈 Animación infantil de 10:00 a 14:00 h \n📣 El proyecto es una iniciativa de Creama como secretaría técnica de Pacte’MA\, subvencionada por el FEMPA (Fondo Europeo Marítimo\, de Pesca y de Acuicultura) y la Generalitat Valenciana.
URL:https://calpcomunica.calp.es/evento/%f0%9f%90%9f-sabors-de-la-mar-llega-a-calp-este-sabado-15-de-noviembre-%f0%9f%8c%8a/
CATEGORIES:Actividades
ATTACH;FMTTYPE=image/jpeg:https://calpcomunica.calp.es/wp-content/uploads/2025/11/Generic-Jornades-Valencia.jpg
END:VEVENT
BEGIN:VEVENT
DTSTART;TZID=UTC:20251112T193000
DTEND;TZID=UTC:20251112T213000
DTSTAMP:20260422T221952
CREATED:20251106T084803Z
LAST-MODIFIED:20251106T084803Z
UID:10002327-1762975800-1762983000@calpcomunica.calp.es
SUMMARY:Prroyecto Calp Next Solutions
DESCRIPTION:
URL:https://calpcomunica.calp.es/evento/prroyecto-calp-next-solutions/
CATEGORIES:Anuncios,Noticia
ATTACH;FMTTYPE=image/jpeg:https://calpcomunica.calp.es/wp-content/uploads/2025/11/1.jpg
END:VEVENT
BEGIN:VEVENT
DTSTART;VALUE=DATE:20251114
DTEND;VALUE=DATE:20251115
DTSTAMP:20260422T221952
CREATED:20251114T084424Z
LAST-MODIFIED:20251114T084424Z
UID:10002465-1763078400-1763164799@calpcomunica.calp.es
SUMMARY:🧠 Este lunes comienzan las III Jornadas de Protección de la Salud organizadas por el Ayuntamiento de Calp en la Sede Universitaria Casa Nova\, un encuentro centrado este año en el lema “De la Salud Mental a la Salud Social”.
DESCRIPTION:Durante los días 17 y 18 de noviembre\, profesionales del ámbito sanitario y social abordarán temas clave como el bienestar emocional\, la coordinación sociosanitaria\, la ansiedad y depresión\, el suicidio\, los cuidados y los retos actuales en materia de salud mental. \n📍 Sede Universitaria Casa Nova\n📅 Lunes 17 y martes 18 de noviembre\n🕙 Desde las 10:00 h \n➡️ Te dejamos el programa completo en las imágenes.
URL:https://calpcomunica.calp.es/evento/%f0%9f%a7%a0-este-lunes-comienzan-las-iii-jornadas-de-proteccion-de-la-salud-organizadas-por-el-ayuntamiento-de-calp-en-la-sede-universitaria-casa-nova-un-encuentro-centrado-este-ano-en-el-lema/
CATEGORIES:Actividades
ATTACH;FMTTYPE=image/jpeg:https://calpcomunica.calp.es/wp-content/uploads/2025/11/Salud-1.jpg
END:VEVENT
BEGIN:VEVENT
DTSTART;TZID=UTC:20251115T100000
DTEND;TZID=UTC:20251115T143000
DTSTAMP:20260422T221952
CREATED:20251113T091349Z
LAST-MODIFIED:20251113T091349Z
UID:10002441-1763200800-1763217000@calpcomunica.calp.es
SUMMARY:Día Mundial de la Infancia
DESCRIPTION:
URL:https://calpcomunica.calp.es/evento/dia-mundial-de-la-infancia/
CATEGORIES:Anuncios
ATTACH;FMTTYPE=image/png:https://calpcomunica.calp.es/wp-content/uploads/2025/11/DIA-DE-LA-INFANCIA.-15.11.25.png
END:VEVENT
BEGIN:VEVENT
DTSTART;TZID=UTC:20251116T183000
DTEND;TZID=UTC:20251116T203000
DTSTAMP:20260422T221952
CREATED:20251114T083745Z
LAST-MODIFIED:20251114T083745Z
UID:10002462-1763317800-1763325000@calpcomunica.calp.es
SUMMARY:Certamen de Teatro
DESCRIPTION:
URL:https://calpcomunica.calp.es/evento/certamen-de-teatro/
CATEGORIES:Cultura
ATTACH;FMTTYPE=image/jpeg:https://calpcomunica.calp.es/wp-content/uploads/2025/11/16-11-2025-7-ANOS.jpg
END:VEVENT
BEGIN:VEVENT
DTSTART;TZID=UTC:20251119T193000
DTEND;TZID=UTC:20251119T210000
DTSTAMP:20260422T221952
CREATED:20251107T093620Z
LAST-MODIFIED:20251107T093620Z
UID:10002354-1763580600-1763586000@calpcomunica.calp.es
SUMMARY:Charla sobre Baños de la Reina
DESCRIPTION:
URL:https://calpcomunica.calp.es/evento/charla-sobre-banos-de-la-reina/
CATEGORIES:Cultura
ATTACH;FMTTYPE=image/png:https://calpcomunica.calp.es/wp-content/uploads/2025/11/Charla-audiovisual.png
END:VEVENT
BEGIN:VEVENT
DTSTART;VALUE=DATE:20251125
DTEND;VALUE=DATE:20251126
DTSTAMP:20260422T221952
CREATED:20251125T111640Z
LAST-MODIFIED:20251125T111640Z
UID:10002617-1764028800-1764115199@calpcomunica.calp.es
SUMMARY:Bono Comercio
DESCRIPTION:
URL:https://calpcomunica.calp.es/evento/bono-comercio-2/
CATEGORIES:Avisos
ATTACH;FMTTYPE=image/jpeg:https://calpcomunica.calp.es/wp-content/uploads/2025/11/cdd1508c-7be8-4493-8d1e-b2a774f81a6b.jpg
END:VEVENT
BEGIN:VEVENT
DTSTART;VALUE=DATE:20251125
DTEND;VALUE=DATE:20251126
DTSTAMP:20260422T221952
CREATED:20251125T131006Z
LAST-MODIFIED:20251125T131006Z
UID:10002623-1764028800-1764115199@calpcomunica.calp.es
SUMMARY:¿Sabes en qué contenedor depositar tus residuos?
DESCRIPTION:
URL:https://calpcomunica.calp.es/evento/sabes-en-que-contenedor-depositar-tus-residuos/
CATEGORIES:Avisos
ATTACH;FMTTYPE=image/jpeg:https://calpcomunica.calp.es/wp-content/uploads/2025/11/REciclatge1.jpg
END:VEVENT
BEGIN:VEVENT
DTSTART;TZID=UTC:20251130T183000
DTEND;TZID=UTC:20251130T210000
DTSTAMP:20260422T221952
CREATED:20251124T103705Z
LAST-MODIFIED:20251128T122726Z
UID:10002593-1764527400-1764536400@calpcomunica.calp.es
SUMMARY:Clausura Certamen de Teatro
DESCRIPTION:
URL:https://calpcomunica.calp.es/evento/clausura-certamen-de-teatro/
CATEGORIES:Cultura
ATTACH;FMTTYPE=image/jpeg:https://calpcomunica.calp.es/wp-content/uploads/2025/11/30-11-2025-CERTAMEN-ENTREGA-PREMIOS-Y-FABIOLO-CONNECTION.jpg
END:VEVENT
BEGIN:VEVENT
DTSTART;VALUE=DATE:20251202
DTEND;VALUE=DATE:20251203
DTSTAMP:20260422T221952
CREATED:20251202T085340Z
LAST-MODIFIED:20251202T085340Z
UID:10002690-1764633600-1764719999@calpcomunica.calp.es
SUMMARY:Navidad en el Balcón
DESCRIPTION:
URL:https://calpcomunica.calp.es/evento/navidad-en-el-balcon/
CATEGORIES:Actividades
ATTACH;FMTTYPE=image/jpeg:https://calpcomunica.calp.es/wp-content/uploads/2025/12/485644623_1078843780951074_3168367145662761340_n.jpg
END:VEVENT
BEGIN:VEVENT
DTSTART;VALUE=DATE:20251202
DTEND;VALUE=DATE:20251203
DTSTAMP:20260422T221952
CREATED:20251202T103843Z
LAST-MODIFIED:20251202T103843Z
UID:10002702-1764633600-1764719999@calpcomunica.calp.es
SUMMARY:Mercado Semanal
DESCRIPTION:
URL:https://calpcomunica.calp.es/evento/mercado-semanal/
CATEGORIES:Anuncios
ATTACH;FMTTYPE=image/png:https://calpcomunica.calp.es/wp-content/uploads/2025/12/viernes-1.png
END:VEVENT
BEGIN:VEVENT
DTSTART;VALUE=DATE:20251209
DTEND;VALUE=DATE:20251210
DTSTAMP:20260422T221952
CREATED:20251209T084732Z
LAST-MODIFIED:20251209T084732Z
UID:10002780-1765238400-1765324799@calpcomunica.calp.es
SUMMARY:Inicio zona azul
DESCRIPTION:
URL:https://calpcomunica.calp.es/evento/inicio-zona-azul/
CATEGORIES:Avisos
ATTACH;FMTTYPE=image/jpeg:https://calpcomunica.calp.es/wp-content/uploads/2025/12/images.jpg
END:VEVENT
BEGIN:VEVENT
DTSTART;VALUE=DATE:20251210
DTEND;VALUE=DATE:20251211
DTSTAMP:20260422T221952
CREATED:20251210T073836Z
LAST-MODIFIED:20251210T073836Z
UID:10002798-1765324800-1765411199@calpcomunica.calp.es
SUMMARY:Dosier de prensa
DESCRIPTION:
URL:https://calpcomunica.calp.es/evento/dosier-de-prensa-92/
CATEGORIES:Noticia
ATTACH;FMTTYPE=image/jpeg:https://calpcomunica.calp.es/wp-content/uploads/2025/12/DP-OCTUBRE_12_2.jpg
END:VEVENT
BEGIN:VEVENT
DTSTART;VALUE=DATE:20251217
DTEND;VALUE=DATE:20251218
DTSTAMP:20260422T221952
CREATED:20251217T114641Z
LAST-MODIFIED:20251217T114641Z
UID:10002905-1765929600-1766015999@calpcomunica.calp.es
SUMMARY:Calp obtiene el reconocimiento como Destino Turístico Inteligente
DESCRIPTION:
URL:https://calpcomunica.calp.es/evento/calp-obtiene-el-reconocimiento-como-destino-turistico-inteligente/
CATEGORIES:Noticia
ATTACH;FMTTYPE=image/jpeg:https://calpcomunica.calp.es/wp-content/uploads/2025/12/Playa-del-Cantal-Roig-04-scaled.jpg
END:VEVENT
BEGIN:VEVENT
DTSTART;TZID=UTC:20251217T190000
DTEND;TZID=UTC:20251217T203000
DTSTAMP:20260422T221952
CREATED:20251205T083533Z
LAST-MODIFIED:20251205T083533Z
UID:10002765-1765998000-1766003400@calpcomunica.calp.es
SUMMARY:Concierto
DESCRIPTION:
URL:https://calpcomunica.calp.es/evento/concierto-2/
CATEGORIES:Cultura
ATTACH;FMTTYPE=image/jpeg:https://calpcomunica.calp.es/wp-content/uploads/2025/12/251117_Concierto-Miscelanea-Calpe.jpg
END:VEVENT
BEGIN:VEVENT
DTSTART;TZID=UTC:20251220T203000
DTEND;TZID=UTC:20251220T220000
DTSTAMP:20260422T221952
CREATED:20251215T095110Z
LAST-MODIFIED:20251215T095110Z
UID:10002870-1766262600-1766268000@calpcomunica.calp.es
SUMMARY:Concierto Unión Musical Calp Ifach
DESCRIPTION:
URL:https://calpcomunica.calp.es/evento/concierto-union-musical-calp-ifach/
CATEGORIES:Cultura
ATTACH;FMTTYPE=image/jpeg:https://calpcomunica.calp.es/wp-content/uploads/2025/12/Banda-Calp-Ifach-concierto-20-diciembre_0.jpg
END:VEVENT
BEGIN:VEVENT
DTSTART;VALUE=DATE:20251222
DTEND;VALUE=DATE:20251223
DTSTAMP:20260422T221952
CREATED:20251222T110316Z
LAST-MODIFIED:20251222T110316Z
UID:10002944-1766361600-1766447999@calpcomunica.calp.es
SUMMARY:Feliz Navidad
DESCRIPTION:
URL:https://calpcomunica.calp.es/evento/feliz-navidad/
CATEGORIES:Anuncios
ATTACH;FMTTYPE=image/png:https://calpcomunica.calp.es/wp-content/uploads/2025/12/Bon-Nadal-1.png
END:VEVENT
BEGIN:VEVENT
DTSTART;VALUE=DATE:20251229
DTEND;VALUE=DATE:20251230
DTSTAMP:20260422T221952
CREATED:20251229T090119Z
LAST-MODIFIED:20251229T090119Z
UID:10003001-1766966400-1767052799@calpcomunica.calp.es
SUMMARY:Agenda cultural de enero y febrero
DESCRIPTION:
URL:https://calpcomunica.calp.es/evento/agenda-cultural-de-enero-y-febrero/
CATEGORIES:Noticia
ATTACH;FMTTYPE=image/jpeg:https://calpcomunica.calp.es/wp-content/uploads/2025/12/2026-AGENDA-CULTURAL-ENERO-Y-FEBRERO-scaled.jpg
END:VEVENT
BEGIN:VEVENT
DTSTART;VALUE=DATE:20251231
DTEND;VALUE=DATE:20260101
DTSTAMP:20260422T221952
CREATED:20251223T083852Z
LAST-MODIFIED:20251223T083852Z
UID:10002956-1767139200-1767225599@calpcomunica.calp.es
SUMMARY:Fiesta Nochevieja
DESCRIPTION:
URL:https://calpcomunica.calp.es/evento/fiesta-nochevieja/
CATEGORIES:Actividades
ATTACH;FMTTYPE=image/jpeg:https://calpcomunica.calp.es/wp-content/uploads/2025/12/d70afbbc-0564-497b-a0a6-bcdbc70d2078.jpg
END:VEVENT
BEGIN:VEVENT
DTSTART;VALUE=DATE:20260107
DTEND;VALUE=DATE:20260108
DTSTAMP:20260422T221952
CREATED:20260107T104400Z
LAST-MODIFIED:20260107T104400Z
UID:10003073-1767744000-1767830399@calpcomunica.calp.es
SUMMARY:🔷 Os recordamos las nuevas tarifas del servicio de estacionamiento limitado que han entrado en vigor.
DESCRIPTION:Lo más destacable del nuevo contrato es la reducción de la tarifa de la zona azul para los residentes y comerciantes en casi un 50% mientras que en la zona naranja (zona de playas) la reducción para residentes y comerciantes es de un 22%
URL:https://calpcomunica.calp.es/evento/%f0%9f%94%b7-os-recordamos-las-nuevas-tarifas-del-servicio-de-estacionamiento-limitado-que-han-entrado-en-vigor/
CATEGORIES:Actividades
ATTACH;FMTTYPE=image/jpeg:https://calpcomunica.calp.es/wp-content/uploads/2026/01/Ora-1.jpg
END:VEVENT
BEGIN:VEVENT
DTSTART;VALUE=DATE:20260109
DTEND;VALUE=DATE:20260110
DTSTAMP:20260422T221952
CREATED:20260109T143612Z
LAST-MODIFIED:20260109T143612Z
UID:10003113-1767916800-1768003199@calpcomunica.calp.es
SUMMARY:Álex Coca Malagón\, nuevo concejal del Ayuntamiento de Calp
DESCRIPTION:
URL:https://calpcomunica.calp.es/evento/alex-coca-malagon-nuevo-concejal-del-ayuntamiento-de-calp/
CATEGORIES:Noticia
ATTACH;FMTTYPE=image/jpeg:https://calpcomunica.calp.es/wp-content/uploads/2026/01/Alex-Coca-promete-su-cargo.jpg
END:VEVENT
END:VCALENDAR