BEGIN:VCALENDAR
VERSION:2.0
PRODID:-//Calp Comunica - ECPv6.15.20//NONSGML v1.0//EN
CALSCALE:GREGORIAN
METHOD:PUBLISH
X-WR-CALNAME:Calp Comunica
X-ORIGINAL-URL:https://calpcomunica.calp.es
X-WR-CALDESC:Eventos para Calp Comunica
REFRESH-INTERVAL;VALUE=DURATION:PT1H
X-Robots-Tag:noindex
X-PUBLISHED-TTL:PT1H
BEGIN:VTIMEZONE
TZID:UTC
BEGIN:STANDARD
TZOFFSETFROM:+0000
TZOFFSETTO:+0000
TZNAME:UTC
DTSTART:20240101T000000
END:STANDARD
END:VTIMEZONE
BEGIN:VEVENT
DTSTART;VALUE=DATE:20250626
DTEND;VALUE=DATE:20250627
DTSTAMP:20260423T032803
CREATED:20250626T074505Z
LAST-MODIFIED:20250626T074505Z
UID:10000432-1750896000-1750982399@calpcomunica.calp.es
SUMMARY:Mercadillos Artesanales
DESCRIPTION: ¡Este verano no te pierdas los Mercados de Artesanía de Calp!�Desde junio hasta septiembre\, puedes disfrutar de estos tradicionales mercadillos junto al mar\, con puestos de marroquinería\, orfebrería\, textil\, madera\, velas aromáticas y mucho más.Plaza Mediterráneo (Playa de la Fossa)�Calle Alemania (Playa Arenal-Bol) Artesanía\, ambiente mediterráneo y muchas ideas para regalar o darte un capricho. ¡Ven a visitarlos!
URL:https://calpcomunica.calp.es/evento/mercadillos-artesanales/
CATEGORIES:Actividades
ATTACH;FMTTYPE=image/jpeg:https://calpcomunica.calp.es/wp-content/uploads/2025/06/506619192_1143605111141607_5324239223455290458_n.jpg
END:VEVENT
BEGIN:VEVENT
DTSTART;VALUE=DATE:20250626
DTEND;VALUE=DATE:20250627
DTSTAMP:20260423T032803
CREATED:20250626T075216Z
LAST-MODIFIED:20250626T075347Z
UID:10000438-1750896000-1750982399@calpcomunica.calp.es
SUMMARY:Celebración del CalPride (Prueba)
DESCRIPTION:🏳️‍🌈 Con motivo de la celebración del CalPride\, el Ayuntamiento de Calp iluminará hasta el domingo con los colores de la bandera LGTBI+ : \n✅Rotonda Refugio del Viento\n✅Fachada del Ayuntamiento
URL:https://calpcomunica.calp.es/evento/celebracion-del-calpride-prueba/
CATEGORIES:Actividades
ATTACH;FMTTYPE=image/jpeg:https://calpcomunica.calp.es/wp-content/uploads/2025/06/505354620_1143675757801209_8260423053314139686_n-1.jpg
END:VEVENT
BEGIN:VEVENT
DTSTART;VALUE=DATE:20250626
DTEND;VALUE=DATE:20250627
DTSTAMP:20260423T032803
CREATED:20250626T103124Z
LAST-MODIFIED:20250626T103124Z
UID:10000453-1750896000-1750982399@calpcomunica.calp.es
SUMMARY:Qué hacer en Calp este fin de semana (27\, 28 y 29 de junio)
DESCRIPTION:
URL:https://calpcomunica.calp.es/evento/que-hacer-en-calp-este-fin-de-semana-27-28-y-29-de-junio/
CATEGORIES:Noticia
ATTACH;FMTTYPE=image/png:https://calpcomunica.calp.es/wp-content/uploads/2025/05/agenda-ES_35_0-1.png
END:VEVENT
BEGIN:VEVENT
DTSTART;TZID=UTC:20250626T200000
DTEND;TZID=UTC:20250626T210000
DTSTAMP:20260423T032803
CREATED:20250625T080659Z
LAST-MODIFIED:20250625T093233Z
UID:10000381-1750968000-1750971600@calpcomunica.calp.es
SUMMARY:La Asociación Cultural La Música de les Paraules presenta "Por la libertad. 50 años de democracia en España".
DESCRIPTION:
URL:https://calpcomunica.calp.es/evento/la-asociacion-cultural-la-musica-de-les-paraules-presenta-por-la-libertad-50-anos-de-democracia-en-espana/
LOCATION:Saló Blau. Casa de Cultura\, Av. Masnou\, 1\, Calp\, Alacante\, 03710
CATEGORIES:Noticia
ATTACH;FMTTYPE=image/jpeg:https://calpcomunica.calp.es/wp-content/uploads/2025/06/Recital-poetico-musical.jpg
END:VEVENT
BEGIN:VEVENT
DTSTART;TZID=UTC:20250627T200000
DTEND;TZID=UTC:20250627T213000
DTSTAMP:20260423T032803
CREATED:20250625T102459Z
LAST-MODIFIED:20250625T102459Z
UID:10000392-1751054400-1751059800@calpcomunica.calp.es
SUMMARY:Presentación del libro: “Dentro de Ifach” de Rafa Terol
DESCRIPTION:
URL:https://calpcomunica.calp.es/evento/presentacion-del-libro-dentro-de-ifach-de-rafa-terol/
LOCATION:Saló Blau. Casa de Cultura\, Av. Masnou\, 1\, Calp\, Alacante\, 03710
CATEGORIES:Noticia
ATTACH;FMTTYPE=image/jpeg:https://calpcomunica.calp.es/wp-content/uploads/2025/06/27-06-25-CARTEL-RAFA-TEROL.jpg
END:VEVENT
BEGIN:VEVENT
DTSTART;TZID=UTC:20250628T213000
DTEND;TZID=UTC:20250629T000000
DTSTAMP:20260423T032803
CREATED:20250627T095004Z
LAST-MODIFIED:20250627T095004Z
UID:10000473-1751146200-1751155200@calpcomunica.calp.es
SUMMARY:👑✨ Calp celebra este sábado la elección y coronación de las Reinas de las Fiestas 2025
DESCRIPTION:📅 Sábado\, 28 de junio\n📍 Plaza Mayor\n🕤 21:30 h – Inicio del acto \nUn total de 33 jóvenes calpinas de 18 años optan al título de Reina de las Fiestas\, y 26 niñas de 8 años al de Reina Infantil.  \n🎉 La elección se realizará por sorteo ante notario. \n🎤 Presentan la gala: Irune Aguirre y Marcos Maguire \nSe habilitará una gran pasarela y se dispondrán 1.800 sillas para que vecinos y visitantes puedan disfrutar de esta noche especial. \nMás información: 
URL:https://calpcomunica.calp.es/evento/%f0%9f%91%91%e2%9c%a8-calp-celebra-este-sabado-la-eleccion-y-coronacion-de-las-reinas-de-las-fiestas-2025/
CATEGORIES:Noticia
ATTACH;FMTTYPE=image/jpeg:https://calpcomunica.calp.es/wp-content/uploads/2025/06/Fiestas.jpg
END:VEVENT
BEGIN:VEVENT
DTSTART;TZID=UTC:20250629T180000
DTEND;TZID=UTC:20250629T200000
DTSTAMP:20260423T032803
CREATED:20250625T104109Z
LAST-MODIFIED:20250625T104109Z
UID:10000398-1751220000-1751227200@calpcomunica.calp.es
SUMMARY:🌞💃 ¡Damos la bienvenida al verano en el Centro Cívico!
DESCRIPTION:Este domingo 29 de junio a las 18:00 h\, te esperamos para celebrar juntos el inicio del verano con:\n🎶 Baile\n🥤 Horchata y fartons para todos los asistentes
URL:https://calpcomunica.calp.es/evento/%f0%9f%8c%9e%f0%9f%92%83-damos-la-bienvenida-al-verano-en-el-centro-civico/
CATEGORIES:Actividades
ATTACH;FMTTYPE=image/jpeg:https://calpcomunica.calp.es/wp-content/uploads/2025/06/Hola-Verano-Centre-Civic-2025_page-0001.jpg
END:VEVENT
BEGIN:VEVENT
DTSTART;VALUE=DATE:20250630
DTEND;VALUE=DATE:20250701
DTSTAMP:20260423T032803
CREATED:20250630T081956Z
LAST-MODIFIED:20250630T081956Z
UID:10000496-1751241600-1751327999@calpcomunica.calp.es
SUMMARY:Agenda Cultura julio y agosto
DESCRIPTION:📢📢La agenda cultural de julio y agosto viene repleta de actividades.\n\n\n🧐Consulta la programación 👆 y no te pierdas nada.\n\n\n#Calp #programacióncultural #agendacultural
URL:https://calpcomunica.calp.es/evento/agenda-cultura-julio-y-agosto/
CATEGORIES:Cultura
ATTACH;FMTTYPE=image/jpeg:https://calpcomunica.calp.es/wp-content/uploads/2025/06/2025-AGENDA-CULTURAL-JULIO-AGOSTO-1-scaled.jpg
END:VEVENT
BEGIN:VEVENT
DTSTART;TZID=UTC:20250630T200000
DTEND;TZID=UTC:20250630T220000
DTSTAMP:20260423T032803
CREATED:20250626T090530Z
LAST-MODIFIED:20250626T090530Z
UID:10000450-1751313600-1751320800@calpcomunica.calp.es
SUMMARY:🎶🎶 Concierto de una noche de verano a cargo de la Orquesta Filarmónica de la Universidad de Alicante.
DESCRIPTION:Directora invitada: Gena Llévano. Concertino: Antonio García Egea. \n📅 Lunes 30 de junio a las 20 horas en el Auditorio de la Casa de Cultura. \n🎟🎟 Entrada gratuita limitada al aforo.
URL:https://calpcomunica.calp.es/evento/%f0%9f%8e%b6%f0%9f%8e%b6-concierto-de-una-noche-de-verano-a-cargo-de-la-orquesta-filarmonica-de-la-universidad-de-alicante/
LOCATION:Auditorio. Casa de Cultura\, Av. Masnou\, 1\, Calp\, Alicante\, 03710\, Spain
CATEGORIES:Actividades
ATTACH;FMTTYPE=image/jpeg:https://calpcomunica.calp.es/wp-content/uploads/2025/06/Concierto-OFA.jpeg
END:VEVENT
BEGIN:VEVENT
DTSTART;VALUE=DATE:20250701
DTEND;VALUE=DATE:20250702
DTSTAMP:20260423T032804
CREATED:20250701T063526Z
LAST-MODIFIED:20250701T063526Z
UID:10000507-1751328000-1751414399@calpcomunica.calp.es
SUMMARY:DOSIER DE PRENSA 1 DE JULIO
DESCRIPTION:Aquí podéis consultar el dosier de prensa con las noticias que los medios de comunicación han publicado sobre Calp.\nhttps://noticias.calp.es/…/dosier-de-prensa-1-de-julio-2
URL:https://calpcomunica.calp.es/evento/dosier-de-prensa-1-de-julio/
CATEGORIES:Noticia
ATTACH;FMTTYPE=image/jpeg:https://calpcomunica.calp.es/wp-content/uploads/2025/07/DP-JULIOL-01.jpg
END:VEVENT
BEGIN:VEVENT
DTSTART;TZID=UTC:20250702T160000
DTEND;TZID=UTC:20250704T140000
DTSTAMP:20260423T032804
CREATED:20250626T085138Z
LAST-MODIFIED:20250626T085138Z
UID:10000445-1751472000-1751637600@calpcomunica.calp.es
SUMMARY:🗣🗣 La Seu Universitaria de Calp organiza el curso "Habilidades de IA\, Comunicación y liderazgo en la era digital".
DESCRIPTION:📆 2\, 3 y 4 de julio. \n👉 En la Seu Universitaria de Calp-Casa Nova. \nTarifa general: 105\,00 €. \nLas 25 primeras personas\, por orden de preinscripción tendrán tarifas con descuento
URL:https://calpcomunica.calp.es/evento/%f0%9f%97%a3%f0%9f%97%a3-la-seu-universitaria-de-calp-organiza-el-curso-habilidades-de-ia-comunicacion-y-liderazgo-en-la-era-digital/
LOCATION:Campus d’Excelència Empresarial\, Partida Casa Nova\, 1\, M\, Calp\, Alicante\, 03710\, Spain
CATEGORIES:Noticia
ATTACH;FMTTYPE=image/jpeg:https://calpcomunica.calp.es/wp-content/uploads/2025/06/Jornada-habilidades.jpeg
END:VEVENT
BEGIN:VEVENT
DTSTART;VALUE=DATE:20250704
DTEND;VALUE=DATE:20250705
DTSTAMP:20260423T032804
CREATED:20250704T095002Z
LAST-MODIFIED:20250704T095002Z
UID:10000582-1751587200-1751673599@calpcomunica.calp.es
SUMMARY:CREAMA celebra 30 años de trabajo común por la Marina Alta
DESCRIPTION:CREAMA celebra 30 años de trabajo común por la Marina Alta
URL:https://calpcomunica.calp.es/evento/creama-celebra-30-anos-de-trabajo-comun-por-la-marina-alta-2/
CATEGORIES:Noticia
ATTACH;FMTTYPE=image/jpeg:https://calpcomunica.calp.es/wp-content/uploads/2025/07/070325-30-aniversario-creama.jpg
END:VEVENT
BEGIN:VEVENT
DTSTART;TZID=UTC:20250704T170000
DTEND;TZID=UTC:20250704T203000
DTSTAMP:20260423T032804
CREATED:20250630T115132Z
LAST-MODIFIED:20250630T115132Z
UID:10000503-1751648400-1751661000@calpcomunica.calp.es
SUMMARY:❤️🩸 Este viernes 4 de julio de 2025\, tienes una nueva oportunidad para salvar vidas donando sangre en Calp.
DESCRIPTION:📍 Lugar: Asamblea Local Cruz Roja (C/ María Jorro\, 1 – local -1)\n🕔 Horario: De 17:00 a 20:30 h\n🔗 Requisitos: Tener más de 18 años\, pesar más de 50 kg y no acudir en ayunas.\nTu donación puede salvar hasta 3 vidas. ¡Te esperamos!
URL:https://calpcomunica.calp.es/evento/%e2%9d%a4%ef%b8%8f%f0%9f%a9%b8-este-viernes-4-de-julio-de-2025-tienes-una-nueva-oportunidad-para-salvar-vidas-donando-sangre-en-calp/
CATEGORIES:Actividades
ATTACH;FMTTYPE=image/jpeg:https://calpcomunica.calp.es/wp-content/uploads/2025/06/04.07-CALPE-CRUZ-ROJAV.jpg
END:VEVENT
BEGIN:VEVENT
DTSTART;TZID=UTC:20250704T170000
DTEND;TZID=UTC:20250704T203000
DTSTAMP:20260423T032804
CREATED:20250704T075043Z
LAST-MODIFIED:20250704T075043Z
UID:10000564-1751648400-1751661000@calpcomunica.calp.es
SUMMARY:❤️🩸 Este viernes 4 de julio de 2025\, tienes una nueva oportunidad para salvar vidas donando sangre en Calp.
DESCRIPTION:📍 Lugar: Asamblea Local Cruz Roja (C/ María Jorro\, 1 – local -1) \n🕔 Horario: De 17:00 a 20:30 h \n🔗 Requisitos: Tener más de 18 años\, pesar más de 50 kg y no acudir en ayunas. \nTu donación puede salvar hasta 3 vidas. ¡Te esperamos!
URL:https://calpcomunica.calp.es/evento/%e2%9d%a4%ef%b8%8f%f0%9f%a9%b8-este-viernes-4-de-julio-de-2025-tienes-una-nueva-oportunidad-para-salvar-vidas-donando-sangre-en-calp-2/
CATEGORIES:Actividades
ATTACH;FMTTYPE=image/jpeg:https://calpcomunica.calp.es/wp-content/uploads/2025/06/04.07-CALPE-CRUZ-ROJAV.jpg
END:VEVENT
BEGIN:VEVENT
DTSTART;TZID=UTC:20250704T193000
DTEND;TZID=UTC:20250704T210000
DTSTAMP:20260423T032804
CREATED:20250702T102932Z
LAST-MODIFIED:20250702T102932Z
UID:10000531-1751657400-1751662800@calpcomunica.calp.es
SUMMARY:Exposición Almendras Amargas de Andrea Chessa
DESCRIPTION:Exposición Almendras Amargas de Andrea Chessa
URL:https://calpcomunica.calp.es/evento/exposicion-almendras-amargas-de-andrea-chessa/
CATEGORIES:Cultura
ATTACH;FMTTYPE=image/jpeg:https://calpcomunica.calp.es/wp-content/uploads/2025/06/WhatsApp-Image-2025-06-27-at-09.40.32.jpeg
END:VEVENT
BEGIN:VEVENT
DTSTART;TZID=UTC:20250704T200000
DTEND;TZID=UTC:20250704T210000
DTSTAMP:20260423T032804
CREATED:20250701T072043Z
LAST-MODIFIED:20250701T072043Z
UID:10000510-1751659200-1751662800@calpcomunica.calp.es
SUMMARY:🎶🎶Concierto "Verano a voces" Coro Sinfonía Escuela Coral Municipal Torrevieja.
DESCRIPTION:🎶🎶Concierto «Verano a voces» Coro Sinfonía Escuela Coral Municipal Torrevieja.\n\n\nViernes 4 de julio\, 20 horas\, Saló Blau de la Casa de Cultura.\n\n\nEntrada 5€.
URL:https://calpcomunica.calp.es/evento/%f0%9f%8e%b6%f0%9f%8e%b6concierto-verano-a-voces-coro-sinfonia-escuela-coral-municipal-torrevieja/
CATEGORIES:Cultura
ATTACH;FMTTYPE=image/jpeg:https://calpcomunica.calp.es/wp-content/uploads/2025/07/04-07-25-Cartel-CONCIERTO-VERANO-A-VOCES.jpg
END:VEVENT
BEGIN:VEVENT
DTSTART;TZID=UTC:20250705T190000
DTEND;TZID=UTC:20250705T220000
DTSTAMP:20260423T032804
CREATED:20250703T112533Z
LAST-MODIFIED:20250703T112533Z
UID:10000552-1751742000-1751752800@calpcomunica.calp.es
SUMMARY:🎭✨ Los mejores musicales de la historia de Broadway llegan a Calp
DESCRIPTION:Un recorrido por los musicales más emblemáticos interpretados por la Orquesta Sinfónica Teatro Castelar\, bajo la dirección artística de Octavio J. Peidrò\, y con la soprano Cristina Sánchez Montes.\n📅 Sábado 5 de julio de 2025\n🕖 19 h\n📍 Auditorio de la Casa de Cultura (Av. Masnou\, 1)\n🎟️ Entrada libre hasta completar aforo\n¡No te lo pierdas!
URL:https://calpcomunica.calp.es/evento/%f0%9f%8e%ad%e2%9c%a8-los-mejores-musicales-de-la-historia-de-broadway-llegan-a-calp/
CATEGORIES:Actividades
ATTACH;FMTTYPE=image/jpeg:https://calpcomunica.calp.es/wp-content/uploads/2025/07/Broadway.jpg
END:VEVENT
BEGIN:VEVENT
DTSTART;TZID=UTC:20250705T200000
DTEND;TZID=UTC:20250705T233000
DTSTAMP:20260423T032804
CREATED:20250704T085449Z
LAST-MODIFIED:20250704T085449Z
UID:10000573-1751745600-1751758200@calpcomunica.calp.es
SUMMARY:FERIA EN LA PLAZA
DESCRIPTION:Feria en la plaza
URL:https://calpcomunica.calp.es/evento/feria-en-la-plaza/
CATEGORIES:Actividades
ATTACH;FMTTYPE=image/jpeg:https://calpcomunica.calp.es/wp-content/uploads/2025/07/777d8081-31f7-47cf-aaeb-b0c0ab4588ed.jpg
END:VEVENT
BEGIN:VEVENT
DTSTART;TZID=UTC:20250706T200000
DTEND;TZID=UTC:20250706T220000
DTSTAMP:20260423T032804
CREATED:20250704T090642Z
LAST-MODIFIED:20250704T090642Z
UID:10000576-1751832000-1751839200@calpcomunica.calp.es
SUMMARY:🎶 Concierto Itinerante en el Centro Histórico
DESCRIPTION:La Unió Musical Calp Ifach llenará de música las calles del casco antiguo con un concierto itinerante. \n📅 Domingo\, 6 de julio de 2025 \n🕗 20h – Inicio en C/ La Fuente \n📍 Recorrido por calles del Centro Histórico
URL:https://calpcomunica.calp.es/evento/%f0%9f%8e%b6-concierto-itinerante-en-el-centro-historico/
CATEGORIES:Actividades
ATTACH;FMTTYPE=image/jpeg:https://calpcomunica.calp.es/wp-content/uploads/2025/07/concierto-unio-musical.jpg
END:VEVENT
BEGIN:VEVENT
DTSTART;TZID=UTC:20250708T103000
DTEND;TZID=UTC:20250708T120000
DTSTAMP:20260423T032804
CREATED:20250704T093801Z
LAST-MODIFIED:20250704T093801Z
UID:10000579-1751970600-1751976000@calpcomunica.calp.es
SUMMARY:Exposición “Llúria. Señores y Señoras de la Tierra”
DESCRIPTION:Exposición “Llúria. Señores y Señoras de la Tierra”
URL:https://calpcomunica.calp.es/evento/exposicion-lluria-senores-y-senoras-de-la-tierra/
CATEGORIES:Cultura
ATTACH;FMTTYPE=image/jpeg:https://calpcomunica.calp.es/wp-content/uploads/2025/07/cartel-LLURIA-CASTELLANO-scaled.jpg
END:VEVENT
BEGIN:VEVENT
DTSTART;VALUE=DATE:20250709
DTEND;VALUE=DATE:20250710
DTSTAMP:20260423T032804
CREATED:20250709T094736Z
LAST-MODIFIED:20250709T094736Z
UID:10000645-1752019200-1752105599@calpcomunica.calp.es
SUMMARY:Cinema a la Mar
DESCRIPTION:Cinema a la Mar
URL:https://calpcomunica.calp.es/evento/cinema-a-la-mar/
CATEGORIES:Cultura
ATTACH;FMTTYPE=image/jpeg:https://calpcomunica.calp.es/wp-content/uploads/2025/07/10-07-25-KUNG-FU-PANDA-4.jpg
END:VEVENT
BEGIN:VEVENT
DTSTART;TZID=UTC:20250711T200000
DTEND;TZID=UTC:20250711T220000
DTSTAMP:20260423T032804
CREATED:20250710T074244Z
LAST-MODIFIED:20250710T074244Z
UID:10000660-1752264000-1752271200@calpcomunica.calp.es
SUMMARY:🎶✨ XXII Campaña de Conciertos de Intercambios Musicales
DESCRIPTION:Este viernes disfruta de un concierto especial de la mano de la Societat Recreativa Musical d’Altea la Vella y la Agrupació Musical CLAUdeFA de Calp.\n📅 Viernes\, 11 de julio\n🕗 20h\n📍 Auditorio – Casa de Cultura\n🎟️ Entrada libre hasta completar aforo
URL:https://calpcomunica.calp.es/evento/%f0%9f%8e%b6%e2%9c%a8-xxii-campana-de-conciertos-de-intercambios-musicales/
CATEGORIES:Actividades
ATTACH;FMTTYPE=image/jpeg:https://calpcomunica.calp.es/wp-content/uploads/2025/07/11-07-25-Cartel-CONCIERTO-INTERCAMBIO-CLAUDEFA.jpg
END:VEVENT
BEGIN:VEVENT
DTSTART;TZID=UTC:20250712T210000
DTEND;TZID=UTC:20250712T230000
DTSTAMP:20260423T032804
CREATED:20250704T084031Z
LAST-MODIFIED:20250704T084031Z
UID:10000570-1752354000-1752361200@calpcomunica.calp.es
SUMMARY:🏃‍♂️🏃‍♀️ V Trail Nocturno Lluna d'Oltà
DESCRIPTION:2 opciones:  \n✅ Trail: 15 km \n✅ Senderismo: 10 km \n🗓️ 12 de julio \n🕘 21h \n📌 Organiza: Grup de Muntanya de Calp \n✅ Inscripciones: 
URL:https://calpcomunica.calp.es/evento/%f0%9f%8f%83%e2%99%82%ef%b8%8f%f0%9f%8f%83%e2%99%80%ef%b8%8f-v-trail-nocturno-lluna-dolta/
CATEGORIES:Actividades
ATTACH;FMTTYPE=image/jpeg:https://calpcomunica.calp.es/wp-content/uploads/2025/07/Trail-1.jpeg
END:VEVENT
BEGIN:VEVENT
DTSTART;TZID=UTC:20250715T220000
DTEND;TZID=UTC:20250715T235900
DTSTAMP:20260423T032804
CREATED:20250714T110530Z
LAST-MODIFIED:20250714T110717Z
UID:10000705-1752616800-1752623940@calpcomunica.calp.es
SUMMARY:🎬🌊 ¡Vuelve Cinema a la Mar a Calp!
DESCRIPTION:Disfruta de una noche de cine al aire libre en la Playa de la Fossa con la proyección de la divertida comedia “Campeonex”\, dirigida por Javier Fesser.\n📅 Martes\, 15 de julio\n🕙 22 h\n📍Playa de la Fossa\n¡Te esperamos!
URL:https://calpcomunica.calp.es/evento/%f0%9f%8e%ac%f0%9f%8c%8a-vuelve-cinema-a-la-mar-a-calp/
CATEGORIES:Actividades
ATTACH;FMTTYPE=image/jpeg:https://calpcomunica.calp.es/wp-content/uploads/2025/07/Campeones.jpg
END:VEVENT
BEGIN:VEVENT
DTSTART;TZID=UTC:20250717T220000
DTEND;TZID=UTC:20250717T233000
DTSTAMP:20260423T032804
CREATED:20250716T093730Z
LAST-MODIFIED:20250716T093730Z
UID:10000735-1752789600-1752795000@calpcomunica.calp.es
SUMMARY:🎬🌊 ¡Mañana tenemos nueva sesión de Cinema a la Mar en Calp!
DESCRIPTION:Ven a disfrutar de una noche de cine al aire libre con la proyección de “Trolls 3: Todos Juntos”\, una divertida película de animación para toda la familia.\n📅 Jueves\, 17 de julio\n🕙 22 h\n📍 Playa del Arenal-Bol
URL:https://calpcomunica.calp.es/evento/%f0%9f%8e%ac%f0%9f%8c%8a-manana-tenemos-nueva-sesion-de-cinema-a-la-mar-en-calp/
CATEGORIES:Actividades
ATTACH;FMTTYPE=image/jpeg:https://calpcomunica.calp.es/wp-content/uploads/2025/07/Cinema-a-la-mar.jpg
END:VEVENT
BEGIN:VEVENT
DTSTART;TZID=UTC:20250718T220000
DTEND;TZID=UTC:20250718T235900
DTSTAMP:20260423T032804
CREATED:20250714T072549Z
LAST-MODIFIED:20250714T072549Z
UID:10000693-1752876000-1752883140@calpcomunica.calp.es
SUMMARY:🎸✨ ¡Vuelve el Minifestival Cream Pop a Calp!
DESCRIPTION:XIX edición de este festival que combina música independiente\, ambiente divertido y la brisa del puerto de Calp.\nEste año con los conciertos de:\n🎤 Venturi\n🎸 Alison Darwin\n🥁 L’Home Brut\n📅 Viernes\, 18 de julio\n📍 Puerto de Calp\n🎟️ Entrada gratuita
URL:https://calpcomunica.calp.es/evento/%f0%9f%8e%b8%e2%9c%a8-vuelve-el-minifestival-cream-pop-a-calp/
CATEGORIES:Actividades
ATTACH;FMTTYPE=image/jpeg:https://calpcomunica.calp.es/wp-content/uploads/2025/07/Cream-pop.jpg
END:VEVENT
BEGIN:VEVENT
DTSTART;TZID=UTC:20250719T200000
DTEND;TZID=UTC:20250719T220000
DTSTAMP:20260423T032804
CREATED:20250717T082920Z
LAST-MODIFIED:20250717T082920Z
UID:10000749-1752955200-1752962400@calpcomunica.calp.es
SUMMARY:🎶✨ ¡Celebra el 25º aniversario de los Xirimiters del Carellot!
DESCRIPTION:Este sábado te esperamos en el Teatro Odeón de la Casa de Cultura para disfrutar de un concierto muy especial con motivo del 25º aniversario de la colla Xirimiters del Carellot de Calp. \n📅 Sábado\, 19 de julio \n🕗 20 h \n📍 Teatro Odeón – Casa de Cultura  \n🎟️ Entrada libre (aforo limitado)
URL:https://calpcomunica.calp.es/evento/%f0%9f%8e%b6%e2%9c%a8-celebra-el-25o-aniversario-de-los-xirimiters-del-carellot/
CATEGORIES:Actividades
ATTACH;FMTTYPE=image/jpeg:https://calpcomunica.calp.es/wp-content/uploads/2025/07/19-07-25-Cartel-CONCIERTO-XIRIMITERS-1.jpg
END:VEVENT
BEGIN:VEVENT
DTSTART;VALUE=DATE:20250721
DTEND;VALUE=DATE:20250722
DTSTAMP:20260423T032804
CREATED:20250721T073930Z
LAST-MODIFIED:20250721T073930Z
UID:10000791-1753056000-1753142399@calpcomunica.calp.es
SUMMARY:Todo preparado para el Calpe Drumt
DESCRIPTION:
URL:https://calpcomunica.calp.es/evento/todo-preparado-para-el-calpe-drumt/
LOCATION:Plaza Mayor\, Av. de Masnou\, 6\, Calp\, Alicante\, 03710\, Spain
CATEGORIES:Noticia
ATTACH;FMTTYPE=image/jpeg:https://calpcomunica.calp.es/wp-content/uploads/2025/07/DRUMT-PANEL.jpg
END:VEVENT
BEGIN:VEVENT
DTSTART;VALUE=DATE:20250721
DTEND;VALUE=DATE:20250722
DTSTAMP:20260423T032804
CREATED:20250721T103037Z
LAST-MODIFIED:20250721T103724Z
UID:10000800-1753056000-1753142399@calpcomunica.calp.es
SUMMARY:El Ayuntamiento de Calp y el Institut d’Estudis Comarcals de la Marina Alta firman un convenio de colaboración para promover la historia y la cultura local
DESCRIPTION:
URL:https://calpcomunica.calp.es/evento/el-ayuntamiento-de-calp-y-el-institut-destudis-comarcals-de-la-marina-alta-firman-un-convenio-de-colaboracion-para-promover-la-historia-y-la-cultura-local/
CATEGORIES:Noticia
ATTACH;FMTTYPE=image/jpeg:https://calpcomunica.calp.es/wp-content/uploads/2025/07/Casa-Cultura-Calp-scaled.jpg
END:VEVENT
BEGIN:VEVENT
DTSTART;TZID=UTC:20250721T180000
DTEND;TZID=UTC:20250721T230000
DTSTAMP:20260423T032804
CREATED:20250716T081117Z
LAST-MODIFIED:20250716T081117Z
UID:10000731-1753120800-1753138800@calpcomunica.calp.es
SUMMARY:Más de 70 bateristas en el Calpe Drumt en el Día Nacional de Bélgica
DESCRIPTION:
URL:https://calpcomunica.calp.es/evento/mas-de-70-bateristas-en-el-calpe-drumt-en-el-dia-nacional-de-belgica/
LOCATION:Plaza Mayor\, Av. de Masnou\, 6\, Calp\, Alicante\, 03710\, Spain
CATEGORIES:Noticia
ATTACH;FMTTYPE=image/jpeg:https://calpcomunica.calp.es/wp-content/uploads/2025/07/DRUMT-PANEL.jpg
END:VEVENT
END:VCALENDAR