BEGIN:VCALENDAR
VERSION:2.0
PRODID:-//Calp - ECPv6.15.20//NONSGML v1.0//EN
CALSCALE:GREGORIAN
METHOD:PUBLISH
X-WR-CALNAME:Calp
X-ORIGINAL-URL:https://calpcomunica.calp.es/?lang=va-val
X-WR-CALDESC:Events for Calp
REFRESH-INTERVAL;VALUE=DURATION:PT1H
X-Robots-Tag:noindex
X-PUBLISHED-TTL:PT1H
BEGIN:VTIMEZONE
TZID:UTC
BEGIN:STANDARD
TZOFFSETFROM:+0000
TZOFFSETTO:+0000
TZNAME:UTC
DTSTART:20240101T000000
END:STANDARD
END:VTIMEZONE
BEGIN:VEVENT
DTSTART;VALUE=DATE:20250826
DTEND;VALUE=DATE:20250827
DTSTAMP:20260423T034434
CREATED:20250826T075025Z
LAST-MODIFIED:20250826T075025Z
UID:10001274-1756166400-1756252799@calpcomunica.calp.es
SUMMARY:Matriculació Centre Formació de Personaes Adultes
DESCRIPTION:
URL:https://calpcomunica.calp.es/evento/matriculacio-centre-formacio-de-personaes-adultes/?lang=va-val
CATEGORIES:Actividades
ATTACH;FMTTYPE=image/jpeg:https://calpcomunica.calp.es/wp-content/uploads/2025/08/538704730_18084835915880709_4445212146580307961_n.jpg
END:VEVENT
BEGIN:VEVENT
DTSTART;VALUE=DATE:20250826
DTEND;VALUE=DATE:20250827
DTSTAMP:20260423T034434
CREATED:20250826T072001Z
LAST-MODIFIED:20250826T072001Z
UID:10001268-1756166400-1756252799@calpcomunica.calp.es
SUMMARY:Protecció Civil
DESCRIPTION:
URL:https://calpcomunica.calp.es/evento/proteccio-civil/?lang=va-val
CATEGORIES:Noticies
ATTACH;FMTTYPE=image/jpeg:https://calpcomunica.calp.es/wp-content/uploads/2025/08/99e15b6c-b3d6-45c0-9bce-824df022e996.jpg
END:VEVENT
BEGIN:VEVENT
DTSTART;VALUE=DATE:20250825
DTEND;VALUE=DATE:20250826
DTSTAMP:20260423T034434
CREATED:20250825T072811Z
LAST-MODIFIED:20250825T072811Z
UID:10001253-1756080000-1756166399@calpcomunica.calp.es
SUMMARY:Inscripcions piscina.
DESCRIPTION:
URL:https://calpcomunica.calp.es/evento/inscripcions-piscina/?lang=va-val
CATEGORIES:Actividades
ATTACH;FMTTYPE=image/jpeg:https://calpcomunica.calp.es/wp-content/uploads/2025/08/535416354_122148323492615261_65428363469135930_n.jpg
END:VEVENT
BEGIN:VEVENT
DTSTART;TZID=UTC:20250823T200000
DTEND;TZID=UTC:20250823T233000
DTSTAMP:20260423T034435
CREATED:20250822T071935Z
LAST-MODIFIED:20250822T071935Z
UID:10001235-1755979200-1755991800@calpcomunica.calp.es
SUMMARY:Festitapa Nazarena
DESCRIPTION:
URL:https://calpcomunica.calp.es/evento/festitapa-nazarena/?lang=va-val
CATEGORIES:Actividades
ATTACH;FMTTYPE=image/jpeg:https://calpcomunica.calp.es/wp-content/uploads/2025/08/WhatsApp-Image-2025-08-21-at-10.51.19.jpeg
END:VEVENT
BEGIN:VEVENT
DTSTART;TZID=UTC:20250822T203000
DTEND;TZID=UTC:20250822T220000
DTSTAMP:20260423T034435
CREATED:20250820T071212Z
LAST-MODIFIED:20250820T071212Z
UID:10001196-1755894600-1755900000@calpcomunica.calp.es
SUMMARY:Concert Colla Xirimiters del Carellot
DESCRIPTION:
URL:https://calpcomunica.calp.es/evento/concert-colla-xirimiters-del-carellot/?lang=va-val
CATEGORIES:Cultura
ATTACH;FMTTYPE=image/png:https://calpcomunica.calp.es/wp-content/uploads/2025/08/22-08-25-Cartel-CONCIERTO-Xirimiters-del-Carellot-1.png
END:VEVENT
BEGIN:VEVENT
DTSTART;VALUE=DATE:20250820
DTEND;VALUE=DATE:20250821
DTSTAMP:20260423T034435
CREATED:20250820T073958Z
LAST-MODIFIED:20250820T073958Z
UID:10001203-1755648000-1755734399@calpcomunica.calp.es
SUMMARY:Este estiu visita les tradicionals balconades en el nucli antic
DESCRIPTION:
URL:https://calpcomunica.calp.es/evento/este-estiu-visita-les-tradicionals-balconades-en-el-nucli-antic/?lang=va-val
CATEGORIES:Cultura
ATTACH;FMTTYPE=image/jpeg:https://calpcomunica.calp.es/wp-content/uploads/2025/08/Balconades1.jpg
END:VEVENT
BEGIN:VEVENT
DTSTART;VALUE=DATE:20250819
DTEND;VALUE=DATE:20250820
DTSTAMP:20260423T034435
CREATED:20250819T075258Z
LAST-MODIFIED:20250819T075258Z
UID:10001181-1755561600-1755647999@calpcomunica.calp.es
SUMMARY:Calendari Escolar 2025/2026
DESCRIPTION:
URL:https://calpcomunica.calp.es/evento/calendari-escolar-2025-2026/?lang=va-val
CATEGORIES:Avisos
ATTACH;FMTTYPE=image/jpeg:https://calpcomunica.calp.es/wp-content/uploads/2025/08/CALENDARI-2025-2026_PRIMARIA._page-0001.jpg
END:VEVENT
BEGIN:VEVENT
DTSTART;VALUE=DATE:20250818
DTEND;VALUE=DATE:20250819
DTSTAMP:20260423T034435
CREATED:20250818T111046Z
LAST-MODIFIED:20250818T111046Z
UID:10001172-1755475200-1755561599@calpcomunica.calp.es
SUMMARY:Horaris piscina
DESCRIPTION:
URL:https://calpcomunica.calp.es/evento/horaris-piscina/?lang=va-val
CATEGORIES:Anuncios
ATTACH;FMTTYPE=image/jpeg:https://calpcomunica.calp.es/wp-content/uploads/2025/08/532608075_122147871848615261_4703446483078067570_n.jpg
END:VEVENT
BEGIN:VEVENT
DTSTART;VALUE=DATE:20250818
DTEND;VALUE=DATE:20250819
DTSTAMP:20260423T034435
CREATED:20250818T092257Z
LAST-MODIFIED:20250818T092257Z
UID:10001163-1755475200-1755561599@calpcomunica.calp.es
SUMMARY:Sonafilm
DESCRIPTION:
URL:https://calpcomunica.calp.es/evento/sonafilm/?lang=va-val
CATEGORIES:Cultura
ATTACH;FMTTYPE=image/jpeg:https://calpcomunica.calp.es/wp-content/uploads/2025/08/532244445_25139933778943007_8166619216809895905_n.jpg
END:VEVENT
BEGIN:VEVENT
DTSTART;TZID=UTC:20250816T200000
DTEND;TZID=UTC:20250816T223000
DTSTAMP:20260423T034435
CREATED:20250730T084748Z
LAST-MODIFIED:20250730T084748Z
UID:10000940-1755374400-1755383400@calpcomunica.calp.es
SUMMARY:Sonafilm Festival
DESCRIPTION:Sonafilm Festival
URL:https://calpcomunica.calp.es/evento/sonafilm-festival/?lang=va-val
CATEGORIES:Cultura
ATTACH;FMTTYPE=image/jpeg:https://calpcomunica.calp.es/wp-content/uploads/2025/07/16-08-2025-Cartel-FESTIVAL-SONAFILM-scaled.jpg
END:VEVENT
BEGIN:VEVENT
DTSTART;VALUE=DATE:20250815
DTEND;VALUE=DATE:20250817
DTSTAMP:20260423T034435
CREATED:20250724T112655Z
LAST-MODIFIED:20250724T112655Z
UID:10000868-1755216000-1755388799@calpcomunica.calp.es
SUMMARY:Arriba el Calpe Pop Festival 2025
DESCRIPTION:
URL:https://calpcomunica.calp.es/evento/arriba-el-calpe-pop-festival-2025/?lang=va-val
CATEGORIES:Noticies
ATTACH;FMTTYPE=image/jpeg:https://calpcomunica.calp.es/wp-content/uploads/2025/07/Calpe-Pop-Festival.jpg
END:VEVENT
BEGIN:VEVENT
DTSTART;TZID=UTC:20250812T080000
DTEND;TZID=UTC:20250812T170000
DTSTAMP:20260423T034435
CREATED:20250812T093905Z
LAST-MODIFIED:20250812T093905Z
UID:10001104-1754985600-1755018000@calpcomunica.calp.es
SUMMARY:Obres vial Balcó de Bernia
DESCRIPTION:Obres vial Balcó de Bernia
URL:https://calpcomunica.calp.es/evento/obres-vial-balco-de-bernia/?lang=va-val
CATEGORIES:Noticies
ATTACH;FMTTYPE=image/jpeg:https://calpcomunica.calp.es/wp-content/uploads/2025/08/484757119_9516702665058027_5823115357836910591_n.jpg
END:VEVENT
BEGIN:VEVENT
DTSTART;TZID=UTC:20250811T210000
DTEND;TZID=UTC:20250811T223000
DTSTAMP:20260423T034435
CREATED:20250807T064416Z
LAST-MODIFIED:20250807T064416Z
UID:10001041-1754946000-1754951400@calpcomunica.calp.es
SUMMARY:Concert
DESCRIPTION:Concert
URL:https://calpcomunica.calp.es/evento/concert/?lang=va-val
CATEGORIES:Cultura
ATTACH;FMTTYPE=image/jpeg:https://calpcomunica.calp.es/wp-content/uploads/2025/08/11-08-25-Cartel-CONCIERTO-EL-MALECON.jpg
END:VEVENT
BEGIN:VEVENT
DTSTART;VALUE=DATE:20250802
DTEND;VALUE=DATE:20250901
DTSTAMP:20260423T034435
CREATED:20250731T083913Z
LAST-MODIFIED:20250731T083913Z
UID:10000964-1754092800-1756684799@calpcomunica.calp.es
SUMMARY:🎨 Exposició de pintura: "Pinta que pintaràs" 🖌️
DESCRIPTION:La Sala d’Exposicions de l’Ajuntament Vell acull durant el mes d’agost la mostra pictòrica de Paqui Colomina\, una proposta plena de color\, paisatge i sensibilitat artística. \n📅 Del 2 al 30 d’agost de 2025 \n🕖 Horari: de dimecres a diumenge\, de 10.00 a 13.00 h i de 18.30 a 22.00 h \n📍 Sala d’exposicions Ajuntament Vell (C/ Francisco Zaragoza\, 2) \n🎟️ Entrada lliure \n🖼️ Inauguració: dissabte 2 d’agost a les 19.00 h
URL:https://calpcomunica.calp.es/evento/%f0%9f%8e%a8-exposicio-de-pintura-pinta-que-pintaras-%f0%9f%96%8c%ef%b8%8f/?lang=va-val
CATEGORIES:Actividades
ATTACH;FMTTYPE=image/jpeg:https://calpcomunica.calp.es/wp-content/uploads/2025/07/02-30-08-25-EXPO-AJ-PAQUI-COLOMINA.jpg
END:VEVENT
BEGIN:VEVENT
DTSTART;VALUE=DATE:20250801
DTEND;VALUE=DATE:20250802
DTSTAMP:20260423T034435
CREATED:20250801T104213Z
LAST-MODIFIED:20250801T104213Z
UID:10000988-1754006400-1754092799@calpcomunica.calp.es
SUMMARY:♻️ Reciclar és donar una nova vida als nostres residus!
DESCRIPTION:A Calp apostem per un reciclatge fàcil i responsable. Coneixes el significat de cada color? 👇 \n🟡 Groc: Envasos i embolcalls. Botelles de plàstic\, llaunes i brics poden tindre una segona vida útil. Dona’ls una oportunitat!\n🔵 Blau: Paper i cartó. Cada tona de paper reciclat evita la tala d’uns 17 arbres. 🌳\n🟢 Verd: Vidre. El vidre reciclat es transforma en nous envasos i ajuda a reduir la contaminació de l’aire. 🌍\n🟤 Marró: Orgànic. Per a restes de menjar i plantes. Essencial per al compostatge\, que converteix els residus en fertilitzant natural. 🌱
URL:https://calpcomunica.calp.es/evento/%e2%99%bb%ef%b8%8f-reciclar-es-donar-una-nova-vida-als-nostres-residus/?lang=va-val
CATEGORIES:Actividades
ATTACH;FMTTYPE=image/jpeg:https://calpcomunica.calp.es/wp-content/uploads/2025/08/Infografia-reciclaje-en-colores.jpg
END:VEVENT
BEGIN:VEVENT
DTSTART;VALUE=DATE:20250801
DTEND;VALUE=DATE:20250802
DTSTAMP:20260423T034435
CREATED:20250801T080942Z
LAST-MODIFIED:20250801T080942Z
UID:10000973-1754006400-1754092799@calpcomunica.calp.es
SUMMARY:🎉 Les Festes Patronals en honor a la Mare de Déu de les Neus ja són ací!
DESCRIPTION:📍Consulta tot el programa complet als cartells adjunts o als canals oficials de l’Ajuntament.
URL:https://calpcomunica.calp.es/evento/%f0%9f%8e%89-les-festes-patronals-en-honor-a-la-mare-de-deu-de-les-neus-ja-son-aci/?lang=va-val
CATEGORIES:Actividades
ATTACH;FMTTYPE=image/jpeg:https://calpcomunica.calp.es/wp-content/uploads/2025/07/Programa_Festes_Agost_2025-2_page-0001-scaled.jpg
END:VEVENT
BEGIN:VEVENT
DTSTART;TZID=UTC:20250731T220000
DTEND;TZID=UTC:20250731T233000
DTSTAMP:20260423T034435
CREATED:20250730T074107Z
LAST-MODIFIED:20250730T074107Z
UID:10000935-1753999200-1754004600@calpcomunica.calp.es
SUMMARY:🎬 Cinema a la Mar: CAMPEONEX 🏀
DESCRIPTION:Aquest dijous\, gaudeix d’una nit de cinema a l’aire lliure amb “Campeonex”\, la tan esperada seqüela de l’èxit de comèdia Campeones.📅 Dijous\, 31 de juliol de 2025🕙 22.00 h📍 Platja de la Fossa – Calp🎟️ Entrada lliure👦 +7 anys | ⏱️ Duració: 124 minuts | 🎭 Comèdia
URL:https://calpcomunica.calp.es/evento/%f0%9f%8e%ac-cinema-a-la-mar-campeonex-%f0%9f%8f%80/?lang=va-val
CATEGORIES:Actividades
ATTACH;FMTTYPE=image/jpeg:https://calpcomunica.calp.es/wp-content/uploads/2025/07/Cinema-a-la-mar-1.jpg
END:VEVENT
BEGIN:VEVENT
DTSTART;VALUE=DATE:20250730
DTEND;VALUE=DATE:20250731
DTSTAMP:20260423T034435
CREATED:20250730T075320Z
LAST-MODIFIED:20250730T075320Z
UID:10000938-1753833600-1753919999@calpcomunica.calp.es
SUMMARY:🛍✨ Aquest estiu no et perdes els Mercats d’Artesania de Calp!
DESCRIPTION:Des de juny fins a setembre\, pots gaudir dels tradicionals mercats a la vora del mar amb una gran varietat de llocs de marroquineria\, orfebreria\, tèxtil\, fusta\, ciris aromàtics i molt més.\n📍 Plaça Mediterrani (Platja de la Fossa)\n📍 Carrer Alemanya (Platja de l’Arenal-Bol)\n🎁 Artesania\, ambient mediterrani i moltes idees per a regalar o fer-te un detall. Vine a visitar-los!
URL:https://calpcomunica.calp.es/evento/%f0%9f%9b%8d%e2%9c%a8-aquest-estiu-no-et-perdes-els-mercats-dartesania-de-calp-2/?lang=va-val
CATEGORIES:Actividades
ATTACH;FMTTYPE=image/jpeg:https://calpcomunica.calp.es/wp-content/uploads/2025/07/Mercats-dartesania.jpeg
END:VEVENT
BEGIN:VEVENT
DTSTART;TZID=UTC:20250729T200000
DTEND;TZID=UTC:20250729T210000
DTSTAMP:20260423T034435
CREATED:20250728T074854Z
LAST-MODIFIED:20250728T074854Z
UID:10000898-1753819200-1753822800@calpcomunica.calp.es
SUMMARY:🎭 TEATRE FAMILIAR A CALP: B.O.B.A.S. 🎺🥁
DESCRIPTION:📅 Dimarts\, 29 de juliol de 2025\n🕗 20:00 h\n📍 Parc de la Vallesa (Av. Jaume I\, El Conqueridor)\n🎟️ Entrada lliure \n👪 Públic familiar | 👧 A partir de 6 anys | ⏱️ 60 minuts\n🎪 Un trio de clown clàssic i alhora contemporani que transforma una cerimònia fúnebre fallida en un espectacle divertidíssim ple de música\, humor i accidents. \n✨ Premis destacats:\n🏆 Millor espectacle de carrer – FETÉN 2024\n🏆 Millor espectacle – Umore Azoka 2023\n🏆 Premi del Públic – Mostra d’Igualada 2024 i Festival ARCA 2023\n🎯 Espectacle recomanat per la Xarxa Espanyola de Teatres
URL:https://calpcomunica.calp.es/evento/%f0%9f%8e%ad-teatre-familiar-a-calp-b-o-b-a-s-%f0%9f%8e%ba%f0%9f%a5%81/?lang=va-val
CATEGORIES:Actividades
ATTACH;FMTTYPE=image/jpeg:https://calpcomunica.calp.es/wp-content/uploads/2025/07/29-07-25-Cartel-ESPECTACULO-BOBAS.jpg
END:VEVENT
BEGIN:VEVENT
DTSTART;TZID=UTC:20250729T170000
DTEND;TZID=UTC:20250729T190000
DTSTAMP:20260423T034435
CREATED:20250725T083148Z
LAST-MODIFIED:20250725T083148Z
UID:10000884-1753808400-1753815600@calpcomunica.calp.es
SUMMARY:Convocatòria de ple 29 de juliol
DESCRIPTION:Convocatòria de ple 29 de juliol
URL:https://calpcomunica.calp.es/evento/convocatoria-de-ple-29-de-juliol/?lang=va-val
CATEGORIES:Anuncios
ATTACH;FMTTYPE=image/jpeg:https://calpcomunica.calp.es/wp-content/uploads/2025/07/20250724_Comunicacion_Anuncio-de-la-convocatoria_page-0001.jpg
END:VEVENT
BEGIN:VEVENT
DTSTART;VALUE=DATE:20250729
DTEND;VALUE=DATE:20250730
DTSTAMP:20260423T034435
CREATED:20250729T094951Z
LAST-MODIFIED:20250729T094951Z
UID:10000920-1753747200-1753833599@calpcomunica.calp.es
SUMMARY:🎉 Les Festes Patronals en honor a la Mare de Déu de les Neus ja són ací! 🎆
DESCRIPTION:Calp s’ompli de tradició\, música\, pólvora\, diversió i actes per a tots els públics del 24 de juliol al 10 d’agost.\n📍Consulta tot el programa complet als cartells adjunts o als canals oficials de l’Ajuntament.
URL:https://calpcomunica.calp.es/evento/%f0%9f%8e%89-les-festes-patronals-en-honor-a-la-mare-de-deu-de-les-neus-ja-son-aci-%f0%9f%8e%86/?lang=va-val
CATEGORIES:Actividades
ATTACH;FMTTYPE=image/jpeg:https://calpcomunica.calp.es/wp-content/uploads/2025/07/Programa_Festes_Agost_2025-2_page-0001-scaled.jpg
END:VEVENT
BEGIN:VEVENT
DTSTART;VALUE=DATE:20250729
DTEND;VALUE=DATE:20250730
DTSTAMP:20260423T034435
CREATED:20250729T073112Z
LAST-MODIFIED:20250729T073112Z
UID:10000914-1753747200-1753833599@calpcomunica.calp.es
SUMMARY:Convocatòria de ple
DESCRIPTION:Convocatòria de ple
URL:https://calpcomunica.calp.es/evento/convocatoria-de-ple/?lang=va-val
CATEGORIES:Anuncios
ATTACH;FMTTYPE=image/jpeg:https://calpcomunica.calp.es/wp-content/uploads/2025/07/522689872_1177278757774242_8561141841314723027_n.jpg
END:VEVENT
BEGIN:VEVENT
DTSTART;TZID=UTC:20250726T203000
DTEND;TZID=UTC:20250726T230000
DTSTAMP:20260423T034435
CREATED:20250724T092436Z
LAST-MODIFIED:20250724T092436Z
UID:10000858-1753561800-1753570800@calpcomunica.calp.es
SUMMARY:🥁 Concert: Connecta Percussió 🎶
DESCRIPTION:Aquest dissabte gaudeix del grup Connecta Percussió a l’Auditori de la Casa de Cultura de Calp. \n📅 Dissabte\, 26 de juliol de 2025\n🕣 20.30 h\n📍 Auditori – Casa de Cultura de Calp (Av. Masnou\, 1)\n🎟️ Entrada lliure fins a completar aforament \n🎼 Activitat emmarcada dins de la Campanya de Difusió de Música i Teatre 2025 de la Diputació Provincial d’Alacant.
URL:https://calpcomunica.calp.es/evento/%f0%9f%a5%81-concert-connecta-percussio-%f0%9f%8e%b6/?lang=va-val
CATEGORIES:Actividades
ATTACH;FMTTYPE=image/jpeg:https://calpcomunica.calp.es/wp-content/uploads/2025/07/26-07-25-Cartel-CONNECTA-PERCUSSIO.jpg
END:VEVENT
BEGIN:VEVENT
DTSTART;TZID=UTC:20250725T213000
DTEND;TZID=UTC:20250725T230000
DTSTAMP:20260423T034435
CREATED:20250724T090201Z
LAST-MODIFIED:20250724T090201Z
UID:10000855-1753479000-1753484400@calpcomunica.calp.es
SUMMARY:Concert de la Unió Musical Calp Ifach
DESCRIPTION:Concert de la Unió Musical Calp Ifach
URL:https://calpcomunica.calp.es/evento/concert-de-la-unio-musical-calp-ifach/?lang=va-val
LOCATION:Plaza Mayor\, Av. de Masnou\, 6\, Calp\, Alicante\, 03710\, Spain
CATEGORIES:Cultura
ATTACH;FMTTYPE=image/jpeg:https://calpcomunica.calp.es/wp-content/uploads/2025/07/20e6d416-3aaa-4cad-af20-c237b0b975cc.jpg
END:VEVENT
BEGIN:VEVENT
DTSTART;TZID=UTC:20250725T200000
DTEND;TZID=UTC:20250725T220000
DTSTAMP:20260423T034435
CREATED:20250723T080745Z
LAST-MODIFIED:20250723T080745Z
UID:10000828-1753473600-1753480800@calpcomunica.calp.es
SUMMARY:🎶 Concert Coral a Calp 🎶
DESCRIPTION:Actuació a càrrec de la Coral Ifach i els Joves Cantors d’Ifach\, sota la direcció de Rafael Domenech.\n📅 Divendres\, 25 de juliol de 2025\n🕗 20.00 h\n📍 Saló Blau – Casa de Cultura de Calp (Av. Masnou\, 1)\n🎟️ Entrada lliure fins a completar aforament
URL:https://calpcomunica.calp.es/evento/%f0%9f%8e%b6-concert-coral-a-calp-%f0%9f%8e%b6/?lang=va-val
CATEGORIES:Actividades
ATTACH;FMTTYPE=image/jpeg:https://calpcomunica.calp.es/wp-content/uploads/2025/07/25-07-25-New-Cartel-CORAL.jpg
END:VEVENT
BEGIN:VEVENT
DTSTART;VALUE=DATE:20250725
DTEND;VALUE=DATE:20250731
DTSTAMP:20260423T034435
CREATED:20250725T075125Z
LAST-MODIFIED:20250725T075125Z
UID:10000882-1753401600-1753919999@calpcomunica.calp.es
SUMMARY:🎨 Últims dies per visitar l’exposició "Ametles Amargues" d’Andrea Chessa 🖼️
DESCRIPTION:No deixes passar l’oportunitat de gaudir d’aquesta interessant proposta artística que combina matèria\, textura i emoció. L’exposició estarà oberta fins al dimecres 30 de juliol a la Sala d’Exposicions de l’Ajuntament Vell. \n🕒 Horari: de dimecres a diumenge \n10:00–13:00 / 16:30–22:00
URL:https://calpcomunica.calp.es/evento/%f0%9f%8e%a8-ultims-dies-per-visitar-lexposicio-ametles-amargues-dandrea-chessa-%f0%9f%96%bc%ef%b8%8f/?lang=va-val
CATEGORIES:Actividades
ATTACH;FMTTYPE=image/jpeg:https://calpcomunica.calp.es/wp-content/uploads/2025/07/WhatsApp-Image-2025-07-25-at-08.48.01.jpeg
END:VEVENT
BEGIN:VEVENT
DTSTART;TZID=UTC:20250724T220000
DTEND;TZID=UTC:20250724T233000
DTSTAMP:20260423T034435
CREATED:20250723T075514Z
LAST-MODIFIED:20250723T075514Z
UID:10000825-1753394400-1753399800@calpcomunica.calp.es
SUMMARY:🎬 Cinema a la Mar torna aquest dijous amb una divertida comèdia sota les estrelles 🌊✨
DESCRIPTION:📍 Platja de l’Arenal-Bol\n📅 Dijous\, 24 de juliol\n🕙 22.00 h\n🎟️ Entrada lliure \n📽️ Projecció de “Menudes peces”\, una comèdia per a majors de 12 anys.\n⏱️ Duració: 98 minuts \nNo t’ho perdes! 🍿
URL:https://calpcomunica.calp.es/evento/%f0%9f%8e%ac-cinema-a-la-mar-torna-aquest-dijous-amb-una-divertida-comedia-sota-les-estrelles-%f0%9f%8c%8a%e2%9c%a8/?lang=va-val
CATEGORIES:Actividades
ATTACH;FMTTYPE=image/jpeg:https://calpcomunica.calp.es/wp-content/uploads/2025/07/24-07-25-MENUDAS-PIEZAS.jpg
END:VEVENT
BEGIN:VEVENT
DTSTART;TZID=UTC:20250724T210000
DTEND;TZID=UTC:20250724T230000
DTSTAMP:20260423T034435
CREATED:20250724T071907Z
LAST-MODIFIED:20250724T071907Z
UID:10000849-1753390800-1753398000@calpcomunica.calp.es
SUMMARY:🎉🎉Presentació del Llibre de Festes Patronals 2025.
DESCRIPTION:📅Dijous 24 de juliol.\n⌚️21 hores.\n📍 Saló Blau.
URL:https://calpcomunica.calp.es/evento/%f0%9f%8e%89%f0%9f%8e%89presentacio-del-llibre-de-festes-patronals-2025/?lang=va-val
CATEGORIES:Actividades
ATTACH;FMTTYPE=image/jpeg:https://calpcomunica.calp.es/wp-content/uploads/2025/07/Llibres-de-festes.jpg
END:VEVENT
BEGIN:VEVENT
DTSTART;VALUE=DATE:20250724
DTEND;VALUE=DATE:20250725
DTSTAMP:20260423T034436
CREATED:20250724T095909Z
LAST-MODIFIED:20250724T095909Z
UID:10000864-1753315200-1753401599@calpcomunica.calp.es
SUMMARY:Suspensió Cinema a la Mar per pluges
DESCRIPTION:Suspensió Cinema a la Mar per pluges
URL:https://calpcomunica.calp.es/evento/suspensio-cinema-a-la-mar-per-pluges/?lang=va-val
CATEGORIES:Avisos,Cultura
ATTACH;FMTTYPE=image/jpeg:https://calpcomunica.calp.es/wp-content/uploads/2025/07/SUSPENSION-CINE.jpg
END:VEVENT
BEGIN:VEVENT
DTSTART;TZID=UTC:20250723T204500
DTEND;TZID=UTC:20250723T220000
DTSTAMP:20260423T034436
CREATED:20250722T075510Z
LAST-MODIFIED:20250722T075510Z
UID:10000808-1753303500-1753308000@calpcomunica.calp.es
SUMMARY:🎭 Teatre infantil: “El gato con botas”
DESCRIPTION:
URL:https://calpcomunica.calp.es/evento/%f0%9f%8e%ad-teatre-infantil-el-gato-con-botas/?lang=va-val
LOCATION:Auditorio. Casa de Cultura\, Av. Masnou\, 1\, Calp\, Alicante\, 03710\, Spain
ATTACH;FMTTYPE=image/jpeg:https://calpcomunica.calp.es/wp-content/uploads/2025/07/23-07-25-NEW-TEATRO-INFANTIL.jpg
END:VEVENT
END:VCALENDAR