BEGIN:VCALENDAR
VERSION:2.0
PRODID:-//Calp - ECPv6.15.20//NONSGML v1.0//EN
CALSCALE:GREGORIAN
METHOD:PUBLISH
X-WR-CALNAME:Calp
X-ORIGINAL-URL:https://calpcomunica.calp.es/?lang=en
X-WR-CALDESC:Events for Calp
REFRESH-INTERVAL;VALUE=DURATION:PT1H
X-Robots-Tag:noindex
X-PUBLISHED-TTL:PT1H
BEGIN:VTIMEZONE
TZID:UTC
BEGIN:STANDARD
TZOFFSETFROM:+0000
TZOFFSETTO:+0000
TZNAME:UTC
DTSTART:20240101T000000
END:STANDARD
END:VTIMEZONE
BEGIN:VEVENT
DTSTART;VALUE=DATE:20250927
DTEND;VALUE=DATE:20250928
DTSTAMP:20260423T020910
CREATED:20250922T104954Z
LAST-MODIFIED:20250922T104954Z
UID:10001673-1758931200-1759017599@calpcomunica.calp.es
SUMMARY:22nd Musical Exchange Concert Series 2025: Colla Portitxol of Xàbia and Colla de Xirimiters del Carellot of Calp.
DESCRIPTION:
URL:https://calpcomunica.calp.es/evento/22nd-musical-exchange-concert-series-2025-colla-portitxol-of-xabia-and-colla-de-xirimiters-del-carellot-of-calp/?lang=en
CATEGORIES:Actividades
ATTACH;FMTTYPE=image/jpeg:https://calpcomunica.calp.es/wp-content/uploads/2025/09/27-09-25-campanya-intercanvis-XIRIMITERES-PORTITXOL-scaled.jpg
END:VEVENT
BEGIN:VEVENT
DTSTART;VALUE=DATE:20250925
DTEND;VALUE=DATE:20250926
DTSTAMP:20260423T020910
CREATED:20250925T101631Z
LAST-MODIFIED:20250925T101631Z
UID:10001731-1758758400-1758844799@calpcomunica.calp.es
SUMMARY:👩‍💼✨ Female Talent in Calp
DESCRIPTION:Yesterday\, the 1st Pitch Competition for women entrepreneurs of the Marina Alta and Baixa was held\, organized by the Calp Town Council\, Creama\, and AEPA.\nWith the participation of 12 businesswomen from both regions\, the event highlighted the talent and value that their initiatives bring to our territory.\n🏆 Competition Winners:\n🥇 First Prize: Ofelia Miralles Ferrando\n🥈 Second Prize: Jobotics Systems\, by Claudia Schaidreiter\n🥉 Third Prize: Calpe Publicidad and Boutique Márcala\, by Marina Belliure\nCongratulations to all the participants for their effort\, creativity\, and commitment to entrepreneurship👏
URL:https://calpcomunica.calp.es/evento/%f0%9f%91%a9%f0%9f%92%bc%e2%9c%a8-female-talent-in-calp/?lang=en
CATEGORIES:Actividades
ATTACH;FMTTYPE=image/jpeg:https://calpcomunica.calp.es/wp-content/uploads/2025/09/Primer-Premio-scaled.jpg
END:VEVENT
BEGIN:VEVENT
DTSTART;VALUE=DATE:20250925
DTEND;VALUE=DATE:20250926
DTSTAMP:20260423T020910
CREATED:20250925T093644Z
LAST-MODIFIED:20250925T093644Z
UID:10001728-1758758400-1758844799@calpcomunica.calp.es
SUMMARY:Gala Rotary
DESCRIPTION:
URL:https://calpcomunica.calp.es/evento/gala-rotary/?lang=en
CATEGORIES:Culture
ATTACH;FMTTYPE=image/jpeg:https://calpcomunica.calp.es/wp-content/uploads/2025/09/WhatsApp-Image-2025-09-22-at-17.04.25.jpeg
END:VEVENT
BEGIN:VEVENT
DTSTART;VALUE=DATE:20250923
DTEND;VALUE=DATE:20250924
DTSTAMP:20260423T020910
CREATED:20250923T093646Z
LAST-MODIFIED:20250923T093646Z
UID:10001692-1758585600-1758671999@calpcomunica.calp.es
SUMMARY:🚀 Conference “Marina Alta with a Future Focus: Gastronomic and Nautical Trends”
DESCRIPTION:
URL:https://calpcomunica.calp.es/evento/%f0%9f%9a%80-conference-marina-alta-with-a-future-focus-gastronomic-and-nautical-trends/?lang=en
CATEGORIES:News
ATTACH;FMTTYPE=image/jpeg:https://calpcomunica.calp.es/wp-content/uploads/2025/09/Marina-Alta-en-clave-de-futuro.jpg
END:VEVENT
BEGIN:VEVENT
DTSTART;VALUE=DATE:20250922
DTEND;VALUE=DATE:20250923
DTSTAMP:20260423T020910
CREATED:20250922T075557Z
LAST-MODIFIED:20250922T075557Z
UID:10001661-1758499200-1758585599@calpcomunica.calp.es
SUMMARY:📚 Extended enrollment period at the FPA in Calp
DESCRIPTION:🗓️ Enrollment dates: September 22\, 23\, 24\, and 25 \n🕖 Hours: from 7:00 p.m. to 9:00 p.m. \n✅ Valencian courses \nA1 and A2 (Official certification) \nB1 and C1 (JQCV preparation) \n✅ English courses \nA1\, A2\, and B1 \nEnglish conversation B1
URL:https://calpcomunica.calp.es/evento/%f0%9f%93%9a-extended-enrollment-period-at-the-fpa-in-calp/?lang=en
CATEGORIES:Actividades
ATTACH;FMTTYPE=image/jpeg:https://calpcomunica.calp.es/wp-content/uploads/2025/09/Ampliacion-ingles.jpg
END:VEVENT
BEGIN:VEVENT
DTSTART;VALUE=DATE:20250915
DTEND;VALUE=DATE:20250916
DTSTAMP:20260423T020910
CREATED:20250915T072829Z
LAST-MODIFIED:20250915T072829Z
UID:10001550-1757894400-1757980799@calpcomunica.calp.es
SUMMARY:Applications for grants to rehabilitate building facades are open until September 15. This year\, there are two lines of aid available again:
DESCRIPTION:👉 Line 1. Comprehensive facade work: This includes sanitation and repair of cracks\, floor slabs\, railings\, anchors\, balcony ceilings\, etc. \n👉 Line 2. Buildings in the historic center: This covers specific actions to improve the aesthetics of the facade (antennas\, air conditioning units\, awnings\, wiring\, etc.)\, including painting. \nFor more info:
URL:https://calpcomunica.calp.es/evento/applications-for-grants-to-rehabilitate-building-facades-are-open-until-september-15-this-year-there-are-two-lines-of-aid-available-again/?lang=en
CATEGORIES:News
END:VEVENT
BEGIN:VEVENT
DTSTART;VALUE=DATE:20250912
DTEND;VALUE=DATE:20250913
DTSTAMP:20260423T020910
CREATED:20250912T124658Z
LAST-MODIFIED:20250912T124837Z
UID:10001540-1757635200-1757721599@calpcomunica.calp.es
SUMMARY:The therapeutic gymnastics workshops welcome the new course at Plaza de la Villa
DESCRIPTION:
URL:https://calpcomunica.calp.es/evento/the-therapeutic-gymnastics-workshops-welcome-the-new-course-at-plaza-de-la-villa/?lang=en
CATEGORIES:News,Salud
ATTACH;FMTTYPE=image/jpeg:https://calpcomunica.calp.es/wp-content/uploads/2025/09/Centro-civico9-scaled.jpg
END:VEVENT
BEGIN:VEVENT
DTSTART;VALUE=DATE:20250910
DTEND;VALUE=DATE:20250911
DTSTAMP:20260423T020910
CREATED:20250910T084731Z
LAST-MODIFIED:20250910T084731Z
UID:10001493-1757462400-1757548799@calpcomunica.calp.es
SUMMARY:🎶✨ The Songs of Your Life – The Party arrives in Calp
DESCRIPTION:📅 Friday\, September 19\, 2025 \n🕘 9:00 p.m. \n📍 Plaza Mayor A show that will review the great hits of several generations\, to enjoy with family and friends. \n🍹 There will be a bar service for the benefit of the Alicante Association for the Fight against Cancer – Calp Local Chapter.
URL:https://calpcomunica.calp.es/evento/%f0%9f%8e%b6%e2%9c%a8-the-songs-of-your-life-the-party-arrives-in-calp/?lang=en
CATEGORIES:Actividades
ATTACH;FMTTYPE=image/jpeg:https://calpcomunica.calp.es/wp-content/uploads/2025/09/Cartel_CancionesVida_calpe_32x45_Mesa-de-trabajo-1-scaled.jpg
END:VEVENT
BEGIN:VEVENT
DTSTART;VALUE=DATE:20250910
DTEND;VALUE=DATE:20250911
DTSTAMP:20260423T020910
CREATED:20250910T082803Z
LAST-MODIFIED:20250910T082803Z
UID:10001490-1757462400-1757548799@calpcomunica.calp.es
SUMMARY:🎶💃 Intercasas 2025 in Calp
DESCRIPTION:📅 Sunday\, September 28\, 2025 \n🕚 At 11:00 a.m. \n📍 Parque de la Creatividad (Partida Gargasindi\, 1H) Enjoy a day of community with: \n🎵 Performances by “rociero” choirs and dance groups from Andalusian houses and associations in the south of the Valencian Community and Albacete\, affiliated with FECUAS. \n🍴 Afterwards\, a shared meal. \n🍹 There will be a bar service for the benefit of the Christian Ensign. \nOrganized by: Casa de Andalucía de Calp and FECUAS In collaboration with: Calp Town Council and Junta de Andalucía
URL:https://calpcomunica.calp.es/evento/%f0%9f%8e%b6%f0%9f%92%83-intercasas-2025-in-calp/?lang=en
CATEGORIES:Actividades
ATTACH;FMTTYPE=image/jpeg:https://calpcomunica.calp.es/wp-content/uploads/2025/09/Intercasas.jpg
END:VEVENT
BEGIN:VEVENT
DTSTART;VALUE=DATE:20250909
DTEND;VALUE=DATE:20250910
DTSTAMP:20260423T020910
CREATED:20250909T080504Z
LAST-MODIFIED:20250909T080504Z
UID:10001468-1757376000-1757462399@calpcomunica.calp.es
SUMMARY:📢 The S.P.R.A. reminds you that these dogs are available for adoption
DESCRIPTION:
URL:https://calpcomunica.calp.es/evento/%f0%9f%93%a2-the-s-p-r-a-reminds-you-that-these-dogs-are-available-for-adoption/?lang=en
CATEGORIES:Avisos
ATTACH;FMTTYPE=image/jpeg:https://calpcomunica.calp.es/wp-content/uploads/2025/09/Perro1-scaled.jpg
END:VEVENT
BEGIN:VEVENT
DTSTART;VALUE=DATE:20250905
DTEND;VALUE=DATE:20250906
DTSTAMP:20260423T020910
CREATED:20250905T080856Z
LAST-MODIFIED:20250905T080856Z
UID:10001413-1757030400-1757116799@calpcomunica.calp.es
SUMMARY:Town Council Plenary
DESCRIPTION:➡ The Calp Town Council will hold an ordinary plenary session next Tuesday\, September 9\, at 5:00 p.m.\, with the following agenda⬇️.📱 You can follow it live on the Calp Town Council’s YouTube channel. 👇
URL:https://calpcomunica.calp.es/evento/town-council-plenary/?lang=en
CATEGORIES:News
ATTACH;FMTTYPE=image/jpeg:https://calpcomunica.calp.es/wp-content/uploads/2025/09/Pleno_page-0001.jpg
END:VEVENT
BEGIN:VEVENT
DTSTART;VALUE=DATE:20250905
DTEND;VALUE=DATE:20250906
DTSTAMP:20260423T020910
CREATED:20250905T075314Z
LAST-MODIFIED:20250905T075314Z
UID:10001409-1757030400-1757116799@calpcomunica.calp.es
SUMMARY:🏠 Applications are open until 15 September for grants to refurbish building façades.
DESCRIPTION:
URL:https://calpcomunica.calp.es/evento/%f0%9f%8f%a0-applications-are-open-until-15-september-for-grants-to-refurbish-building-facades/?lang=en
CATEGORIES:News
ATTACH;FMTTYPE=image/jpeg:https://calpcomunica.calp.es/wp-content/uploads/2025/09/RHB1.jpg
END:VEVENT
BEGIN:VEVENT
DTSTART;VALUE=DATE:20250904
DTEND;VALUE=DATE:20250905
DTSTAMP:20260423T020910
CREATED:20250904T113137Z
LAST-MODIFIED:20250904T113137Z
UID:10001406-1756944000-1757030399@calpcomunica.calp.es
SUMMARY:🎭🎶 Calp wraps up a cultural summer with more than 8\,000 attendees at 47 events.
DESCRIPTION:
URL:https://calpcomunica.calp.es/evento/%f0%9f%8e%ad%f0%9f%8e%b6-calp-wraps-up-a-cultural-summer-with-more-than-8000-attendees-at-47-events/?lang=en
CATEGORIES:News
ATTACH;FMTTYPE=image/jpeg:https://calpcomunica.calp.es/wp-content/uploads/2025/09/Activiades-culturales-Calp-verano-2025-scaled.jpg
END:VEVENT
BEGIN:VEVENT
DTSTART;VALUE=DATE:20250901
DTEND;VALUE=DATE:20250902
DTSTAMP:20260423T020910
CREATED:20250901T103859Z
LAST-MODIFIED:20250901T103859Z
UID:10001355-1756684800-1756771199@calpcomunica.calp.es
SUMMARY:🏡 Applications open for the Calp Town Council’s Youth Rental Assistance Program!
DESCRIPTION:📅 Application period: September 1–26💶 Up to €1\,200 per person📍 Must be under 35 years old (or turn 35 during 2025)🏡 Must be registered as a resident in Calp for at least 1 year📃 Rental contract of at least 11 months \n📌 + info 👉
URL:https://calpcomunica.calp.es/evento/%f0%9f%8f%a1-applications-open-for-the-calp-town-councils-youth-rental-assistance-program/?lang=en
CATEGORIES:News
ATTACH;FMTTYPE=image/jpeg:https://calpcomunica.calp.es/wp-content/uploads/2025/09/Vivienda.jpg
END:VEVENT
BEGIN:VEVENT
DTSTART;VALUE=DATE:20250901
DTEND;VALUE=DATE:20250902
DTSTAMP:20260423T020910
CREATED:20250901T085447Z
LAST-MODIFIED:20250901T085447Z
UID:10001351-1756684800-1756771199@calpcomunica.calp.es
SUMMARY:Invitation from Keith Dunn to this Friday’s blues concert
DESCRIPTION:
URL:https://calpcomunica.calp.es/evento/invitation-from-keith-dunn-to-this-fridays-blues-concert/?lang=en
CATEGORIES:Culture
ATTACH;FMTTYPE=image/jpeg:https://calpcomunica.calp.es/wp-content/uploads/2025/08/MAIL_M_CALP-SEP.OCT-25-BLUES_-CARTEL-A3.psd-GRICES-Recuperado.jpg
END:VEVENT
BEGIN:VEVENT
DTSTART;TZID=UTC:20250830T200000
DTEND;TZID=UTC:20250830T230000
DTSTAMP:20260423T020910
CREATED:20250826T104007Z
LAST-MODIFIED:20250826T104007Z
UID:10001281-1756584000-1756594800@calpcomunica.calp.es
SUMMARY:Party Bye Bye Summer
DESCRIPTION:
URL:https://calpcomunica.calp.es/evento/party-bye-bye-summer/?lang=en
CATEGORIES:Actividades
ATTACH;FMTTYPE=image/jpeg:https://calpcomunica.calp.es/wp-content/uploads/2025/08/5ff8b591-c669-4081-9cb0-31c2d2fdeeb0.jpg
END:VEVENT
BEGIN:VEVENT
DTSTART;TZID=UTC:20250829T200000
DTEND;TZID=UTC:20250829T213000
DTSTAMP:20260423T020910
CREATED:20250826T081046Z
LAST-MODIFIED:20250826T081046Z
UID:10001278-1756497600-1756503000@calpcomunica.calp.es
SUMMARY:ClaudeFa Traveling Concert
DESCRIPTION:
URL:https://calpcomunica.calp.es/evento/claudefa-traveling-concert/?lang=en
CATEGORIES:Culture
ATTACH;FMTTYPE=image/jpeg:https://calpcomunica.calp.es/wp-content/uploads/2025/08/29-08-25-Cartel-CALUDEFA-ITINERANTE-CENTRO-HISTORICO.jpg
END:VEVENT
BEGIN:VEVENT
DTSTART;TZID=UTC:20250829T190000
DTEND;TZID=UTC:20250829T210000
DTSTAMP:20260423T020911
CREATED:20250827T073048Z
LAST-MODIFIED:20250827T073048Z
UID:10001296-1756494000-1756501200@calpcomunica.calp.es
SUMMARY:Outdoor Workshops
DESCRIPTION:
URL:https://calpcomunica.calp.es/evento/outdoor-workshops/?lang=en
CATEGORIES:Culture
ATTACH;FMTTYPE=image/jpeg:https://calpcomunica.calp.es/wp-content/uploads/2025/08/1000086101.jpg
END:VEVENT
BEGIN:VEVENT
DTSTART;VALUE=DATE:20250829
DTEND;VALUE=DATE:20250830
DTSTAMP:20260423T020911
CREATED:20250829T122025Z
LAST-MODIFIED:20250829T122025Z
UID:10001346-1756425600-1756511999@calpcomunica.calp.es
SUMMARY:Works municipal swimming poo
DESCRIPTION:
URL:https://calpcomunica.calp.es/evento/works-municipal-swimming-poo/?lang=en
CATEGORIES:Avisos
ATTACH;FMTTYPE=image/jpeg:https://calpcomunica.calp.es/wp-content/uploads/2025/08/0T2A0826-24.jpg
END:VEVENT
BEGIN:VEVENT
DTSTART;TZID=UTC:20250828T220000
DTEND;TZID=UTC:20250828T230000
DTSTAMP:20260423T020911
CREATED:20250827T071416Z
LAST-MODIFIED:20250827T071416Z
UID:10001290-1756418400-1756422000@calpcomunica.calp.es
SUMMARY:Cinema by the beach
DESCRIPTION:
URL:https://calpcomunica.calp.es/evento/cinema-by-the-beach-2/?lang=en
CATEGORIES:Culture
ATTACH;FMTTYPE=image/jpeg:https://calpcomunica.calp.es/wp-content/uploads/2025/08/28-08-25-buffalo.jpg
END:VEVENT
BEGIN:VEVENT
DTSTART;TZID=UTC:20250826T200000
DTEND;TZID=UTC:20250826T213000
DTSTAMP:20260423T020911
CREATED:20250822T073655Z
LAST-MODIFIED:20250822T073655Z
UID:10001239-1756238400-1756243800@calpcomunica.calp.es
SUMMARY:Eterno Mecano
DESCRIPTION:
URL:https://calpcomunica.calp.es/evento/eterno-mecano/?lang=en
CATEGORIES:Culture
ATTACH;FMTTYPE=image/jpeg:https://calpcomunica.calp.es/wp-content/uploads/2025/08/26-08-25-Cartel-ETERNO-MECANO-NUEVO-scaled.jpg
END:VEVENT
BEGIN:VEVENT
DTSTART;VALUE=DATE:20250826
DTEND;VALUE=DATE:20250827
DTSTAMP:20260423T020911
CREATED:20250826T075025Z
LAST-MODIFIED:20250826T075025Z
UID:10001275-1756166400-1756252799@calpcomunica.calp.es
SUMMARY:Registration – Adult Learning Center
DESCRIPTION:
URL:https://calpcomunica.calp.es/evento/registration-adult-learning-center/?lang=en
CATEGORIES:Actividades
ATTACH;FMTTYPE=image/jpeg:https://calpcomunica.calp.es/wp-content/uploads/2025/08/538704730_18084835915880709_4445212146580307961_n.jpg
END:VEVENT
BEGIN:VEVENT
DTSTART;VALUE=DATE:20250826
DTEND;VALUE=DATE:20250827
DTSTAMP:20260423T020911
CREATED:20250826T072001Z
LAST-MODIFIED:20250826T072001Z
UID:10001269-1756166400-1756252799@calpcomunica.calp.es
SUMMARY:Civil Protection
DESCRIPTION:
URL:https://calpcomunica.calp.es/evento/civil-protection/?lang=en
CATEGORIES:News
ATTACH;FMTTYPE=image/jpeg:https://calpcomunica.calp.es/wp-content/uploads/2025/08/99e15b6c-b3d6-45c0-9bce-824df022e996.jpg
END:VEVENT
BEGIN:VEVENT
DTSTART;VALUE=DATE:20250825
DTEND;VALUE=DATE:20250826
DTSTAMP:20260423T020911
CREATED:20250825T072811Z
LAST-MODIFIED:20250825T072811Z
UID:10001254-1756080000-1756166399@calpcomunica.calp.es
SUMMARY:Registration for the swimming pool
DESCRIPTION:
URL:https://calpcomunica.calp.es/evento/registration-for-the-swimming-pool/?lang=en
CATEGORIES:Actividades
ATTACH;FMTTYPE=image/jpeg:https://calpcomunica.calp.es/wp-content/uploads/2025/08/535416354_122148323492615261_65428363469135930_n.jpg
END:VEVENT
BEGIN:VEVENT
DTSTART;TZID=UTC:20250823T200000
DTEND;TZID=UTC:20250823T233000
DTSTAMP:20260423T020911
CREATED:20250822T071935Z
LAST-MODIFIED:20250822T071935Z
UID:10001236-1755979200-1755991800@calpcomunica.calp.es
SUMMARY:Great Nazarene Festitapa
DESCRIPTION:
URL:https://calpcomunica.calp.es/evento/great-nazarene-festitapa/?lang=en
CATEGORIES:Actividades
ATTACH;FMTTYPE=image/jpeg:https://calpcomunica.calp.es/wp-content/uploads/2025/08/WhatsApp-Image-2025-08-21-at-10.51.19.jpeg
END:VEVENT
BEGIN:VEVENT
DTSTART;TZID=UTC:20250822T203000
DTEND;TZID=UTC:20250822T220000
DTSTAMP:20260423T020911
CREATED:20250820T071212Z
LAST-MODIFIED:20250820T071212Z
UID:10001197-1755894600-1755900000@calpcomunica.calp.es
SUMMARY:Concert Colla Xirimiters del Carellot
DESCRIPTION:
URL:https://calpcomunica.calp.es/evento/concert-colla-xirimiters-del-carellot/?lang=en
CATEGORIES:Culture
ATTACH;FMTTYPE=image/png:https://calpcomunica.calp.es/wp-content/uploads/2025/08/22-08-25-Cartel-CONCIERTO-Xirimiters-del-Carellot-1.png
END:VEVENT
BEGIN:VEVENT
DTSTART;VALUE=DATE:20250820
DTEND;VALUE=DATE:20250821
DTSTAMP:20260423T020911
CREATED:20250820T073958Z
LAST-MODIFIED:20250820T073958Z
UID:10001202-1755648000-1755734399@calpcomunica.calp.es
SUMMARY:This summer\, visit the traditional balcony displays in the Old Town
DESCRIPTION:
URL:https://calpcomunica.calp.es/evento/this-summer-visit-the-traditional-balcony-displays-in-the-old-town/?lang=en
CATEGORIES:Culture
ATTACH;FMTTYPE=image/jpeg:https://calpcomunica.calp.es/wp-content/uploads/2025/08/Balconades1.jpg
END:VEVENT
BEGIN:VEVENT
DTSTART;VALUE=DATE:20250819
DTEND;VALUE=DATE:20250820
DTSTAMP:20260423T020911
CREATED:20250819T075258Z
LAST-MODIFIED:20250819T075258Z
UID:10001182-1755561600-1755647999@calpcomunica.calp.es
SUMMARY:School calendar 2025/2026
DESCRIPTION:
URL:https://calpcomunica.calp.es/evento/school-calendar-2025-2026/?lang=en
CATEGORIES:Avisos
ATTACH;FMTTYPE=image/jpeg:https://calpcomunica.calp.es/wp-content/uploads/2025/08/CALENDARI-2025-2026_PRIMARIA._page-0001.jpg
END:VEVENT
BEGIN:VEVENT
DTSTART;VALUE=DATE:20250818
DTEND;VALUE=DATE:20250819
DTSTAMP:20260423T020911
CREATED:20250818T111046Z
LAST-MODIFIED:20250818T111046Z
UID:10001173-1755475200-1755561599@calpcomunica.calp.es
SUMMARY:"Swimming pool hours
DESCRIPTION:
URL:https://calpcomunica.calp.es/evento/swimming-pool-hours/?lang=en
CATEGORIES:Anuncios
ATTACH;FMTTYPE=image/jpeg:https://calpcomunica.calp.es/wp-content/uploads/2025/08/532608075_122147871848615261_4703446483078067570_n.jpg
END:VEVENT
BEGIN:VEVENT
DTSTART;VALUE=DATE:20250818
DTEND;VALUE=DATE:20250819
DTSTAMP:20260423T020911
CREATED:20250818T092257Z
LAST-MODIFIED:20250818T092257Z
UID:10001164-1755475200-1755561599@calpcomunica.calp.es
SUMMARY:Sonafilm
DESCRIPTION:
URL:https://calpcomunica.calp.es/evento/sonafilm/?lang=en
CATEGORIES:Culture
ATTACH;FMTTYPE=image/jpeg:https://calpcomunica.calp.es/wp-content/uploads/2025/08/532244445_25139933778943007_8166619216809895905_n.jpg
END:VEVENT
END:VCALENDAR