BEGIN:VCALENDAR
VERSION:2.0
PRODID:-//Calp - ECPv6.15.20//NONSGML v1.0//EN
CALSCALE:GREGORIAN
METHOD:PUBLISH
X-WR-CALNAME:Calp
X-ORIGINAL-URL:https://calpcomunica.calp.es/?lang=en
X-WR-CALDESC:Events for Calp
REFRESH-INTERVAL;VALUE=DURATION:PT1H
X-Robots-Tag:noindex
X-PUBLISHED-TTL:PT1H
BEGIN:VTIMEZONE
TZID:UTC
BEGIN:STANDARD
TZOFFSETFROM:+0000
TZOFFSETTO:+0000
TZNAME:UTC
DTSTART:20250101T000000
END:STANDARD
END:VTIMEZONE
BEGIN:VEVENT
DTSTART;VALUE=DATE:20260225
DTEND;VALUE=DATE:20260226
DTSTAMP:20260423T112959
CREATED:20260225T101946Z
LAST-MODIFIED:20260225T101946Z
UID:10003775-1771977600-1772063999@calpcomunica.calp.es
SUMMARY:📢 Specialization Course in Criminal and Procedural Law: Gender-Based Violence and the VioGén 2 System.
DESCRIPTION:The Departments of Equality and Citizen Security of the Calp Town Council are organizing this specialized training course\, taught by Civil Guard Sergeant Major Juan Antonio Jover Pinar\, featuring a keynote session by Supreme Court Justice Vicente Magro Servet.\n🗓 March 23rd to 27th\n🕘 9:00 AM to 1:00 PM\n📍 Casa Nova Business Excellence Campus (Calp)\n🎓 Training accredited by IVASPE and funded by the State Pact against Gender-Based Violence\n🔗 Registration open:
URL:https://calpcomunica.calp.es/evento/%f0%9f%93%a2-specialization-course-in-criminal-and-procedural-law-gender-based-violence-and-the-viogen-2-system/?lang=en
CATEGORIES:News
ATTACH;FMTTYPE=image/jpeg:https://calpcomunica.calp.es/wp-content/uploads/2026/02/Viogen-1.jpg
END:VEVENT
BEGIN:VEVENT
DTSTART;VALUE=DATE:20260227
DTEND;VALUE=DATE:20260228
DTSTAMP:20260423T112959
CREATED:20260227T071516Z
LAST-MODIFIED:20260227T071516Z
UID:10003799-1772150400-1772236799@calpcomunica.calp.es
SUMMARY:Press dossier
DESCRIPTION:
URL:https://calpcomunica.calp.es/evento/press-dossier-139/?lang=en
CATEGORIES:News
ATTACH;FMTTYPE=image/jpeg:https://calpcomunica.calp.es/wp-content/uploads/2026/02/Dosier-prensa.jpg
END:VEVENT
BEGIN:VEVENT
DTSTART;VALUE=DATE:20260302
DTEND;VALUE=DATE:20260303
DTSTAMP:20260423T112959
CREATED:20260302T073012Z
LAST-MODIFIED:20260302T073012Z
UID:10003811-1772409600-1772495999@calpcomunica.calp.es
SUMMARY:Press dossier
DESCRIPTION:
URL:https://calpcomunica.calp.es/evento/press-dossier-140/?lang=en
CATEGORIES:News
ATTACH;FMTTYPE=image/jpeg:https://calpcomunica.calp.es/wp-content/uploads/2026/03/619672999_1331645579004225_6566389310431176086_n_3.jpg
END:VEVENT
BEGIN:VEVENT
DTSTART;TZID=UTC:20260303T080000
DTEND;TZID=UTC:20260330T170000
DTSTAMP:20260423T112959
CREATED:20260225T120944Z
LAST-MODIFIED:20260225T120944Z
UID:10003790-1772524800-1774890000@calpcomunica.calp.es
SUMMARY:Exhibition  Arte-Son Group.
DESCRIPTION:
URL:https://calpcomunica.calp.es/evento/exhibition-arte-son-group/?lang=en
CATEGORIES:Culture
ATTACH;FMTTYPE=image/jpeg:https://calpcomunica.calp.es/wp-content/uploads/2026/02/PHOTO-2026-02-10-19-14-45.jpg
END:VEVENT
BEGIN:VEVENT
DTSTART;TZID=UTC:20260305T190000
DTEND;TZID=UTC:20260305T203000
DTSTAMP:20260423T112959
CREATED:20260302T114939Z
LAST-MODIFIED:20260302T114939Z
UID:10003816-1772737200-1772742600@calpcomunica.calp.es
SUMMARY:40th Anniversary of Spain’s Accession to the European Union
DESCRIPTION:
URL:https://calpcomunica.calp.es/evento/40th-anniversary-of-spains-accession-to-the-european-union/?lang=en
CATEGORIES:Culture
ATTACH;FMTTYPE=image/jpeg:https://calpcomunica.calp.es/wp-content/uploads/2026/02/Aniversario-UE-Calpe-1.jpg
END:VEVENT
BEGIN:VEVENT
DTSTART;VALUE=DATE:20260307
DTEND;VALUE=DATE:20260308
DTSTAMP:20260423T112959
CREATED:20260227T112812Z
LAST-MODIFIED:20260227T112812Z
UID:10003802-1772841600-1772927999@calpcomunica.calp.es
SUMMARY:La Nit Encesa
DESCRIPTION:
URL:https://calpcomunica.calp.es/evento/la-nit-encesa/?lang=en
CATEGORIES:Culture
ATTACH;FMTTYPE=image/jpeg:https://calpcomunica.calp.es/wp-content/uploads/2026/02/CARTEL-GRAL-LA-NIT-ENCESA.jpg
END:VEVENT
BEGIN:VEVENT
DTSTART;TZID=UTC:20260310T170000
DTEND;TZID=UTC:20260310T230000
DTSTAMP:20260423T112959
CREATED:20260306T083044Z
LAST-MODIFIED:20260306T083044Z
UID:10003874-1773162000-1773183600@calpcomunica.calp.es
SUMMARY:Ordinary plenary session
DESCRIPTION:
URL:https://calpcomunica.calp.es/evento/ordinary-plenary-session/?lang=en
CATEGORIES:Anuncios
ATTACH;FMTTYPE=image/jpeg:https://calpcomunica.calp.es/wp-content/uploads/2026/03/20260305_Comunicacion_Anuncio-de-la-convocatoria_page-0001.jpg
END:VEVENT
BEGIN:VEVENT
DTSTART;VALUE=DATE:20260311
DTEND;VALUE=DATE:20260312
DTSTAMP:20260423T112959
CREATED:20260311T122009Z
LAST-MODIFIED:20260311T122009Z
UID:10003949-1773187200-1773273599@calpcomunica.calp.es
SUMMARY:✝️ Lent and Holy Week Calp 2026 | Events this weekend
DESCRIPTION:📅 Friday\, March 13: Celebration of the “Cristo de Marzo” (Christ of March).\n🕢 7:30 PM – Holy Mass and Stations of the Cross through the Old Town.\n📅 Saturday\, March 14: Penitential Brotherhood of Silence.\n⛪ During the morning: Transfer of the “Santísimo Cristo del Sudor” to the Parish of La Merced.\n🕡 6:30 PM – Holy Mass\, blessing and presentation of medals to new members\, and Oath of Silence (Our Lady of La Merced Parish).\n📅 Sunday\, March 15: Brotherhood of the “Santísimo Cristo de las Tres Caídas”.\n🕛 12:00 PM – Holy Mass\, blessing and presentation of medals to new members.
URL:https://calpcomunica.calp.es/evento/%e2%9c%9d%ef%b8%8f-lent-and-holy-week-calp-2026-events-this-weekend/?lang=en
CATEGORIES:Actividades
ATTACH;FMTTYPE=image/jpeg:https://calpcomunica.calp.es/wp-content/uploads/2026/03/libro-semana-santa-2026ok_page-0014.jpg
END:VEVENT
BEGIN:VEVENT
DTSTART;TZID=UTC:20260311T193000
DTEND;TZID=UTC:20260311T210000
DTSTAMP:20260423T112959
CREATED:20260310T074432Z
LAST-MODIFIED:20260310T074432Z
UID:10003913-1773257400-1773262800@calpcomunica.calp.es
SUMMARY:Performance by Toronzo Cannon & Blues Band (Chicago\, USA)
DESCRIPTION:
URL:https://calpcomunica.calp.es/evento/performance-by-toronzo-cannon-blues-band-chicago-usa/?lang=en
CATEGORIES:Culture
ATTACH;FMTTYPE=image/jpeg:https://calpcomunica.calp.es/wp-content/uploads/2026/03/DEF_TORONZO-500-X-600_MAIL-1.jpg
END:VEVENT
BEGIN:VEVENT
DTSTART;TZID=UTC:20260317T190000
DTEND;TZID=UTC:20260317T203000
DTSTAMP:20260423T112959
CREATED:20260226T070404Z
LAST-MODIFIED:20260226T070404Z
UID:10003793-1773774000-1773779400@calpcomunica.calp.es
SUMMARY:The comedy “Ifach” by Azorín and its connection to Calpe
DESCRIPTION:
URL:https://calpcomunica.calp.es/evento/the-comedy-ifach-by-azorin-and-its-connection-to-calpe/?lang=en
CATEGORIES:Culture
ATTACH;FMTTYPE=image/jpeg:https://calpcomunica.calp.es/wp-content/uploads/2026/02/Azorin-Calpe.jpg
END:VEVENT
BEGIN:VEVENT
DTSTART;VALUE=DATE:20260324
DTEND;VALUE=DATE:20260325
DTSTAMP:20260423T112959
CREATED:20260324T122128Z
LAST-MODIFIED:20260324T122128Z
UID:10004095-1774310400-1774396799@calpcomunica.calp.es
SUMMARY:📊 Gender-based violence in Calp: sociodemographic profile
DESCRIPTION:The analysis of the 89 files recorded in Calp allows for the creation of a profile of victims and perpetrators\, providing deeper insight into the local reality of gender-based violence.\n🔹 The 25 to 34 age group shows the highest incidence: 37% of victims and 28% of perpetrators.\n🔹 Spanish nationality is the most frequent in both profiles\, followed by Colombian.\n🔹 The presence of 8 victims aged 65 or older (9%) is noteworthy\, showing that this issue also significantly affects elderly people.\n🔹 In many cases\, the victim and the perpetrator share the same nationality\, especially in instances involving Spanish and Colombian nationals.\n➡️ Read the full press release here:
URL:https://calpcomunica.calp.es/evento/%f0%9f%93%8a-gender-based-violence-in-calp-sociodemographic-profile/?lang=en
CATEGORIES:News
ATTACH;FMTTYPE=image/jpeg:https://calpcomunica.calp.es/wp-content/uploads/2026/03/Nacionalidad.jpeg
END:VEVENT
BEGIN:VEVENT
DTSTART;VALUE=DATE:20260327
DTEND;VALUE=DATE:20260328
DTSTAMP:20260423T112959
CREATED:20260327T130051Z
LAST-MODIFIED:20260327T130051Z
UID:10004161-1774569600-1774655999@calpcomunica.calp.es
SUMMARY:🚧 The old Benissa road becomes one-way
DESCRIPTION:
URL:https://calpcomunica.calp.es/evento/%f0%9f%9a%a7-the-old-benissa-road-becomes-one-way/?lang=en
CATEGORIES:News
ATTACH;FMTTYPE=image/jpeg:https://calpcomunica.calp.es/wp-content/uploads/2026/03/9ff07bdd-7d19-4195-9356-4d4fdb3960cf.jpg
END:VEVENT
BEGIN:VEVENT
DTSTART;TZID=UTC:20260327T200000
DTEND;TZID=UTC:20260327T213000
DTSTAMP:20260423T112959
CREATED:20260324T085550Z
LAST-MODIFIED:20260324T085550Z
UID:10004086-1774641600-1774647000@calpcomunica.calp.es
SUMMARY:La fuga perpendicular
DESCRIPTION:
URL:https://calpcomunica.calp.es/evento/la-fuga-perpendicular/?lang=en
CATEGORIES:Culture
ATTACH;FMTTYPE=image/jpeg:https://calpcomunica.calp.es/wp-content/uploads/2026/03/27-03-Cartel-largometraje-PL.jpg
END:VEVENT
BEGIN:VEVENT
DTSTART;TZID=UTC:20260328T183000
DTEND;TZID=UTC:20260328T200000
DTSTAMP:20260423T112959
CREATED:20260325T101950Z
LAST-MODIFIED:20260325T101950Z
UID:10004107-1774722600-1774728000@calpcomunica.calp.es
SUMMARY:Children’s play
DESCRIPTION:
URL:https://calpcomunica.calp.es/evento/childrens-play/?lang=en
CATEGORIES:Culture
ATTACH;FMTTYPE=image/jpeg:https://calpcomunica.calp.es/wp-content/uploads/2026/03/28-03-2026-ritmos-animalescosTEATRO-INFANTIL.jpg
END:VEVENT
BEGIN:VEVENT
DTSTART;TZID=UTC:20260331T180000
DTEND;TZID=UTC:20260331T200000
DTSTAMP:20260423T112959
CREATED:20260317T084830Z
LAST-MODIFIED:20260317T084830Z
UID:10004006-1774980000-1774987200@calpcomunica.calp.es
SUMMARY:Workshop Casa Nova
DESCRIPTION:
URL:https://calpcomunica.calp.es/evento/workshop-casa-nova/?lang=en
CATEGORIES:Culture
ATTACH;FMTTYPE=image/jpeg:https://calpcomunica.calp.es/wp-content/uploads/2026/03/Impacto-Calpe.jpg
END:VEVENT
BEGIN:VEVENT
DTSTART;VALUE=DATE:20260401
DTEND;VALUE=DATE:20260402
DTSTAMP:20260423T112959
CREATED:20260401T094732Z
LAST-MODIFIED:20260401T094732Z
UID:10004233-1775001600-1775087999@calpcomunica.calp.es
SUMMARY:✝️ Holy Week in Calp
DESCRIPTION:The Holy Week processions will continue tomorrow\, Thursday\, April 2nd\, with the Brotherhood of Jesús Nazareno and the Penitential Brotherhood of el Silencio from Calp.Here are the routes/itineraries.
URL:https://calpcomunica.calp.es/evento/%e2%9c%9d%ef%b8%8f-holy-week-in-calp/?lang=en
CATEGORIES:Actividades
ATTACH;FMTTYPE=image/jpeg:https://calpcomunica.calp.es/wp-content/uploads/2026/04/1.jpg
END:VEVENT
BEGIN:VEVENT
DTSTART;VALUE=DATE:20260409
DTEND;VALUE=DATE:20260410
DTSTAMP:20260423T112959
CREATED:20260409T093541Z
LAST-MODIFIED:20260409T093541Z
UID:10004304-1775692800-1775779199@calpcomunica.calp.es
SUMMARY:📢 Calp promotes the reconstruction of the Calalga–Bassetes coastal path
DESCRIPTION:
URL:https://calpcomunica.calp.es/evento/%f0%9f%93%a2-calp-promotes-the-reconstruction-of-the-calalga-bassetes-coastal-path/?lang=en
CATEGORIES:News
ATTACH;FMTTYPE=image/jpeg:https://calpcomunica.calp.es/wp-content/uploads/2026/04/WhatsApp-Image-2026-04-08-at-12.28.08.jpeg
END:VEVENT
BEGIN:VEVENT
DTSTART;TZID=UTC:20260413T200000
DTEND;TZID=UTC:20260413T220000
DTSTAMP:20260423T112959
CREATED:20260413T122918Z
LAST-MODIFIED:20260413T122918Z
UID:10004350-1776110400-1776117600@calpcomunica.calp.es
SUMMARY:Concert
DESCRIPTION:
URL:https://calpcomunica.calp.es/evento/concert-3/?lang=en
CATEGORIES:Culture
ATTACH;FMTTYPE=image/jpeg:https://calpcomunica.calp.es/wp-content/uploads/2026/04/17-04-2026.jpg
END:VEVENT
BEGIN:VEVENT
DTSTART;VALUE=DATE:20260414
DTEND;VALUE=DATE:20260415
DTSTAMP:20260423T112959
CREATED:20260414T113648Z
LAST-MODIFIED:20260414T113648Z
UID:10004365-1776124800-1776211199@calpcomunica.calp.es
SUMMARY:🎶 The sounds of Cream Pop return to Calp
DESCRIPTION:The 20th edition of Cream Pop is already gearing up with its launch parties and a new musical date this summer at La Fossa beach.\n📍 Launch Parties:\nFriday\, May 22nd\, at Soda Bar Alicante\, featuring Muñeca Rusa\nSaturday\, May 23rd\, at Cervezas Althaia (Altea)\, featuring Muñeca Rusa\n📍 Festival:\nSaturday\, July 25th\nPlaça del Mediterrani\, La Fossa beach\nStarting at 9:00 PM\nTaking the stage will be Emilia\, Pardo y Bazán\, Kozai Rata\, Xavi Plastik DJ\, and Joan Mel Punkavinis.
URL:https://calpcomunica.calp.es/evento/%f0%9f%8e%b6-the-sounds-of-cream-pop-return-to-calp/?lang=en
CATEGORIES:Actividades
ATTACH;FMTTYPE=image/jpeg:https://calpcomunica.calp.es/wp-content/uploads/2026/04/Cream-pop-4.jpeg
END:VEVENT
BEGIN:VEVENT
DTSTART;VALUE=DATE:20260416
DTEND;VALUE=DATE:20260417
DTSTAMP:20260423T112959
CREATED:20260416T094320Z
LAST-MODIFIED:20260416T094320Z
UID:10004401-1776297600-1776383999@calpcomunica.calp.es
SUMMARY:What to do in Calp this weekend
DESCRIPTION:
URL:https://calpcomunica.calp.es/evento/what-to-do-in-calp-this-weekend-5/?lang=en
CATEGORIES:Culture
ATTACH;FMTTYPE=image/png:https://calpcomunica.calp.es/wp-content/uploads/2026/03/agenda-VAL.png
END:VEVENT
BEGIN:VEVENT
DTSTART;TZID=UTC:20260418T190000
DTEND;TZID=UTC:20260418T203000
DTSTAMP:20260423T112959
CREATED:20260416T060440Z
LAST-MODIFIED:20260416T060440Z
UID:10004386-1776538800-1776544200@calpcomunica.calp.es
SUMMARY:Theatre
DESCRIPTION:
URL:https://calpcomunica.calp.es/evento/theatre/?lang=en
CATEGORIES:Culture
ATTACH;FMTTYPE=image/jpeg:https://calpcomunica.calp.es/wp-content/uploads/2026/04/1804-2026-TEATRO-CELLER-ROMAN.jpeg
END:VEVENT
END:VCALENDAR