BEGIN:VCALENDAR
VERSION:2.0
PRODID:-//Calp - ECPv6.15.20//NONSGML v1.0//EN
CALSCALE:GREGORIAN
METHOD:PUBLISH
X-WR-CALNAME:Calp
X-ORIGINAL-URL:https://calpcomunica.calp.es/?lang=en
X-WR-CALDESC:Events for Calp
REFRESH-INTERVAL;VALUE=DURATION:PT1H
X-Robots-Tag:noindex
X-PUBLISHED-TTL:PT1H
BEGIN:VTIMEZONE
TZID:UTC
BEGIN:STANDARD
TZOFFSETFROM:+0000
TZOFFSETTO:+0000
TZNAME:UTC
DTSTART:20240101T000000
END:STANDARD
END:VTIMEZONE
BEGIN:VEVENT
DTSTART;TZID=UTC:20250628T213000
DTEND;TZID=UTC:20250629T000000
DTSTAMP:20260423T124238
CREATED:20250627T095004Z
LAST-MODIFIED:20250627T095004Z
UID:10000475-1751146200-1751155200@calpcomunica.calp.es
SUMMARY:👑✨ Calp celebrates the election and coronation of the 2025 Festival Queens this Saturday
DESCRIPTION:📅 Saturday\, June 28\n📍 Plaza Mayor\n🕤 9:30 p.m. – Start of the event \nA total of 33 young women from Calp\, aged 18\, are competing for the title of Festival Queen\, and 26 girls\, aged 8\, for the title of Children’s Queen. \n🎉 The election will take place through a lottery draw in the presence of a notary.\n🎤 Gala hosts: Irune Aguirre and Marcos Maguire \nA large runway will be set up and 1\,800 chairs will be available so that residents and visitors can enjoy this special night. \nMore information: 
URL:https://calpcomunica.calp.es/evento/%f0%9f%91%91%e2%9c%a8-calp-celebrates-the-election-and-coronation-of-the-2025-festival-queens-this-saturday/?lang=en
CATEGORIES:News
ATTACH;FMTTYPE=image/jpeg:https://calpcomunica.calp.es/wp-content/uploads/2025/06/Fiestas.jpg
END:VEVENT
BEGIN:VEVENT
DTSTART;TZID=UTC:20250627T200000
DTEND;TZID=UTC:20250627T213000
DTSTAMP:20260423T124238
CREATED:20250625T102459Z
LAST-MODIFIED:20250625T102459Z
UID:10000393-1751054400-1751059800@calpcomunica.calp.es
SUMMARY:Book Presentation: "Dentro de Ifach" by Rafa Terol
DESCRIPTION:
URL:https://calpcomunica.calp.es/evento/book-presentation-dentro-de-ifach-by-rafa-terol/?lang=en
LOCATION:Saló Blau. Casa de Cultura\, Av. Masnou\, 1\, Calp\, Alacante\, 03710
CATEGORIES:News
ATTACH;FMTTYPE=image/jpeg:https://calpcomunica.calp.es/wp-content/uploads/2025/06/27-06-25-CARTEL-RAFA-TEROL.jpg
END:VEVENT
BEGIN:VEVENT
DTSTART;TZID=UTC:20250626T200000
DTEND;TZID=UTC:20250626T210000
DTSTAMP:20260423T124238
CREATED:20250625T080659Z
LAST-MODIFIED:20250625T080659Z
UID:10000382-1750968000-1750971600@calpcomunica.calp.es
SUMMARY:The Cultural Association "La Música de les Paraules" presents "For Freedom. 50 Years of Democracy in Spain"
DESCRIPTION:
URL:https://calpcomunica.calp.es/evento/the-cultural-association-la-musica-de-les-paraules-presents-for-freedom-50-years-of-democracy-in-spain/?lang=en
LOCATION:Saló Blau. Casa de Cultura\, Av. Masnou\, 1\, Calp\, Alacante\, 03710
CATEGORIES:News
ATTACH;FMTTYPE=image/jpeg:https://calpcomunica.calp.es/wp-content/uploads/2025/06/Recital-poetico-musical.jpg
END:VEVENT
BEGIN:VEVENT
DTSTART;VALUE=DATE:20250626
DTEND;VALUE=DATE:20250627
DTSTAMP:20260423T124238
CREATED:20250626T103124Z
LAST-MODIFIED:20250626T103124Z
UID:10000454-1750896000-1750982399@calpcomunica.calp.es
SUMMARY:What to do in Calp this weekend (27–29 June)
DESCRIPTION:
URL:https://calpcomunica.calp.es/evento/what-to-do-in-calp-this-weekend-27-29-june/?lang=en
CATEGORIES:News
ATTACH;FMTTYPE=image/png:https://calpcomunica.calp.es/wp-content/uploads/2025/05/agenda-ES_35_0-1.png
END:VEVENT
BEGIN:VEVENT
DTSTART;VALUE=DATE:20250626
DTEND;VALUE=DATE:20250627
DTSTAMP:20260423T124238
CREATED:20250626T075216Z
LAST-MODIFIED:20250626T075216Z
UID:10000440-1750896000-1750982399@calpcomunica.calp.es
SUMMARY:CalpPride Celebration
DESCRIPTION:🏳️‍🌈 To celebrate CalPride\, the Calp Town Hall will light up the following landmarks with the colors of the LGTBI+ flag until Sunday: \n✅ Refugio del Viento Roundabout✅ Town Hall Facade
URL:https://calpcomunica.calp.es/evento/calppride-celebration-2/?lang=en
CATEGORIES:Actividades
ATTACH;FMTTYPE=image/jpeg:https://calpcomunica.calp.es/wp-content/uploads/2025/06/505354620_1143675757801209_8260423053314139686_n-1.jpg
END:VEVENT
BEGIN:VEVENT
DTSTART;VALUE=DATE:20250626
DTEND;VALUE=DATE:20250627
DTSTAMP:20260423T124238
CREATED:20250626T074505Z
LAST-MODIFIED:20250626T074505Z
UID:10000436-1750896000-1750982399@calpcomunica.calp.es
SUMMARY:Craft markets
DESCRIPTION:🛍✨ This summer\, don’t miss the Craft Markets of Calp!From June to September\, you can enjoy these traditional seaside markets\, featuring stalls with leather goods\, jewelry\, textiles\, woodcrafts\, scented candles\, and much more.📍 Plaza Mediterráneo (La Fossa Beach)📍 Calle Alemania (Arenal-Bol Beach)🎁 Handcrafted products\, a Mediterranean atmosphere\, and plenty of gift ideas—or the perfect treat for yourself. Come and visit!
URL:https://calpcomunica.calp.es/evento/craft-markets/?lang=en
CATEGORIES:Actividades
ATTACH;FMTTYPE=image/jpeg:https://calpcomunica.calp.es/wp-content/uploads/2025/06/506619192_1143605111141607_5324239223455290458_n.jpg
END:VEVENT
BEGIN:VEVENT
DTSTART;TZID=UTC:20250529T080000
DTEND;TZID=UTC:20250529T170000
DTSTAMP:20260423T124238
CREATED:20250529T135821Z
LAST-MODIFIED:20250529T135822Z
UID:10000251-1748505600-1748538000@calpcomunica.calp.es
SUMMARY:Robotics Summit 2025 (Test Event Lyn)
DESCRIPTION:Robotics Summit 2025 in CES!
URL:https://calpcomunica.calp.es/evento/robotics-summit-2025-test-event-lyn/?lang=en
LOCATION:Campus d’Excelència Empresarial\, Partida Casa Nova\, 1\, M\, Calp\, Alicante\, 03710\, Spain
CATEGORIES:Tecnologia
ATTACH;FMTTYPE=image/jpeg:https://calpcomunica.calp.es/wp-content/uploads/2025/04/ces-1.jpeg
END:VEVENT
END:VCALENDAR