BEGIN:VCALENDAR
VERSION:2.0
PRODID:-//Calp - ECPv6.15.20//NONSGML v1.0//EN
CALSCALE:GREGORIAN
METHOD:PUBLISH
X-WR-CALNAME:Calp
X-ORIGINAL-URL:https://calpcomunica.calp.es/?lang=va-val
X-WR-CALDESC:Events for Calp
REFRESH-INTERVAL;VALUE=DURATION:PT1H
X-Robots-Tag:noindex
X-PUBLISHED-TTL:PT1H
BEGIN:VTIMEZONE
TZID:UTC
BEGIN:STANDARD
TZOFFSETFROM:+0000
TZOFFSETTO:+0000
TZNAME:UTC
DTSTART:20250101T000000
END:STANDARD
END:VTIMEZONE
BEGIN:VEVENT
DTSTART;VALUE=DATE:20260302
DTEND;VALUE=DATE:20260303
DTSTAMP:20260422T095422
CREATED:20260302T073012Z
LAST-MODIFIED:20260302T073012Z
UID:10003810-1772409600-1772495999@calpcomunica.calp.es
SUMMARY:Dossier de Premsa
DESCRIPTION:
URL:https://calpcomunica.calp.es/evento/dossier-de-premsa-132/?lang=va-val
CATEGORIES:Noticies
ATTACH;FMTTYPE=image/jpeg:https://calpcomunica.calp.es/wp-content/uploads/2026/03/619672999_1331645579004225_6566389310431176086_n_3.jpg
END:VEVENT
BEGIN:VEVENT
DTSTART;TZID=UTC:20260303T080000
DTEND;TZID=UTC:20260330T170000
DTSTAMP:20260422T095422
CREATED:20260225T120944Z
LAST-MODIFIED:20260225T120944Z
UID:10003789-1772524800-1774890000@calpcomunica.calp.es
SUMMARY:Exposició Grup Arte-Son
DESCRIPTION:
URL:https://calpcomunica.calp.es/evento/exposicio-grup-arte-son/?lang=va-val
CATEGORIES:Cultura
ATTACH;FMTTYPE=image/jpeg:https://calpcomunica.calp.es/wp-content/uploads/2026/02/PHOTO-2026-02-10-19-14-45.jpg
END:VEVENT
BEGIN:VEVENT
DTSTART;TZID=UTC:20260305T190000
DTEND;TZID=UTC:20260305T203000
DTSTAMP:20260422T095422
CREATED:20260302T114939Z
LAST-MODIFIED:20260302T114939Z
UID:10003817-1772737200-1772742600@calpcomunica.calp.es
SUMMARY:40é aniversari de l’entrada en la Unió Europea
DESCRIPTION:
URL:https://calpcomunica.calp.es/evento/40e-aniversari-de-lentrada-en-la-unio-europea-2/?lang=va-val
CATEGORIES:Cultura
ATTACH;FMTTYPE=image/jpeg:https://calpcomunica.calp.es/wp-content/uploads/2026/02/Aniversario-UE-Calpe-1.jpg
END:VEVENT
BEGIN:VEVENT
DTSTART;VALUE=DATE:20260307
DTEND;VALUE=DATE:20260308
DTSTAMP:20260422T095422
CREATED:20260227T112812Z
LAST-MODIFIED:20260227T112812Z
UID:10003801-1772841600-1772927999@calpcomunica.calp.es
SUMMARY:La Nit Encesa
DESCRIPTION:
URL:https://calpcomunica.calp.es/evento/la-nit-encesa/?lang=va-val
CATEGORIES:Cultura
ATTACH;FMTTYPE=image/jpeg:https://calpcomunica.calp.es/wp-content/uploads/2026/02/CARTEL-GRAL-LA-NIT-ENCESA.jpg
END:VEVENT
BEGIN:VEVENT
DTSTART;TZID=UTC:20260310T170000
DTEND;TZID=UTC:20260310T230000
DTSTAMP:20260422T095422
CREATED:20260306T083044Z
LAST-MODIFIED:20260306T083044Z
UID:10003873-1773162000-1773183600@calpcomunica.calp.es
SUMMARY:Convocatòria Ple
DESCRIPTION:
URL:https://calpcomunica.calp.es/evento/convocatoria-ple/?lang=va-val
CATEGORIES:Anuncios
ATTACH;FMTTYPE=image/jpeg:https://calpcomunica.calp.es/wp-content/uploads/2026/03/20260305_Comunicacion_Anuncio-de-la-convocatoria_page-0001.jpg
END:VEVENT
BEGIN:VEVENT
DTSTART;VALUE=DATE:20260311
DTEND;VALUE=DATE:20260312
DTSTAMP:20260422T095422
CREATED:20260311T122009Z
LAST-MODIFIED:20260311T122009Z
UID:10003948-1773187200-1773273599@calpcomunica.calp.es
SUMMARY:✝️ Quaresma i Setmana Santa Calp 2026 | Actes d’aquest cap de setmana
DESCRIPTION:📅 Divendres 13 de març: Celebració del Crist de Març.\n🕢 19:30 h – Santa Missa i Via Crucis pel nucli antic.\n📅 Dissabte 14 de març: Germandat Penitencial del Silenci.\n⛪ Durant el matí: trasllat del Santíssim Crist de la Súper a la Parròquia de la Mercé.\n🕡 18:30 h – Santa Missa\, benedicció i imposició de medalles als nous confrares i Jurament de Silenci (Parròquia de la Mare de Déu de la Mercé).\n📅 Diumenge 15 de març: Confraria del Santíssim Crist de les Tres Caigudes.\n🕛 12:00 h – Santa Missa\, benedicció i imposició de medalles als nous confrares.
URL:https://calpcomunica.calp.es/evento/%e2%9c%9d%ef%b8%8f-quaresma-i-setmana-santa-calp-2026-actes-daquest-cap-de-setmana/?lang=va-val
CATEGORIES:Actividades
ATTACH;FMTTYPE=image/jpeg:https://calpcomunica.calp.es/wp-content/uploads/2026/03/libro-semana-santa-2026ok_page-0014.jpg
END:VEVENT
BEGIN:VEVENT
DTSTART;TZID=UTC:20260311T193000
DTEND;TZID=UTC:20260311T210000
DTSTAMP:20260422T095422
CREATED:20260310T074432Z
LAST-MODIFIED:20260310T074432Z
UID:10003912-1773257400-1773262800@calpcomunica.calp.es
SUMMARY:Actuació de Toronzo Cannon & Blues Band (Chicago\, USA)
DESCRIPTION:
URL:https://calpcomunica.calp.es/evento/actuacio-de-toronzo-cannon-blues-band-chicago-usa/?lang=va-val
CATEGORIES:Cultura
ATTACH;FMTTYPE=image/jpeg:https://calpcomunica.calp.es/wp-content/uploads/2026/03/DEF_TORONZO-500-X-600_MAIL-1.jpg
END:VEVENT
BEGIN:VEVENT
DTSTART;TZID=UTC:20260317T190000
DTEND;TZID=UTC:20260317T203000
DTSTAMP:20260422T095422
CREATED:20260226T070404Z
LAST-MODIFIED:20260226T070404Z
UID:10003792-1773774000-1773779400@calpcomunica.calp.es
SUMMARY:La comèdia “Ifach” d’Azorín i la seua relació amb Calp.
DESCRIPTION:
URL:https://calpcomunica.calp.es/evento/la-comedia-ifach-dazorin-i-la-seua-relacio-amb-calp/?lang=va-val
CATEGORIES:Cultura
ATTACH;FMTTYPE=image/jpeg:https://calpcomunica.calp.es/wp-content/uploads/2026/02/Azorin-Calpe.jpg
END:VEVENT
BEGIN:VEVENT
DTSTART;VALUE=DATE:20260324
DTEND;VALUE=DATE:20260325
DTSTAMP:20260422T095422
CREATED:20260324T122128Z
LAST-MODIFIED:20260324T122128Z
UID:10004094-1774310400-1774396799@calpcomunica.calp.es
SUMMARY:📊 La violència de gènere a Calp: perfil sociodemogràfic
DESCRIPTION:L’anàlisi dels 89 expedients registrats a Calp permet traçar un perfil de víctimes i agressors i aprofundir en la realitat local vinculada a la violència de gènere.\n🔹 La franja de 25 a 34 anys concentra la major incidència: 37% de les víctimes i 28% dels agressors.\n🔹 La nacionalitat espanyola és la més freqüent en tots dos perfils\, seguida de la colombiana.\n🔹 Destaca la presència de 8 víctimes de 65 anys o més (9%)\, la qual cosa evidencia que aquesta problemàtica també afecta de forma significativa les persones majors.\n🔹 En molts expedients\, víctima i agressor comparteixen nacionalitat\, especialment en els casos d’Espanya i Colòmbia.\n➡️ Llig la nota de premsa completa ací:
URL:https://calpcomunica.calp.es/evento/%f0%9f%93%8a-la-violencia-de-genere-a-calp-perfil-sociodemografic/?lang=va-val
CATEGORIES:Noticies
ATTACH;FMTTYPE=image/jpeg:https://calpcomunica.calp.es/wp-content/uploads/2026/03/Nacionalidad.jpeg
END:VEVENT
BEGIN:VEVENT
DTSTART;VALUE=DATE:20260327
DTEND;VALUE=DATE:20260328
DTSTAMP:20260422T095423
CREATED:20260327T130051Z
LAST-MODIFIED:20260327T130051Z
UID:10004160-1774569600-1774655999@calpcomunica.calp.es
SUMMARY:🚧 El camí vell de Benissa passa a ser d’un únic sentit
DESCRIPTION:
URL:https://calpcomunica.calp.es/evento/%f0%9f%9a%a7-el-cami-vell-de-benissa-passa-a-ser-dun-unic-sentit/?lang=va-val
CATEGORIES:Noticies
ATTACH;FMTTYPE=image/jpeg:https://calpcomunica.calp.es/wp-content/uploads/2026/03/9ff07bdd-7d19-4195-9356-4d4fdb3960cf.jpg
END:VEVENT
BEGIN:VEVENT
DTSTART;TZID=UTC:20260327T200000
DTEND;TZID=UTC:20260327T213000
DTSTAMP:20260422T095423
CREATED:20260324T085550Z
LAST-MODIFIED:20260324T085550Z
UID:10004085-1774641600-1774647000@calpcomunica.calp.es
SUMMARY:La fuga perpendicular
DESCRIPTION:
URL:https://calpcomunica.calp.es/evento/la-fuga-perpendicular/?lang=va-val
CATEGORIES:Cultura
ATTACH;FMTTYPE=image/jpeg:https://calpcomunica.calp.es/wp-content/uploads/2026/03/27-03-Cartel-largometraje-PL.jpg
END:VEVENT
BEGIN:VEVENT
DTSTART;TZID=UTC:20260328T183000
DTEND;TZID=UTC:20260328T200000
DTSTAMP:20260422T095423
CREATED:20260325T101950Z
LAST-MODIFIED:20260325T101950Z
UID:10004106-1774722600-1774728000@calpcomunica.calp.es
SUMMARY:Teatre Infantil
DESCRIPTION:
URL:https://calpcomunica.calp.es/evento/teatre-infantil/?lang=va-val
CATEGORIES:Cultura
ATTACH;FMTTYPE=image/jpeg:https://calpcomunica.calp.es/wp-content/uploads/2026/03/28-03-2026-ritmos-animalescosTEATRO-INFANTIL.jpg
END:VEVENT
BEGIN:VEVENT
DTSTART;TZID=UTC:20260331T180000
DTEND;TZID=UTC:20260331T200000
DTSTAMP:20260422T095423
CREATED:20260317T084830Z
LAST-MODIFIED:20260317T084830Z
UID:10004005-1774980000-1774987200@calpcomunica.calp.es
SUMMARY:Activitat Casa Nova
DESCRIPTION:
URL:https://calpcomunica.calp.es/evento/activitat-casa-nova/?lang=va-val
CATEGORIES:Cultura
ATTACH;FMTTYPE=image/jpeg:https://calpcomunica.calp.es/wp-content/uploads/2026/03/Impacto-Calpe.jpg
END:VEVENT
BEGIN:VEVENT
DTSTART;VALUE=DATE:20260401
DTEND;VALUE=DATE:20260402
DTSTAMP:20260422T095423
CREATED:20260401T094732Z
LAST-MODIFIED:20260401T094732Z
UID:10004223-1775001600-1775087999@calpcomunica.calp.es
SUMMARY:✝️ Setmana Santa a Calp
DESCRIPTION:Les processons de Setmana Santa continuaran demà dijous 2 d’abril amb la Confraria del Jesús Natzaré i la Germandat Penitencial del Silenci de Calp.\nAcí vos deixem els itineraris.
URL:https://calpcomunica.calp.es/evento/%e2%9c%9d%ef%b8%8f-setmana-santa-a-calp/?lang=va-val
CATEGORIES:Actividades
ATTACH;FMTTYPE=image/jpeg:https://calpcomunica.calp.es/wp-content/uploads/2026/04/1.jpg
END:VEVENT
BEGIN:VEVENT
DTSTART;VALUE=DATE:20260409
DTEND;VALUE=DATE:20260410
DTSTAMP:20260422T095423
CREATED:20260409T093541Z
LAST-MODIFIED:20260409T093541Z
UID:10004303-1775692800-1775779199@calpcomunica.calp.es
SUMMARY:📢 Calp impulsa la reconstrucció del sender Calalga-Bassetes.
DESCRIPTION:
URL:https://calpcomunica.calp.es/evento/%f0%9f%93%a2-calp-impulsa-la-reconstruccio-del-sender-calalga-bassetes/?lang=va-val
CATEGORIES:Noticies
ATTACH;FMTTYPE=image/jpeg:https://calpcomunica.calp.es/wp-content/uploads/2026/04/WhatsApp-Image-2026-04-08-at-12.28.08.jpeg
END:VEVENT
BEGIN:VEVENT
DTSTART;TZID=UTC:20260413T200000
DTEND;TZID=UTC:20260413T220000
DTSTAMP:20260422T095423
CREATED:20260413T122918Z
LAST-MODIFIED:20260413T122918Z
UID:10004349-1776110400-1776117600@calpcomunica.calp.es
SUMMARY:Concert
DESCRIPTION:
URL:https://calpcomunica.calp.es/evento/concert-3/?lang=va-val
CATEGORIES:Cultura
ATTACH;FMTTYPE=image/jpeg:https://calpcomunica.calp.es/wp-content/uploads/2026/04/17-04-2026.jpg
END:VEVENT
BEGIN:VEVENT
DTSTART;VALUE=DATE:20260414
DTEND;VALUE=DATE:20260415
DTSTAMP:20260422T095423
CREATED:20260414T113648Z
LAST-MODIFIED:20260414T113648Z
UID:10004364-1776124800-1776211199@calpcomunica.calp.es
SUMMARY:🎶 Calp torna a sonar a Cream Pop
DESCRIPTION:La XX edició del Cream Pop ja escalfa motors amb les seues festes de presentació i amb una nova cita musical este estiu a la platja de la Fossa.\n📍 Festes de presentació:\nDivendres 22 de maig\, a Soda Bar Alacant\, amb Muñeca Rusa\nDissabte 23 de maig\, a Cervezas Althaia d’Altea\, amb Muñeca Rusa\n📍 Festival:\nDissabte 25 de juliol\nPlaça del Mediterrani\, platja de la Fossa\nA partir de les 21:00 h\nDalt de l’escenari estaran Emilia\, Pardo y Bazán\, Kozai Rata\, Xavi Plastik DJ i Joan Mel Punkavinis.
URL:https://calpcomunica.calp.es/evento/%f0%9f%8e%b6-calp-torna-a-sonar-a-cream-pop/?lang=va-val
CATEGORIES:Actividades
ATTACH;FMTTYPE=image/jpeg:https://calpcomunica.calp.es/wp-content/uploads/2026/04/Cream-pop-4.jpeg
END:VEVENT
BEGIN:VEVENT
DTSTART;VALUE=DATE:20260416
DTEND;VALUE=DATE:20260417
DTSTAMP:20260422T095423
CREATED:20260416T094320Z
LAST-MODIFIED:20260416T094320Z
UID:10004400-1776297600-1776383999@calpcomunica.calp.es
SUMMARY:Qué fer a Calp aquest cap de setmana
DESCRIPTION:
URL:https://calpcomunica.calp.es/evento/que-fer-a-calp-aquest-cap-de-setmana-2/?lang=va-val
CATEGORIES:Cultura
ATTACH;FMTTYPE=image/png:https://calpcomunica.calp.es/wp-content/uploads/2026/03/agenda-VAL.png
END:VEVENT
BEGIN:VEVENT
DTSTART;TZID=UTC:20260418T190000
DTEND;TZID=UTC:20260418T203000
DTSTAMP:20260422T095423
CREATED:20260416T060440Z
LAST-MODIFIED:20260416T060440Z
UID:10004385-1776538800-1776544200@calpcomunica.calp.es
SUMMARY:Teatr
DESCRIPTION:
URL:https://calpcomunica.calp.es/evento/teatr/?lang=va-val
CATEGORIES:Cultura
ATTACH;FMTTYPE=image/jpeg:https://calpcomunica.calp.es/wp-content/uploads/2026/04/1804-2026-TEATRO-CELLER-ROMAN.jpeg
END:VEVENT
END:VCALENDAR