BEGIN:VCALENDAR
VERSION:2.0
PRODID:-//Calp - ECPv6.15.20//NONSGML v1.0//EN
CALSCALE:GREGORIAN
METHOD:PUBLISH
X-WR-CALNAME:Calp
X-ORIGINAL-URL:https://calpcomunica.calp.es/?lang=va-val
X-WR-CALDESC:Events for Calp
REFRESH-INTERVAL;VALUE=DURATION:PT1H
X-Robots-Tag:noindex
X-PUBLISHED-TTL:PT1H
BEGIN:VTIMEZONE
TZID:UTC
BEGIN:STANDARD
TZOFFSETFROM:+0000
TZOFFSETTO:+0000
TZNAME:UTC
DTSTART:20240101T000000
END:STANDARD
END:VTIMEZONE
BEGIN:VEVENT
DTSTART;VALUE=DATE:20250626
DTEND;VALUE=DATE:20250627
DTSTAMP:20260423T100338
CREATED:20250626T074505Z
LAST-MODIFIED:20250626T074505Z
UID:10000434-1750896000-1750982399@calpcomunica.calp.es
SUMMARY:Mercats d'Artesania
DESCRIPTION: Aquest estiu no et perdes els Mercats d’Artesania de Calp!�Des de juny fins a setembre\, pots gaudir dels tradicionals mercats a la vora del mar amb una gran varietat de llocs de marroquineria\, orfebreria\, tèxtil\, fusta\, ciris aromàtics i molt més. Plaça Mediterrani (Platja de la Fossa)� Carrer Alemanya (Platja de l’Arenal-Bol) Artesania\, ambient mediterrani i moltes idees per a regalar o fer-te un detall. Vine a visitar-los!
URL:https://calpcomunica.calp.es/evento/mercats-dartesania/?lang=va-val
CATEGORIES:Actividades
ATTACH;FMTTYPE=image/jpeg:https://calpcomunica.calp.es/wp-content/uploads/2025/06/506619192_1143605111141607_5324239223455290458_n.jpg
END:VEVENT
BEGIN:VEVENT
DTSTART;VALUE=DATE:20250626
DTEND;VALUE=DATE:20250627
DTSTAMP:20260423T100338
CREATED:20250626T075216Z
LAST-MODIFIED:20250626T075216Z
UID:10000441-1750896000-1750982399@calpcomunica.calp.es
SUMMARY:Celebració del CalPride
DESCRIPTION:🏳️‍🌈 Amb motiu de la celebració del CalPride\, l’Ajuntament de Calp il·luminarà fins al diumenge amb els colors de la bandera LGTBI+: \n✅ Rotonda Refugi del Vent\n✅ Façana de l’Ajuntament
URL:https://calpcomunica.calp.es/evento/celebracio-del-calpride-2/?lang=va-val
CATEGORIES:Actividades
ATTACH;FMTTYPE=image/jpeg:https://calpcomunica.calp.es/wp-content/uploads/2025/06/505354620_1143675757801209_8260423053314139686_n-1.jpg
END:VEVENT
BEGIN:VEVENT
DTSTART;VALUE=DATE:20250626
DTEND;VALUE=DATE:20250627
DTSTAMP:20260423T100338
CREATED:20250626T103124Z
LAST-MODIFIED:20250626T103124Z
UID:10000455-1750896000-1750982399@calpcomunica.calp.es
SUMMARY:Què fer a Calp este cap de setmana (27\, 28 i 29 de juny)
DESCRIPTION:
URL:https://calpcomunica.calp.es/evento/que-fer-a-calp-este-cap-de-setmana-27-28-i-29-de-juny/?lang=va-val
CATEGORIES:Noticies
ATTACH;FMTTYPE=image/png:https://calpcomunica.calp.es/wp-content/uploads/2025/05/agenda-ES_35_0-1.png
END:VEVENT
BEGIN:VEVENT
DTSTART;TZID=UTC:20250626T200000
DTEND;TZID=UTC:20250626T210000
DTSTAMP:20260423T100338
CREATED:20250625T080659Z
LAST-MODIFIED:20250625T080659Z
UID:10000383-1750968000-1750971600@calpcomunica.calp.es
SUMMARY:L'Associació Cultural La Música de les Paraules presenta "Per la llibertat. 50 anys de democràcia a Espanya".
DESCRIPTION:
URL:https://calpcomunica.calp.es/evento/lassociacio-cultural-la-musica-de-les-paraules-presenta-per-la-llibertat-50-anys-de-democracia-a-espanya/?lang=va-val
LOCATION:Saló Blau. Casa de Cultura\, Av. Masnou\, 1\, Calp\, Alacante\, 03710
CATEGORIES:Noticies
ATTACH;FMTTYPE=image/jpeg:https://calpcomunica.calp.es/wp-content/uploads/2025/06/Recital-poetico-musical.jpg
END:VEVENT
BEGIN:VEVENT
DTSTART;TZID=UTC:20250627T200000
DTEND;TZID=UTC:20250627T213000
DTSTAMP:20260423T100338
CREATED:20250625T102459Z
LAST-MODIFIED:20250625T102728Z
UID:10000394-1751054400-1751059800@calpcomunica.calp.es
SUMMARY:Presentació del llibre: “Dentro de Ifach” de Rafa Terol
DESCRIPTION:
URL:https://calpcomunica.calp.es/evento/presentacio-del-llibre-dentro-de-ifach-de-rafa-terol/?lang=va-val
LOCATION:Saló Blau. Casa de Cultura\, Av. Masnou\, 1\, Calp\, Alacante\, 03710
CATEGORIES:Noticies
ATTACH;FMTTYPE=image/jpeg:https://calpcomunica.calp.es/wp-content/uploads/2025/06/27-06-25-CARTEL-RAFA-TEROL.jpg
END:VEVENT
BEGIN:VEVENT
DTSTART;TZID=UTC:20250628T213000
DTEND;TZID=UTC:20250629T000000
DTSTAMP:20260423T100338
CREATED:20250627T095004Z
LAST-MODIFIED:20250627T095004Z
UID:10000474-1751146200-1751155200@calpcomunica.calp.es
SUMMARY:👑✨ Calp celebra aquest dissabte l’elecció i coronació de les Reines de les Festes 2025
DESCRIPTION:📅 Dissabte\, 28 de juny\n📍 Plaça Major\n🕤 21.30 h – Inici de l’acte \nUn total de 33 joves calpines de 18 anys opten al títol de Reina de les Festes\, i 26 xiquetes de 8 anys al de Reina Infantil. \n🎉 L’elecció es realitzarà per sorteig davant notari. \n🎤 Presenten la gala: Irune Aguirre i Marcos Maguire \nS’habilitarà una gran passarel·la i es disposaran 1.800 cadires perquè veïns i visitants puguen gaudir d’aquesta nit tan especial. \nMés informació:
URL:https://calpcomunica.calp.es/evento/%f0%9f%91%91%e2%9c%a8-calp-celebra-aquest-dissabte-leleccio-i-coronacio-de-les-reines-de-les-festes-2025/?lang=va-val
CATEGORIES:Noticies
ATTACH;FMTTYPE=image/jpeg:https://calpcomunica.calp.es/wp-content/uploads/2025/06/Fiestas.jpg
END:VEVENT
BEGIN:VEVENT
DTSTART;TZID=UTC:20250629T180000
DTEND;TZID=UTC:20250629T200000
DTSTAMP:20260423T100338
CREATED:20250625T104109Z
LAST-MODIFIED:20250625T104109Z
UID:10000399-1751220000-1751227200@calpcomunica.calp.es
SUMMARY:🌞💃 Donem la benvinguda a l’estiu al Centre Cívic!
DESCRIPTION:Aquest diumenge 29 de juny a les 18.00 h\, t’esperem per a celebrar junts l’inici de l’estiu amb:\n🎶 Ball\n🥤 Orxata i fartons per a totes les persones assistents
URL:https://calpcomunica.calp.es/evento/%f0%9f%8c%9e%f0%9f%92%83-donem-la-benvinguda-a-lestiu-al-centre-civic/?lang=va-val
CATEGORIES:Actividades
ATTACH;FMTTYPE=image/jpeg:https://calpcomunica.calp.es/wp-content/uploads/2025/06/Hola-Verano-Centre-Civic-2025_page-0001.jpg
END:VEVENT
BEGIN:VEVENT
DTSTART;VALUE=DATE:20250630
DTEND;VALUE=DATE:20250701
DTSTAMP:20260423T100338
CREATED:20250630T081956Z
LAST-MODIFIED:20250630T081956Z
UID:10000497-1751241600-1751327999@calpcomunica.calp.es
SUMMARY:Agenda Cultura juliol i agost
DESCRIPTION:L’agenda cultural de juliol i agost ve repleta d’activitats.\nConsulta la programació i no et perdes res.
URL:https://calpcomunica.calp.es/evento/agenda-cultura-juliol-i-agost/?lang=va-val
CATEGORIES:Cultura
ATTACH;FMTTYPE=image/jpeg:https://calpcomunica.calp.es/wp-content/uploads/2025/06/2025-AGENDA-CULTURAL-JULIO-AGOSTO-1-scaled.jpg
END:VEVENT
BEGIN:VEVENT
DTSTART;TZID=UTC:20250630T200000
DTEND;TZID=UTC:20250630T220000
DTSTAMP:20260423T100338
CREATED:20250626T090530Z
LAST-MODIFIED:20250626T090530Z
UID:10000451-1751313600-1751320800@calpcomunica.calp.es
SUMMARY:🎶🎶 Concert d'una nit d'estiu a càrrec de l'Orquestra Filharmònica de la Universitat d'Alacant
DESCRIPTION:Directora convidada: Gena Llévano. Concertino: Antonio García Egea. \n📅 Dilluns 30 de juny a les 20 hores a l’Auditori de la Casa de Cultura. \n🎟🎟 Entrada gratuïta limitada a l’aforament.
URL:https://calpcomunica.calp.es/evento/%f0%9f%8e%b6%f0%9f%8e%b6-concert-duna-nit-destiu-a-carrec-de-lorquestra-filharmonica-de-la-universitat-dalacant/?lang=va-val
LOCATION:Auditorio. Casa de Cultura\, Av. Masnou\, 1\, Calp\, Alicante\, 03710\, Spain
CATEGORIES:Actividades
ATTACH;FMTTYPE=image/jpeg:https://calpcomunica.calp.es/wp-content/uploads/2025/06/Concierto-OFA.jpeg
END:VEVENT
BEGIN:VEVENT
DTSTART;VALUE=DATE:20250701
DTEND;VALUE=DATE:20250702
DTSTAMP:20260423T100338
CREATED:20250701T063526Z
LAST-MODIFIED:20250701T063526Z
UID:10000508-1751328000-1751414399@calpcomunica.calp.es
SUMMARY:DOSSIER DE PREMSA 1DE JULIOL
DESCRIPTION: Ací podeu consultar el dossier de premsa amb les notícies que els mitjans de comunicació han publicat sobre Calp.
URL:https://calpcomunica.calp.es/evento/dossier-de-premsa-1de-juliol/?lang=va-val
CATEGORIES:Noticies
ATTACH;FMTTYPE=image/jpeg:https://calpcomunica.calp.es/wp-content/uploads/2025/07/DP-JULIOL-01.jpg
END:VEVENT
BEGIN:VEVENT
DTSTART;TZID=UTC:20250702T160000
DTEND;TZID=UTC:20250704T140000
DTSTAMP:20260423T100338
CREATED:20250626T085138Z
LAST-MODIFIED:20250626T085138Z
UID:10000447-1751472000-1751637600@calpcomunica.calp.es
SUMMARY:🗣🗣 La Seu Universitària de #Calp organitza el curs "Habilitats de IA\, Comunicació i lideratge en l'era digital"
DESCRIPTION:📆 2\, 3 i 4 de juliol. \n👉 En la Seu Universitària de Calp-Casa Nova. \nTarifa general: 105\,00 €.Les 25 primeres persones\, per ordre de preinscripció\, tindran tarifes amb descompte.
URL:https://calpcomunica.calp.es/evento/%f0%9f%97%a3%f0%9f%97%a3-la-seu-universitaria-de-calp-organitza-el-curs-habilitats-de-ia-comunicacio-i-lideratge-en-lera-digital/?lang=va-val
LOCATION:Campus d’Excelència Empresarial\, Partida Casa Nova\, 1\, M\, Calp\, Alicante\, 03710\, Spain
CATEGORIES:Noticies
ATTACH;FMTTYPE=image/jpeg:https://calpcomunica.calp.es/wp-content/uploads/2025/06/Jornada-habilidades.jpeg
END:VEVENT
BEGIN:VEVENT
DTSTART;VALUE=DATE:20250704
DTEND;VALUE=DATE:20250705
DTSTAMP:20260423T100338
CREATED:20250704T095002Z
LAST-MODIFIED:20250704T095002Z
UID:10000583-1751587200-1751673599@calpcomunica.calp.es
SUMMARY:CREAMA celebra 30 anys de treball comú per la Marina Alta
DESCRIPTION:CREAMA celebra 30 anys de treball comú per la Marina Alta
URL:https://calpcomunica.calp.es/evento/creama-celebra-30-anys-de-treball-comu-per-la-marina-alta-2/?lang=va-val
CATEGORIES:Noticies
ATTACH;FMTTYPE=image/jpeg:https://calpcomunica.calp.es/wp-content/uploads/2025/07/070325-30-aniversario-creama.jpg
END:VEVENT
BEGIN:VEVENT
DTSTART;TZID=UTC:20250704T170000
DTEND;TZID=UTC:20250704T203000
DTSTAMP:20260423T100338
CREATED:20250630T115132Z
LAST-MODIFIED:20250704T074830Z
UID:10000504-1751648400-1751661000@calpcomunica.calp.es
SUMMARY:❤️🩸 Aquest divendres 4 de juliol de 2025 tens una nova oportunitat per a salvar vides donant sang a Calp.
DESCRIPTION:📍 Lloc: Assemblea Local Creu Roja (C/ María Jorro\, 1 – local -1)\n🕔 Horari: De 17.00 a 20.30 h\n🔗 Requisits: Tindre més de 18 anys\, pesar més de 50 kg i no acudir en dejú.\nLa teua donació pot salvar fins a 3 vides. T’esperem!
URL:https://calpcomunica.calp.es/evento/%e2%9d%a4%ef%b8%8f%f0%9f%a9%b8-aquest-divendres-4-de-juliol-de-2025-tens-una-nova-oportunitat-per-a-salvar-vides-donant-sang-a-calp/?lang=va-val
CATEGORIES:Actividades
ATTACH;FMTTYPE=image/jpeg:https://calpcomunica.calp.es/wp-content/uploads/2025/06/04.07-CALPE-CRUZ-ROJAV.jpg
END:VEVENT
BEGIN:VEVENT
DTSTART;TZID=UTC:20250704T170000
DTEND;TZID=UTC:20250704T203000
DTSTAMP:20260423T100338
CREATED:20250704T075043Z
LAST-MODIFIED:20250704T075043Z
UID:10000565-1751648400-1751661000@calpcomunica.calp.es
SUMMARY:❤️🩸 Aquest divendres 4 de juliol de 2025 tens una nova oportunitat per a salvar vides donant sang a Calp.
DESCRIPTION:📍 Lloc: Assemblea Local Creu Roja (C/ María Jorro\, 1 – local -1) \n🕔 Horari: De 17.00 a 20.30 h \n🔗 Requisits: Tindre més de 18 anys\, pesar més de 50 kg i no acudir en dejú. \nLa teua donació pot salvar fins a 3 vides. T’esperem!
URL:https://calpcomunica.calp.es/evento/%e2%9d%a4%ef%b8%8f%f0%9f%a9%b8-aquest-divendres-4-de-juliol-de-2025-tens-una-nova-oportunitat-per-a-salvar-vides-donant-sang-a-calp-2/?lang=va-val
CATEGORIES:Actividades
ATTACH;FMTTYPE=image/jpeg:https://calpcomunica.calp.es/wp-content/uploads/2025/06/04.07-CALPE-CRUZ-ROJAV.jpg
END:VEVENT
BEGIN:VEVENT
DTSTART;TZID=UTC:20250704T193000
DTEND;TZID=UTC:20250704T210000
DTSTAMP:20260423T100338
CREATED:20250702T102932Z
LAST-MODIFIED:20250702T102932Z
UID:10000532-1751657400-1751662800@calpcomunica.calp.es
SUMMARY:Exposició Almendras Amargas de Andrea Chessa
DESCRIPTION:Exposició Almendras Amargas de Andrea Chessa
URL:https://calpcomunica.calp.es/evento/exposicio-almendras-amargas-de-andrea-chessa/?lang=va-val
CATEGORIES:Cultura
ATTACH;FMTTYPE=image/jpeg:https://calpcomunica.calp.es/wp-content/uploads/2025/06/WhatsApp-Image-2025-06-27-at-09.40.32.jpeg
END:VEVENT
BEGIN:VEVENT
DTSTART;TZID=UTC:20250704T200000
DTEND;TZID=UTC:20250704T210000
DTSTAMP:20260423T100338
CREATED:20250701T072043Z
LAST-MODIFIED:20250701T072043Z
UID:10000511-1751659200-1751662800@calpcomunica.calp.es
SUMMARY:🎶🎶Concerte "Estiu a veus" Cor Simfonia Escola Coral Municipal Torrevella.
DESCRIPTION:Concer “Estiu a veus” Cor Simfonia Escola Coral Municipal Torrevella.\nDivendres 4 de juliol\, 20 hores\, Saló Blau de la Casa de Cultura.\nEntrada 5€.
URL:https://calpcomunica.calp.es/evento/%f0%9f%8e%b6%f0%9f%8e%b6concerte-estiu-a-veus-cor-simfonia-escola-coral-municipal-torrevella/?lang=va-val
CATEGORIES:Cultura
ATTACH;FMTTYPE=image/jpeg:https://calpcomunica.calp.es/wp-content/uploads/2025/07/04-07-25-Cartel-CONCIERTO-VERANO-A-VOCES.jpg
END:VEVENT
BEGIN:VEVENT
DTSTART;TZID=UTC:20250705T190000
DTEND;TZID=UTC:20250705T220000
DTSTAMP:20260423T100338
CREATED:20250703T112533Z
LAST-MODIFIED:20250703T112533Z
UID:10000553-1751742000-1751752800@calpcomunica.calp.es
SUMMARY:🎭✨ Els millors musicals de la història de Broadway arriben a Calp
DESCRIPTION:Un recorregut pels musicals més emblemàtics interpretats per l’Orquestra Simfònica Teatre Castelar\, sota la direcció artística d’Octavio J. Peidrò i amb la soprano Cristina Sánchez Montes.\n📅 Dissabte\, 5 de juliol de 2025\n🕖 19 h\n📍 Auditori de la Casa de Cultura (Av. Masnou\, 1)\n🎟️ Entrada lliure fins a completar aforament\nNo t’ho perdes!
URL:https://calpcomunica.calp.es/evento/%f0%9f%8e%ad%e2%9c%a8-els-millors-musicals-de-la-historia-de-broadway-arriben-a-calp/?lang=va-val
CATEGORIES:Actividades
ATTACH;FMTTYPE=image/jpeg:https://calpcomunica.calp.es/wp-content/uploads/2025/07/Broadway.jpg
END:VEVENT
BEGIN:VEVENT
DTSTART;TZID=UTC:20250705T200000
DTEND;TZID=UTC:20250705T233000
DTSTAMP:20260423T100338
CREATED:20250704T085449Z
LAST-MODIFIED:20250704T085449Z
UID:10000574-1751745600-1751758200@calpcomunica.calp.es
SUMMARY:FIRA A LA PLAÇA
DESCRIPTION:FIRA A LA PLAÇA
URL:https://calpcomunica.calp.es/evento/fira-a-la-placa/?lang=va-val
CATEGORIES:Actividades
ATTACH;FMTTYPE=image/jpeg:https://calpcomunica.calp.es/wp-content/uploads/2025/07/777d8081-31f7-47cf-aaeb-b0c0ab4588ed.jpg
END:VEVENT
BEGIN:VEVENT
DTSTART;TZID=UTC:20250706T200000
DTEND;TZID=UTC:20250706T220000
DTSTAMP:20260423T100338
CREATED:20250704T090642Z
LAST-MODIFIED:20250704T090642Z
UID:10000577-1751832000-1751839200@calpcomunica.calp.es
SUMMARY:🎶 Concert Itinerant al Centre Històric
DESCRIPTION:La Unió Musical Calp Ifach omplirà de música els carrers del nucli antic amb un concert itinerant.\n📅 Diumenge\, 6 de juliol de 2025\n🕗 20 h – Inici al C/ La Font\n📍 Recorregut pels carrers del Centre Històric
URL:https://calpcomunica.calp.es/evento/%f0%9f%8e%b6-concert-itinerant-al-centre-historic/?lang=va-val
CATEGORIES:Actividades
ATTACH;FMTTYPE=image/jpeg:https://calpcomunica.calp.es/wp-content/uploads/2025/07/concierto-unio-musical.jpg
END:VEVENT
BEGIN:VEVENT
DTSTART;TZID=UTC:20250708T103000
DTEND;TZID=UTC:20250708T120000
DTSTAMP:20260423T100338
CREATED:20250704T093801Z
LAST-MODIFIED:20250704T093801Z
UID:10000580-1751970600-1751976000@calpcomunica.calp.es
SUMMARY:Exposició “Llúria. Señores y Señoras de la Tierra”
DESCRIPTION:Exposició “Llúria. Señores y Señoras de la Tierra”
URL:https://calpcomunica.calp.es/evento/exposicio-lluria-senores-y-senoras-de-la-tierra/?lang=va-val
CATEGORIES:Cultura
ATTACH;FMTTYPE=image/jpeg:https://calpcomunica.calp.es/wp-content/uploads/2025/07/cartel-LLURIA-CASTELLANO-scaled.jpg
END:VEVENT
BEGIN:VEVENT
DTSTART;VALUE=DATE:20250709
DTEND;VALUE=DATE:20250710
DTSTAMP:20260423T100338
CREATED:20250709T094736Z
LAST-MODIFIED:20250709T094736Z
UID:10000646-1752019200-1752105599@calpcomunica.calp.es
SUMMARY:Cinema a la Mar
DESCRIPTION:Cinema a la Mar
URL:https://calpcomunica.calp.es/evento/cinema-a-la-mar/?lang=va-val
CATEGORIES:Cultura
ATTACH;FMTTYPE=image/jpeg:https://calpcomunica.calp.es/wp-content/uploads/2025/07/10-07-25-KUNG-FU-PANDA-4.jpg
END:VEVENT
BEGIN:VEVENT
DTSTART;TZID=UTC:20250711T200000
DTEND;TZID=UTC:20250711T220000
DTSTAMP:20260423T100338
CREATED:20250710T074244Z
LAST-MODIFIED:20250710T074244Z
UID:10000661-1752264000-1752271200@calpcomunica.calp.es
SUMMARY:🎶✨ XXII Campanya de Concerts d’Intercanvis Musicals
DESCRIPTION:Aquest divendres gaudeix d’un concert especial de la mà de la Societat Recreativa Musical d’Altea la Vella i l’Agrupació Musical CLAUdeFA de Calp.\n📅 Divendres\, 11 de juliol\n🕗 20 h\n📍 Auditori – Casa de Cultura\n🎟️ Entrada lliure fins a completar aforament
URL:https://calpcomunica.calp.es/evento/%f0%9f%8e%b6%e2%9c%a8-xxii-campanya-de-concerts-dintercanvis-musicals/?lang=va-val
CATEGORIES:Actividades
ATTACH;FMTTYPE=image/jpeg:https://calpcomunica.calp.es/wp-content/uploads/2025/07/11-07-25-Cartel-CONCIERTO-INTERCAMBIO-CLAUDEFA.jpg
END:VEVENT
BEGIN:VEVENT
DTSTART;TZID=UTC:20250712T210000
DTEND;TZID=UTC:20250712T230000
DTSTAMP:20260423T100338
CREATED:20250704T084031Z
LAST-MODIFIED:20250704T084031Z
UID:10000571-1752354000-1752361200@calpcomunica.calp.es
SUMMARY:🏃‍♂️🏃‍♀️ V Trail Nocturn Lluna d’Oltà
DESCRIPTION:2 opcions: \n✅ Trail: 15 km \n✅ Senderisme: 10 km \n🗓️ 12 de juliol \n🕘 21 h \n📌 Organitza: Grup de Muntanya de Calp \n✅ Inscripcions: 
URL:https://calpcomunica.calp.es/evento/%f0%9f%8f%83%e2%99%82%ef%b8%8f%f0%9f%8f%83%e2%99%80%ef%b8%8f-v-trail-nocturn-lluna-dolta/?lang=va-val
CATEGORIES:Actividades
ATTACH;FMTTYPE=image/jpeg:https://calpcomunica.calp.es/wp-content/uploads/2025/07/Trail-1.jpeg
END:VEVENT
BEGIN:VEVENT
DTSTART;TZID=UTC:20250715T220000
DTEND;TZID=UTC:20250715T235900
DTSTAMP:20260423T100338
CREATED:20250714T110530Z
LAST-MODIFIED:20250714T110530Z
UID:10000706-1752616800-1752623940@calpcomunica.calp.es
SUMMARY:🎬🌊 Torna Cinema a la Mar a Calp!
DESCRIPTION:Gaudeix d’una nit de cinema a l’aire lliure a la Platja de la Fossa amb la projecció de la divertida comèdia “Campeonex”\, dirigida per Javier Fesser.\n📅 Dimarts\, 15 de juliol\n🕙 22 h\n📍 Platja de la Fossa\nT’esperem!
URL:https://calpcomunica.calp.es/evento/%f0%9f%8e%ac%f0%9f%8c%8a-torna-cinema-a-la-mar-a-calp/?lang=va-val
CATEGORIES:Actividades
ATTACH;FMTTYPE=image/jpeg:https://calpcomunica.calp.es/wp-content/uploads/2025/07/Campeones.jpg
END:VEVENT
BEGIN:VEVENT
DTSTART;TZID=UTC:20250717T220000
DTEND;TZID=UTC:20250717T233000
DTSTAMP:20260423T100338
CREATED:20250716T093730Z
LAST-MODIFIED:20250716T093730Z
UID:10000736-1752789600-1752795000@calpcomunica.calp.es
SUMMARY:🎬🌊 Demà tenim nova sessió de Cinema a la Mar a Calp!
DESCRIPTION:Vine a gaudir d’una nit de cinema a l’aire lliure amb la projecció de “Trolls 3: Tots Junts”\, una divertida pel·lícula d’animació per a tota la família.\n📅 Dijous\, 17 de juliol\n🕙 22 h\n📍 Platja de l’Arenal-Bol
URL:https://calpcomunica.calp.es/evento/%f0%9f%8e%ac%f0%9f%8c%8a-dema-tenim-nova-sessio-de-cinema-a-la-mar-a-calp/?lang=va-val
CATEGORIES:Actividades
ATTACH;FMTTYPE=image/jpeg:https://calpcomunica.calp.es/wp-content/uploads/2025/07/Cinema-a-la-mar.jpg
END:VEVENT
BEGIN:VEVENT
DTSTART;TZID=UTC:20250718T220000
DTEND;TZID=UTC:20250718T235900
DTSTAMP:20260423T100338
CREATED:20250714T072549Z
LAST-MODIFIED:20250714T072549Z
UID:10000694-1752876000-1752883140@calpcomunica.calp.es
SUMMARY:🎸✨ Torna el Minifestival Cream Pop a Calp!
DESCRIPTION:XIX edició d’aquest festival que combina música independent\, ambient divertit i la brisa del port de Calp.\nEnguany amb els concerts de:\n🎤 Venturi\n🎸 Alison Darwin\n🥁 L’Home Brut\n📅 Divendres\, 18 de juliol\n📍 Port de Calp\n🎟️ Entrada gratuïta
URL:https://calpcomunica.calp.es/evento/%f0%9f%8e%b8%e2%9c%a8-torna-el-minifestival-cream-pop-a-calp/?lang=va-val
CATEGORIES:Actividades
ATTACH;FMTTYPE=image/jpeg:https://calpcomunica.calp.es/wp-content/uploads/2025/07/Cream-pop.jpg
END:VEVENT
BEGIN:VEVENT
DTSTART;TZID=UTC:20250719T200000
DTEND;TZID=UTC:20250719T220000
DTSTAMP:20260423T100338
CREATED:20250717T082920Z
LAST-MODIFIED:20250717T082920Z
UID:10000750-1752955200-1752962400@calpcomunica.calp.es
SUMMARY:🎶✨ Celebra el 25é aniversari dels Xirimiters del Carellot!
DESCRIPTION:Este dissabte vos esperem al Teatre Odeó de la Casa de Cultura per a gaudir d’un concert molt especial amb motiu del 25é aniversari de la colla Xirimiters del Carellot de Calp. \n📅 Dissabte\, 19 de juliol\n🕗 20 h\n📍 Teatre Odeó – Casa de Cultura\n🎟️ Entrada lliure (aforament limitat)
URL:https://calpcomunica.calp.es/evento/%f0%9f%8e%b6%e2%9c%a8-celebra-el-25e-aniversari-dels-xirimiters-del-carellot/?lang=va-val
CATEGORIES:Actividades
ATTACH;FMTTYPE=image/jpeg:https://calpcomunica.calp.es/wp-content/uploads/2025/07/19-07-25-Cartel-CONCIERTO-XIRIMITERS-1.jpg
END:VEVENT
BEGIN:VEVENT
DTSTART;VALUE=DATE:20250721
DTEND;VALUE=DATE:20250722
DTSTAMP:20260423T100338
CREATED:20250721T073930Z
LAST-MODIFIED:20250721T073930Z
UID:10000796-1753056000-1753142399@calpcomunica.calp.es
SUMMARY:Tot preparat per al Calpe Drumt
DESCRIPTION:
URL:https://calpcomunica.calp.es/evento/tot-preparat-per-al-calpe-drumt/?lang=va-val
LOCATION:Plaza Mayor\, Av. de Masnou\, 6\, Calp\, Alicante\, 03710\, Spain
CATEGORIES:Noticies
ATTACH;FMTTYPE=image/jpeg:https://calpcomunica.calp.es/wp-content/uploads/2025/07/DRUMT-PANEL.jpg
END:VEVENT
BEGIN:VEVENT
DTSTART;VALUE=DATE:20250721
DTEND;VALUE=DATE:20250722
DTSTAMP:20260423T100338
CREATED:20250721T103037Z
LAST-MODIFIED:20250721T103816Z
UID:10000802-1753056000-1753142399@calpcomunica.calp.es
SUMMARY:L'Ajuntament de Calp i l'Institut d’Estudis Comarcals de la Marina Alta firmen un conveni de col·laboració per a promoure la història i la cultura local
DESCRIPTION:
URL:https://calpcomunica.calp.es/evento/lajuntament-de-calp-i-linstitut-destudis-comarcals-de-la-marina-alta-firmen-un-conveni-de-col%c2%b7laboracio-per-a-promoure-la-historia-i-la-cultura-local/?lang=va-val
CATEGORIES:Noticies
ATTACH;FMTTYPE=image/jpeg:https://calpcomunica.calp.es/wp-content/uploads/2025/07/Casa-Cultura-Calp-scaled.jpg
END:VEVENT
BEGIN:VEVENT
DTSTART;TZID=UTC:20250721T180000
DTEND;TZID=UTC:20250721T230000
DTSTAMP:20260423T100338
CREATED:20250716T081117Z
LAST-MODIFIED:20250716T081117Z
UID:10000733-1753120800-1753138800@calpcomunica.calp.es
SUMMARY:Més de 70 bateries en el Calp Drumt en el Dia Nacional de Bèlgica
DESCRIPTION:
URL:https://calpcomunica.calp.es/evento/mes-de-70-bateries-en-el-calp-drumt-en-el-dia-nacional-de-belgica/?lang=va-val
LOCATION:Plaza Mayor\, Av. de Masnou\, 6\, Calp\, Alicante\, 03710\, Spain
CATEGORIES:Noticies
ATTACH;FMTTYPE=image/jpeg:https://calpcomunica.calp.es/wp-content/uploads/2025/07/DRUMT-PANEL.jpg
END:VEVENT
END:VCALENDAR