BEGIN:VCALENDAR
VERSION:2.0
PRODID:-//Calp - ECPv6.15.20//NONSGML v1.0//EN
CALSCALE:GREGORIAN
METHOD:PUBLISH
X-WR-CALNAME:Calp
X-ORIGINAL-URL:https://calpcomunica.calp.es/?lang=en
X-WR-CALDESC:Events for Calp
REFRESH-INTERVAL;VALUE=DURATION:PT1H
X-Robots-Tag:noindex
X-PUBLISHED-TTL:PT1H
BEGIN:VTIMEZONE
TZID:UTC
BEGIN:STANDARD
TZOFFSETFROM:+0000
TZOFFSETTO:+0000
TZNAME:UTC
DTSTART:20240101T000000
END:STANDARD
END:VTIMEZONE
BEGIN:VEVENT
DTSTART;VALUE=DATE:20251104
DTEND;VALUE=DATE:20251105
DTSTAMP:20260422T222118
CREATED:20251104T090905Z
LAST-MODIFIED:20251104T090905Z
UID:10002292-1762214400-1762300799@calpcomunica.calp.es
SUMMARY:Green Flags
DESCRIPTION:
URL:https://calpcomunica.calp.es/evento/green-flags/?lang=en
CATEGORIES:News
ATTACH;FMTTYPE=image/jpeg:https://calpcomunica.calp.es/wp-content/uploads/2025/11/8c02df4d-f63c-4d23-bb16-2a967a746e10.jpg
END:VEVENT
BEGIN:VEVENT
DTSTART;VALUE=DATE:20251106
DTEND;VALUE=DATE:20251107
DTSTAMP:20260422T222118
CREATED:20251106T082742Z
LAST-MODIFIED:20251106T082742Z
UID:10002323-1762387200-1762473599@calpcomunica.calp.es
SUMMARY:💶 New Subsidies Received by Calp Town Council
DESCRIPTION:Calp Town Council has received various financial grants from the Generalitat Valenciana (Valencian regional government) aimed at promoting training\, employment\, and public health in the municipality.\n📘 €9\,662.59\nOriginating from the General Directorate of Educational Centres\, for adult education/training in the Valencian Community during the 2025 financial year.\n💧 €531.93\nFrom the General Directorate of Public Health\, for the treatment and control of vectors relevant to public health in municipalities of the Valencian Community.\n👥 €25\,208.27\nFrom LABORA – Valencian Employment and Training Service\, intended for the hiring of unemployed people with severe mental disorders or severe mental health issues by local entities.
URL:https://calpcomunica.calp.es/evento/%f0%9f%92%b6-new-subsidies-received-by-calp-town-council/?lang=en
CATEGORIES:Actividades
ATTACH;FMTTYPE=image/jpeg:https://calpcomunica.calp.es/wp-content/uploads/2025/11/Subvenciones-1.jpg
END:VEVENT
BEGIN:VEVENT
DTSTART;VALUE=DATE:20251106
DTEND;VALUE=DATE:20251107
DTSTAMP:20260422T222118
CREATED:20251106T084408Z
LAST-MODIFIED:20251106T084408Z
UID:10002326-1762387200-1762473599@calpcomunica.calp.es
SUMMARY:🌊 Calp inaugurates the II “Calp Blau” Environmental Sea Conference 2025 🌿
DESCRIPTION:Yesterday\, the official inauguration of the II Conference “Calp Blau: Resilience and Action for the Coast of Calp” was held at the Casa Nova University Headquarters\, with the participation of Mayor Ana Sala and the Councillor for the Environment\, Pere Moll.\nThese conferences\, which take place from November 5th to 8th\, bring together experts\, researchers\, and organizations committed to the conservation of the marine environment and the protection of the coastline.\n📅 Today\, Thursday\, November 6th\, the program includes presentations and round tables on:\nMonitoring and removal of abandoned fishing gear in the Valencian Community.\nResearch projects on the seabed of the Peñón de Ifach (Ifach Rock).\nConservation challenges for Posidonia (Neptune Grass).
URL:https://calpcomunica.calp.es/evento/%f0%9f%8c%8a-calp-inaugurates-the-ii-calp-blau-environmental-sea-conference-2025-%f0%9f%8c%bf/?lang=en
CATEGORIES:Actividades
ATTACH;FMTTYPE=image/jpeg:https://calpcomunica.calp.es/wp-content/uploads/2025/11/WhatsApp-Image-2025-11-06-at-09.04.06.jpeg
END:VEVENT
BEGIN:VEVENT
DTSTART;VALUE=DATE:20251107
DTEND;VALUE=DATE:20251108
DTSTAMP:20260422T222118
CREATED:20251107T091804Z
LAST-MODIFIED:20251107T091804Z
UID:10002350-1762473600-1762559999@calpcomunica.calp.es
SUMMARY:🐟 Flavours of the Sea (Sabors de la Mar) comes to Calp 🌊
DESCRIPTION:Next Saturday\, November 15th\, Calp’s Plaza Mayor (Main Square) will host Sabors de la Mar\, a gastronomic event open to the public to enjoy the flavour of the sea and highlight the native fish from our coast. \nThe project is an initiative of Creama as the technical secretariat of Pacte’MA\, subsidized by the FEMPA (European Maritime\, Fisheries and Aquaculture Fund) and the Generalitat Valenciana (Valencian Regional Government).
URL:https://calpcomunica.calp.es/evento/%f0%9f%90%9f-flavours-of-the-sea-sabors-de-la-mar-comes-to-calp-%f0%9f%8c%8a/?lang=en
CATEGORIES:Actividades
ATTACH;FMTTYPE=image/jpeg:https://calpcomunica.calp.es/wp-content/uploads/2025/11/Calp_Generico-Castellano.jpg
END:VEVENT
BEGIN:VEVENT
DTSTART;VALUE=DATE:20251107
DTEND;VALUE=DATE:20251108
DTSTAMP:20260422T222118
CREATED:20251107T113220Z
LAST-MODIFIED:20251107T113220Z
UID:10002362-1762473600-1762559999@calpcomunica.calp.es
SUMMARY:Ordinary plenary session  NoVEMBER
DESCRIPTION:
URL:https://calpcomunica.calp.es/evento/ordinary-plenary-session-november/?lang=en
CATEGORIES:Avisos
ATTACH;FMTTYPE=image/jpeg:https://calpcomunica.calp.es/wp-content/uploads/2025/11/20251106_Comunicacion_Comunicacion-de-la-convocatoria_page-0001.jpg
END:VEVENT
BEGIN:VEVENT
DTSTART;TZID=UTC:20251107T080000
DTEND;TZID=UTC:20251107T230000
DTSTAMP:20260422T222118
CREATED:20251106T101415Z
LAST-MODIFIED:20251106T101415Z
UID:10002335-1762502400-1762556400@calpcomunica.calp.es
SUMMARY:The Blue Night
DESCRIPTION:
URL:https://calpcomunica.calp.es/evento/the-blue-night/?lang=en
CATEGORIES:Culture
ATTACH;FMTTYPE=image/jpeg:https://calpcomunica.calp.es/wp-content/uploads/2025/11/La-Noche-Azul-2025-Post-de-Instagram.jpg
END:VEVENT
BEGIN:VEVENT
DTSTART;TZID=UTC:20251107T193000
DTEND;TZID=UTC:20251107T220000
DTSTAMP:20260422T222118
CREATED:20251103T094354Z
LAST-MODIFIED:20251103T094354Z
UID:10002266-1762543800-1762552800@calpcomunica.calp.es
SUMMARY:Calp talent.
DESCRIPTION:
URL:https://calpcomunica.calp.es/evento/calp-talent/?lang=en
CATEGORIES:Culture
ATTACH;FMTTYPE=image/jpeg:https://calpcomunica.calp.es/wp-content/uploads/2025/11/07-11-2025-RETALES-Y-JONDO.jpg
END:VEVENT
BEGIN:VEVENT
DTSTART;TZID=UTC:20251110T193000
DTEND;TZID=UTC:20251110T213000
DTSTAMP:20260422T222118
CREATED:20251107T095847Z
LAST-MODIFIED:20251107T095847Z
UID:10002359-1762803000-1762810200@calpcomunica.calp.es
SUMMARY:Screening documentary
DESCRIPTION:
URL:https://calpcomunica.calp.es/evento/screening-documentary/?lang=en
CATEGORIES:Culture
ATTACH;FMTTYPE=image/png:https://calpcomunica.calp.es/wp-content/uploads/2025/11/Proyeccion-documental-La-vida-en-una-gota-2.png
END:VEVENT
BEGIN:VEVENT
DTSTART;VALUE=DATE:20251111
DTEND;VALUE=DATE:20251112
DTSTAMP:20260422T222118
CREATED:20251111T084622Z
LAST-MODIFIED:20251111T084622Z
UID:10002397-1762819200-1762905599@calpcomunica.calp.es
SUMMARY:The programme of the 3rd Health Protection Conference
DESCRIPTION:
URL:https://calpcomunica.calp.es/evento/the-programme-of-the-3rd-health-protection-conference/?lang=en
CATEGORIES:Actividades
ATTACH;FMTTYPE=image/jpeg:https://calpcomunica.calp.es/wp-content/uploads/2025/11/Jornada-salud.jpeg
END:VEVENT
BEGIN:VEVENT
DTSTART;VALUE=DATE:20251112
DTEND;VALUE=DATE:20251113
DTSTAMP:20260422T222118
CREATED:20251112T094659Z
LAST-MODIFIED:20251112T094659Z
UID:10002419-1762905600-1762991999@calpcomunica.calp.es
SUMMARY:🐟 “Sabors de la Mar” (Flavours of the Sea) comes to Calp this Saturday\, November 15th 🌊
DESCRIPTION:Calp’s Plaza Mayor (Main Square) will host a new edition of these gastronomic days dedicated to local fish\, featuring culinary workshops\, showcooking\, tastings\, and live music 🎶 \n📅 Saturday\, November 15th\, 2025  \n📍 Plaza Mayor de Calp  \n🕙 Starting at 10:00 am  \n🎈 Children’s entertainment from 10:00 am to 2:00 pm \n📣 The project is an initiative of Creama as the technical secretariat of Pacte’MA\, subsidised by the EMFAF (European Maritime\, Fisheries and Aquaculture Fund) and the Generalitat Valenciana (Valencian Regional Government).
URL:https://calpcomunica.calp.es/evento/%f0%9f%90%9f-sabors-de-la-mar-flavours-of-the-sea-comes-to-calp-this-saturday-november-15th-%f0%9f%8c%8a/?lang=en
CATEGORIES:Actividades
ATTACH;FMTTYPE=image/jpeg:https://calpcomunica.calp.es/wp-content/uploads/2025/11/Generic-Jornades-Valencia.jpg
END:VEVENT
BEGIN:VEVENT
DTSTART;TZID=UTC:20251112T193000
DTEND;TZID=UTC:20251112T213000
DTSTAMP:20260422T222118
CREATED:20251106T084803Z
LAST-MODIFIED:20251106T084803Z
UID:10002329-1762975800-1762983000@calpcomunica.calp.es
SUMMARY:Calp Next Solutions Project
DESCRIPTION:
URL:https://calpcomunica.calp.es/evento/calp-next-solutions-project/?lang=en
CATEGORIES:Anuncios,News
ATTACH;FMTTYPE=image/jpeg:https://calpcomunica.calp.es/wp-content/uploads/2025/11/1.jpg
END:VEVENT
BEGIN:VEVENT
DTSTART;VALUE=DATE:20251114
DTEND;VALUE=DATE:20251115
DTSTAMP:20260422T222118
CREATED:20251114T084424Z
LAST-MODIFIED:20251114T084424Z
UID:10002467-1763078400-1763164799@calpcomunica.calp.es
SUMMARY:🧠 The III Health Protection Conference begins this Monday organised by Calp City Council at the Casa Nova University Headquarters\, an event focused this year on the theme “From Mental Health to Social Health”.
DESCRIPTION:During November 17th and 18th\, health and social professionals will address key topics such as emotional well-being\, socio-sanitary coordination\, anxiety and depression\, suicide\, caregiving\, and current challenges in mental health. \n📍 Casa Nova University Headquarters  \n📅 Monday\, November 17th and Tuesday\, November 18th  \n🕙 Starting at 10:00 am  \n➡️ You can find the full program in the images.
URL:https://calpcomunica.calp.es/evento/%f0%9f%a7%a0-the-iii-health-protection-conference-begins-this-monday-organised-by-calp-city-council-at-the-casa-nova-university-headquarters-an-event-focused-this-year-on-the-theme-from-ment/?lang=en
CATEGORIES:Actividades
ATTACH;FMTTYPE=image/jpeg:https://calpcomunica.calp.es/wp-content/uploads/2025/11/Salud-1.jpg
END:VEVENT
BEGIN:VEVENT
DTSTART;TZID=UTC:20251115T100000
DTEND;TZID=UTC:20251115T143000
DTSTAMP:20260422T222118
CREATED:20251113T091349Z
LAST-MODIFIED:20251113T091349Z
UID:10002443-1763200800-1763217000@calpcomunica.calp.es
SUMMARY:World Children’s Da
DESCRIPTION:
URL:https://calpcomunica.calp.es/evento/world-childrens-da/?lang=en
CATEGORIES:Anuncios
ATTACH;FMTTYPE=image/png:https://calpcomunica.calp.es/wp-content/uploads/2025/11/DIA-DE-LA-INFANCIA.-15.11.25.png
END:VEVENT
BEGIN:VEVENT
DTSTART;TZID=UTC:20251116T183000
DTEND;TZID=UTC:20251116T203000
DTSTAMP:20260422T222118
CREATED:20251114T083745Z
LAST-MODIFIED:20251114T083745Z
UID:10002464-1763317800-1763325000@calpcomunica.calp.es
SUMMARY:Theatre Festiva
DESCRIPTION:
URL:https://calpcomunica.calp.es/evento/theatre-festiva/?lang=en
CATEGORIES:Culture
ATTACH;FMTTYPE=image/jpeg:https://calpcomunica.calp.es/wp-content/uploads/2025/11/16-11-2025-7-ANOS.jpg
END:VEVENT
BEGIN:VEVENT
DTSTART;TZID=UTC:20251119T193000
DTEND;TZID=UTC:20251119T210000
DTSTAMP:20260422T222118
CREATED:20251107T093620Z
LAST-MODIFIED:20251107T093620Z
UID:10002356-1763580600-1763586000@calpcomunica.calp.es
SUMMARY:Talk about the Baños de la Reina
DESCRIPTION:
URL:https://calpcomunica.calp.es/evento/talk-about-the-banos-de-la-reina/?lang=en
CATEGORIES:Culture
ATTACH;FMTTYPE=image/png:https://calpcomunica.calp.es/wp-content/uploads/2025/11/Charla-audiovisual.png
END:VEVENT
BEGIN:VEVENT
DTSTART;VALUE=DATE:20251125
DTEND;VALUE=DATE:20251126
DTSTAMP:20260422T222118
CREATED:20251125T111640Z
LAST-MODIFIED:20251125T111640Z
UID:10002618-1764028800-1764115199@calpcomunica.calp.es
SUMMARY:Shopping Vouchers a
DESCRIPTION:
URL:https://calpcomunica.calp.es/evento/shopping-vouchers-a/?lang=en
CATEGORIES:Avisos
END:VEVENT
BEGIN:VEVENT
DTSTART;VALUE=DATE:20251125
DTEND;VALUE=DATE:20251126
DTSTAMP:20260422T222118
CREATED:20251125T131006Z
LAST-MODIFIED:20251125T131006Z
UID:10002624-1764028800-1764115199@calpcomunica.calp.es
SUMMARY:Do you know which container you should use to dispose of your waste?
DESCRIPTION:
URL:https://calpcomunica.calp.es/evento/do-you-know-which-container-you-should-use-to-dispose-of-your-waste/?lang=en
CATEGORIES:Avisos
ATTACH;FMTTYPE=image/jpeg:https://calpcomunica.calp.es/wp-content/uploads/2025/11/REciclatge1.jpg
END:VEVENT
BEGIN:VEVENT
DTSTART;TZID=UTC:20251130T183000
DTEND;TZID=UTC:20251130T210000
DTSTAMP:20260422T222118
CREATED:20251124T103705Z
LAST-MODIFIED:20251128T122704Z
UID:10002595-1764527400-1764536400@calpcomunica.calp.es
SUMMARY:Closing Ceremony of the Theatre Festival
DESCRIPTION:
URL:https://calpcomunica.calp.es/evento/closing-ceremony-of-the-theatre-festival/?lang=en
CATEGORIES:Culture
ATTACH;FMTTYPE=image/jpeg:https://calpcomunica.calp.es/wp-content/uploads/2025/11/30-11-2025-CERTAMEN-ENTREGA-PREMIOS-Y-FABIOLO-CONNECTION.jpg
END:VEVENT
BEGIN:VEVENT
DTSTART;VALUE=DATE:20251202
DTEND;VALUE=DATE:20251203
DTSTAMP:20260422T222118
CREATED:20251202T085340Z
LAST-MODIFIED:20251202T085340Z
UID:10002692-1764633600-1764719999@calpcomunica.calp.es
SUMMARY:Christmas to your balcony
DESCRIPTION:
URL:https://calpcomunica.calp.es/evento/christmas-to-your-balcony/?lang=en
CATEGORIES:Actividades
ATTACH;FMTTYPE=image/jpeg:https://calpcomunica.calp.es/wp-content/uploads/2025/12/485644623_1078843780951074_3168367145662761340_n.jpg
END:VEVENT
BEGIN:VEVENT
DTSTART;VALUE=DATE:20251202
DTEND;VALUE=DATE:20251203
DTSTAMP:20260422T222118
CREATED:20251202T103843Z
LAST-MODIFIED:20251202T103843Z
UID:10002704-1764633600-1764719999@calpcomunica.calp.es
SUMMARY:Weekly markets
DESCRIPTION:
URL:https://calpcomunica.calp.es/evento/weekly-markets/?lang=en
CATEGORIES:Anuncios
ATTACH;FMTTYPE=image/png:https://calpcomunica.calp.es/wp-content/uploads/2025/12/viernes-1.png
END:VEVENT
BEGIN:VEVENT
DTSTART;VALUE=DATE:20251209
DTEND;VALUE=DATE:20251210
DTSTAMP:20260422T222118
CREATED:20251209T084732Z
LAST-MODIFIED:20251209T084732Z
UID:10002782-1765238400-1765324799@calpcomunica.calp.es
SUMMARY:The limited parking service begins
DESCRIPTION:
URL:https://calpcomunica.calp.es/evento/the-limited-parking-service-begins/?lang=en
CATEGORIES:Avisos
ATTACH;FMTTYPE=image/jpeg:https://calpcomunica.calp.es/wp-content/uploads/2025/12/images.jpg
END:VEVENT
BEGIN:VEVENT
DTSTART;VALUE=DATE:20251210
DTEND;VALUE=DATE:20251211
DTSTAMP:20260422T222118
CREATED:20251210T073836Z
LAST-MODIFIED:20251210T073836Z
UID:10002799-1765324800-1765411199@calpcomunica.calp.es
SUMMARY:Press dossier
DESCRIPTION:
URL:https://calpcomunica.calp.es/evento/press-dossier-103/?lang=en
CATEGORIES:News
ATTACH;FMTTYPE=image/jpeg:https://calpcomunica.calp.es/wp-content/uploads/2025/12/DP-OCTUBRE_12_2.jpg
END:VEVENT
BEGIN:VEVENT
DTSTART;VALUE=DATE:20251217
DTEND;VALUE=DATE:20251218
DTSTAMP:20260422T222118
CREATED:20251217T114641Z
LAST-MODIFIED:20251217T114641Z
UID:10002906-1765929600-1766015999@calpcomunica.calp.es
SUMMARY:Calp obté el reconeixement com a Destinació Turística Intel·ligent
DESCRIPTION:
URL:https://calpcomunica.calp.es/evento/calp-obte-el-reconeixement-com-a-destinacio-turistica-intel%c2%b7ligent/?lang=en
CATEGORIES:News
ATTACH;FMTTYPE=image/jpeg:https://calpcomunica.calp.es/wp-content/uploads/2025/12/Playa-del-Cantal-Roig-04-scaled.jpg
END:VEVENT
BEGIN:VEVENT
DTSTART;TZID=UTC:20251217T190000
DTEND;TZID=UTC:20251217T203000
DTSTAMP:20260422T222118
CREATED:20251205T083533Z
LAST-MODIFIED:20251205T083533Z
UID:10002767-1765998000-1766003400@calpcomunica.calp.es
SUMMARY:Concert
DESCRIPTION:
URL:https://calpcomunica.calp.es/evento/concert-2/?lang=en
CATEGORIES:Culture
ATTACH;FMTTYPE=image/jpeg:https://calpcomunica.calp.es/wp-content/uploads/2025/12/251117_Concierto-Miscelanea-Calpe.jpg
END:VEVENT
BEGIN:VEVENT
DTSTART;TZID=UTC:20251220T203000
DTEND;TZID=UTC:20251220T220000
DTSTAMP:20260422T222118
CREATED:20251215T095110Z
LAST-MODIFIED:20251215T095110Z
UID:10002872-1766262600-1766268000@calpcomunica.calp.es
SUMMARY:Concert by the Unión Musical Calp Ifach.
DESCRIPTION:
URL:https://calpcomunica.calp.es/evento/concert-by-the-union-musical-calp-ifach/?lang=en
CATEGORIES:Culture
ATTACH;FMTTYPE=image/jpeg:https://calpcomunica.calp.es/wp-content/uploads/2025/12/Banda-Calp-Ifach-concierto-20-diciembre_0.jpg
END:VEVENT
BEGIN:VEVENT
DTSTART;VALUE=DATE:20251222
DTEND;VALUE=DATE:20251223
DTSTAMP:20260422T222118
CREATED:20251222T110316Z
LAST-MODIFIED:20251222T110316Z
UID:10002946-1766361600-1766447999@calpcomunica.calp.es
SUMMARY:Merry Christmas.
DESCRIPTION:
URL:https://calpcomunica.calp.es/evento/merry-christmas/?lang=en
CATEGORIES:Anuncios
ATTACH;FMTTYPE=image/png:https://calpcomunica.calp.es/wp-content/uploads/2025/12/Bon-Nadal-1.png
END:VEVENT
BEGIN:VEVENT
DTSTART;VALUE=DATE:20251229
DTEND;VALUE=DATE:20251230
DTSTAMP:20260422T222118
CREATED:20251229T090119Z
LAST-MODIFIED:20251229T090119Z
UID:10003002-1766966400-1767052799@calpcomunica.calp.es
SUMMARY:Cultural Programme for January and February
DESCRIPTION:
URL:https://calpcomunica.calp.es/evento/cultural-programme-for-january-and-february/?lang=en
CATEGORIES:News
ATTACH;FMTTYPE=image/jpeg:https://calpcomunica.calp.es/wp-content/uploads/2025/12/2026-AGENDA-CULTURAL-ENERO-Y-FEBRERO-scaled.jpg
END:VEVENT
BEGIN:VEVENT
DTSTART;VALUE=DATE:20251231
DTEND;VALUE=DATE:20260101
DTSTAMP:20260422T222118
CREATED:20251223T083852Z
LAST-MODIFIED:20251223T083852Z
UID:10002958-1767139200-1767225599@calpcomunica.calp.es
SUMMARY:New Year’s Eve Party
DESCRIPTION:
URL:https://calpcomunica.calp.es/evento/new-years-eve-party/?lang=en
CATEGORIES:Actividades
END:VEVENT
BEGIN:VEVENT
DTSTART;VALUE=DATE:20260109
DTEND;VALUE=DATE:20260110
DTSTAMP:20260422T222118
CREATED:20260109T143612Z
LAST-MODIFIED:20260109T143612Z
UID:10003114-1767916800-1768003199@calpcomunica.calp.es
SUMMARY:Álex Coca Malagón\, new councillor of Calp Town Council
DESCRIPTION:
URL:https://calpcomunica.calp.es/evento/alex-coca-malagon-new-councillor-of-calp-town-council/?lang=en
CATEGORIES:News
ATTACH;FMTTYPE=image/jpeg:https://calpcomunica.calp.es/wp-content/uploads/2026/01/Alex-Coca-promete-su-cargo.jpg
END:VEVENT
BEGIN:VEVENT
DTSTART;VALUE=DATE:20260113
DTEND;VALUE=DATE:20260114
DTSTAMP:20260422T222118
CREATED:20260113T142951Z
LAST-MODIFIED:20260113T142951Z
UID:10003157-1768262400-1768348799@calpcomunica.calp.es
SUMMARY:📢 New responsibilities of the Calp Town Council government team
DESCRIPTION:The Calp Town Council hereby announces the update of the municipal government team’s responsibilities\, aimed at further improving management\, inter-departmental coordination\, and citizen services.
URL:https://calpcomunica.calp.es/evento/%f0%9f%93%a2-new-responsibilities-of-the-calp-town-council-government-team/?lang=en
CATEGORIES:Actividades
ATTACH;FMTTYPE=image/jpeg:https://calpcomunica.calp.es/wp-content/uploads/2026/01/Infografia-1.jpg
END:VEVENT
END:VCALENDAR