BEGIN:VCALENDAR
VERSION:2.0
PRODID:-//Calp - ECPv6.15.20//NONSGML v1.0//EN
CALSCALE:GREGORIAN
METHOD:PUBLISH
X-ORIGINAL-URL:https://calpcomunica.calp.es/?lang=va-val
X-WR-CALDESC:Events for Calp
REFRESH-INTERVAL;VALUE=DURATION:PT1H
X-Robots-Tag:noindex
X-PUBLISHED-TTL:PT1H
BEGIN:VTIMEZONE
TZID:UTC
BEGIN:STANDARD
TZOFFSETFROM:+0000
TZOFFSETTO:+0000
TZNAME:UTC
DTSTART:20240101T000000
END:STANDARD
END:VTIMEZONE
BEGIN:VEVENT
DTSTART;VALUE=DATE:20250901
DTEND;VALUE=DATE:20250902
DTSTAMP:20260423T040348
CREATED:20250901T103859Z
LAST-MODIFIED:20250901T103859Z
UID:10001354-1756684800-1756771199@calpcomunica.calp.es
SUMMARY:🏡 Oberta la convocatòria d’ajudes al lloguer jove de l’Ajuntament de Calp!
DESCRIPTION:📅 Sol·licitud: de l’1 al 26 de setembre\n💶 Fins a 1.200 € per persona\n📍 Tindre menys de 35 anys (o complir-los durant 2025)\n🏡 Estar empadronat/ada a Calp almenys 1 any\n📃 Contracte de lloguer de com a mínim 11 mesos \n📌 + info 👉
URL:https://calpcomunica.calp.es/evento/%f0%9f%8f%a1-oberta-la-convocatoria-dajudes-al-lloguer-jove-de-lajuntament-de-calp/?lang=va-val
CATEGORIES:Noticies
ATTACH;FMTTYPE=image/jpeg:https://calpcomunica.calp.es/wp-content/uploads/2025/09/Vivienda.jpg
END:VEVENT
BEGIN:VEVENT
DTSTART;VALUE=DATE:20250904
DTEND;VALUE=DATE:20250905
DTSTAMP:20260423T040348
CREATED:20250904T113137Z
LAST-MODIFIED:20250904T113137Z
UID:10001407-1756944000-1757030399@calpcomunica.calp.es
SUMMARY:🎭🎶 Calp tanca un estiu cultural amb més de 8.000 assistents a 47 activitats.
DESCRIPTION:
URL:https://calpcomunica.calp.es/evento/%f0%9f%8e%ad%f0%9f%8e%b6-calp-tanca-un-estiu-cultural-amb-mes-de-8-000-assistents-a-47-activitats/?lang=va-val
CATEGORIES:Noticies
ATTACH;FMTTYPE=image/jpeg:https://calpcomunica.calp.es/wp-content/uploads/2025/09/Activiades-culturales-Calp-verano-2025-scaled.jpg
END:VEVENT
BEGIN:VEVENT
DTSTART;VALUE=DATE:20250905
DTEND;VALUE=DATE:20250906
DTSTAMP:20260423T040348
CREATED:20250905T075314Z
LAST-MODIFIED:20250905T075314Z
UID:10001410-1757030400-1757116799@calpcomunica.calp.es
SUMMARY:🏠 Fins al 15 de setembre pots sol·licitar les subvencions per a rehabilitar façanes en edificis.
DESCRIPTION:
URL:https://calpcomunica.calp.es/evento/%f0%9f%8f%a0-fins-al-15-de-setembre-pots-sol%c2%b7licitar-les-subvencions-per-a-rehabilitar-facanes-en-edificis/?lang=va-val
CATEGORIES:Noticies
ATTACH;FMTTYPE=image/jpeg:https://calpcomunica.calp.es/wp-content/uploads/2025/09/RHB1.jpg
END:VEVENT
BEGIN:VEVENT
DTSTART;VALUE=DATE:20250905
DTEND;VALUE=DATE:20250906
DTSTAMP:20260423T040348
CREATED:20250905T080856Z
LAST-MODIFIED:20250905T080856Z
UID:10001412-1757030400-1757116799@calpcomunica.calp.es
SUMMARY:Ple Ajuntament
DESCRIPTION:➡ L’Ajuntament de Calp celebrarà dimarts que ve 9 de setembre a les 17 hores ple ordinari amb el següent ordre del dia⬇️.📱 El podreu seguir a través del canal de YouTube de l’Ajuntament de Calp. 👇
URL:https://calpcomunica.calp.es/evento/ple-ajuntament/?lang=va-val
CATEGORIES:Noticies
ATTACH;FMTTYPE=image/jpeg:https://calpcomunica.calp.es/wp-content/uploads/2025/09/Pleno_page-0001.jpg
END:VEVENT
BEGIN:VEVENT
DTSTART;VALUE=DATE:20250912
DTEND;VALUE=DATE:20250913
DTSTAMP:20260423T040348
CREATED:20250912T124658Z
LAST-MODIFIED:20250912T124658Z
UID:10001541-1757635200-1757721599@calpcomunica.calp.es
SUMMARY:Els tallers de gimnàstica terapèutica donen la benvinguda al nou curs en la Plaça de la Vila
DESCRIPTION:
URL:https://calpcomunica.calp.es/evento/els-tallers-de-gimnastica-terapeutica-donen-la-benvinguda-al-nou-curs-en-la-placa-de-la-vila/?lang=va-val
CATEGORIES:Noticies,Salud
ATTACH;FMTTYPE=image/jpeg:https://calpcomunica.calp.es/wp-content/uploads/2025/09/Centro-civico9-scaled.jpg
END:VEVENT
BEGIN:VEVENT
DTSTART;VALUE=DATE:20250915
DTEND;VALUE=DATE:20250916
DTSTAMP:20260423T040348
CREATED:20250915T072829Z
LAST-MODIFIED:20250915T072829Z
UID:10001549-1757894400-1757980799@calpcomunica.calp.es
SUMMARY:🏠 Fins al 15 de setembre pots sol·licitar les subvencions per a rehabilitar façanes en edificis. Enguany tornen a establir-se dues línies d’ajudes:
DESCRIPTION:👉 Línia 1. Actuacions integrals en façanes: sanejament i reparació d’esquerdes\, forjats\, baranes\, ancoratges\, sostres de balcons\, etc.\n👉 Línia 2. Edificació situada al nucli històric: actuacions puntuals per a millorar l’estètica de la façana (antenes\, aparells d’aire condicionat\, tendals\, cablejats…) incloent també pintura.\n+info:
URL:https://calpcomunica.calp.es/evento/%f0%9f%8f%a0-fins-al-15-de-setembre-pots-sol%c2%b7licitar-les-subvencions-per-a-rehabilitar-facanes-en-edificis-enguany-tornen-a-establir-se-dues-linies-dajudes/?lang=va-val
CATEGORIES:Noticies
END:VEVENT
BEGIN:VEVENT
DTSTART;VALUE=DATE:20250923
DTEND;VALUE=DATE:20250924
DTSTAMP:20260423T040348
CREATED:20250923T093646Z
LAST-MODIFIED:20250923T093646Z
UID:10001694-1758585600-1758671999@calpcomunica.calp.es
SUMMARY:🚀 Jornada “Marina Alta en Clau de Futur: Tendències Gastronòmiques i Nàutiques”
DESCRIPTION:
URL:https://calpcomunica.calp.es/evento/%f0%9f%9a%80-jornada-marina-alta-en-clau-de-futur-tendencies-gastronomiques-i-nautiques/?lang=va-val
CATEGORIES:Noticies
ATTACH;FMTTYPE=image/jpeg:https://calpcomunica.calp.es/wp-content/uploads/2025/09/Marina-Alta-en-clave-de-futuro.jpg
END:VEVENT
BEGIN:VEVENT
DTSTART;VALUE=DATE:20250930
DTEND;VALUE=DATE:20251001
DTSTAMP:20260423T040348
CREATED:20250930T093859Z
LAST-MODIFIED:20250930T093859Z
UID:10001802-1759190400-1759276799@calpcomunica.calp.es
SUMMARY:🏆✨ Premis de Cultura i Esports 2025
DESCRIPTION:L’Ajuntament de Calp ha obert el termini per a presentar candidatures als Premis de Cultura i Esports 2025\, que s’entregaran en la Gala de l’Esport i la Cultura el pròxim 27 de novembre a l’Auditori de la Casa de Cultura Jaume Pastor i Fluixà.\n📌 Aquests guardons reconeixen l’esforç i la trajectòria de persones empadronades a Calp que hagen destacat durant el 2024 en els àmbits cultural o esportiu.\n🔹 Es concediran fins a cinc premis de 1.000 € en cada convocatòria.\n📅 Termini de presentació: del 30 de setembre al 14 d’octubre de 2025 a l’OAC.\n👉 Consulta tota la informació ací:
URL:https://calpcomunica.calp.es/evento/%f0%9f%8f%86%e2%9c%a8-premis-de-cultura-i-esports-2025/?lang=va-val
CATEGORIES:Noticies
ATTACH;FMTTYPE=image/png:https://calpcomunica.calp.es/wp-content/uploads/2025/09/1-2.png
END:VEVENT
BEGIN:VEVENT
DTSTART;VALUE=DATE:20250930
DTEND;VALUE=DATE:20251001
DTSTAMP:20260423T040348
CREATED:20250930T111305Z
LAST-MODIFIED:20250930T111305Z
UID:10001809-1759190400-1759276799@calpcomunica.calp.es
SUMMARY:🎶🎶 Concert de Blues Rock a càrrec d’Eric Sardinas Band.
DESCRIPTION:
URL:https://calpcomunica.calp.es/evento/%f0%9f%8e%b6%f0%9f%8e%b6-concert-de-blues-rock-a-carrec-deric-sardinas-band/?lang=va-val
CATEGORIES:Noticies
ATTACH;FMTTYPE=image/jpeg:https://calpcomunica.calp.es/wp-content/uploads/2025/09/03-10-25-Cartel-ERIC-SARDINAS-1.jpg
END:VEVENT
END:VCALENDAR