BEGIN:VCALENDAR
VERSION:2.0
PRODID:-//Calp Comunica - ECPv6.15.20//NONSGML v1.0//EN
CALSCALE:GREGORIAN
METHOD:PUBLISH
X-WR-CALNAME:Calp Comunica
X-ORIGINAL-URL:https://calpcomunica.calp.es
X-WR-CALDESC:Eventos para Calp Comunica
REFRESH-INTERVAL;VALUE=DURATION:PT1H
X-Robots-Tag:noindex
X-PUBLISHED-TTL:PT1H
BEGIN:VTIMEZONE
TZID:UTC
BEGIN:STANDARD
TZOFFSETFROM:+0000
TZOFFSETTO:+0000
TZNAME:UTC
DTSTART:20250101T000000
END:STANDARD
END:VTIMEZONE
BEGIN:VEVENT
DTSTART;VALUE=DATE:20260225
DTEND;VALUE=DATE:20260226
DTSTAMP:20260422T123225
CREATED:20260225T101946Z
LAST-MODIFIED:20260225T101946Z
UID:10003773-1771977600-1772063999@calpcomunica.calp.es
SUMMARY:📢 Curso de Especialización Penal y Procesal en Violencia de Género y Sistema VioGén 2.
DESCRIPTION:Las Concejalías de Igualdad y Seguridad Ciudadana del Ayuntamiento de Calp organizan este curso de formación especializada\, impartido por el brigada de la Guardia Civil Juan Antonio Jover Pinar\, con la intervención del Magistrado del Tribunal Supremo Vicente Magro Servet.\n🗓 Del 23 al 27 de marzo\n🕘 De 9:00 a 13:00 h\n📍 Campus de Excelencia Empresarial de la Casa Nova (Calp)\n🎓 Formación homologada por el IVASPE y financiada con fondos del Pacto de Estado contra la Violencia de Género\n🔗 Inscripciones abiertas: \n 
URL:https://calpcomunica.calp.es/evento/%f0%9f%93%a2-curso-de-especializacion-penal-y-procesal-en-violencia-de-genero-y-sistema-viogen-2-2/
CATEGORIES:Noticia
ATTACH;FMTTYPE=image/jpeg:https://calpcomunica.calp.es/wp-content/uploads/2026/02/Viogen-1.jpg
END:VEVENT
BEGIN:VEVENT
DTSTART;VALUE=DATE:20260227
DTEND;VALUE=DATE:20260228
DTSTAMP:20260422T123225
CREATED:20260227T071516Z
LAST-MODIFIED:20260227T071516Z
UID:10003797-1772150400-1772236799@calpcomunica.calp.es
SUMMARY:Dosier de Prensa
DESCRIPTION:
URL:https://calpcomunica.calp.es/evento/dosier-de-prensa-125/
CATEGORIES:Noticia
ATTACH;FMTTYPE=image/jpeg:https://calpcomunica.calp.es/wp-content/uploads/2026/02/Dosier-prensa.jpg
END:VEVENT
END:VCALENDAR