BEGIN:VCALENDAR
VERSION:2.0
PRODID:-//Calp Comunica - ECPv6.15.20//NONSGML v1.0//EN
CALSCALE:GREGORIAN
METHOD:PUBLISH
X-WR-CALNAME:Calp Comunica
X-ORIGINAL-URL:https://calpcomunica.calp.es
X-WR-CALDESC:Eventos para Calp Comunica
REFRESH-INTERVAL;VALUE=DURATION:PT1H
X-Robots-Tag:noindex
X-PUBLISHED-TTL:PT1H
BEGIN:VTIMEZONE
TZID:UTC
BEGIN:STANDARD
TZOFFSETFROM:+0000
TZOFFSETTO:+0000
TZNAME:UTC
DTSTART:20250101T000000
END:STANDARD
END:VTIMEZONE
BEGIN:VEVENT
DTSTART;VALUE=DATE:20260109
DTEND;VALUE=DATE:20260110
DTSTAMP:20260422T160348
CREATED:20260109T143612Z
LAST-MODIFIED:20260109T143612Z
UID:10003113-1767916800-1768003199@calpcomunica.calp.es
SUMMARY:Álex Coca Malagón\, nuevo concejal del Ayuntamiento de Calp
DESCRIPTION:
URL:https://calpcomunica.calp.es/evento/alex-coca-malagon-nuevo-concejal-del-ayuntamiento-de-calp/
CATEGORIES:Noticia
ATTACH;FMTTYPE=image/jpeg:https://calpcomunica.calp.es/wp-content/uploads/2026/01/Alex-Coca-promete-su-cargo.jpg
END:VEVENT
BEGIN:VEVENT
DTSTART;VALUE=DATE:20260115
DTEND;VALUE=DATE:20260116
DTSTAMP:20260422T160348
CREATED:20260115T104505Z
LAST-MODIFIED:20260115T104505Z
UID:10003185-1768435200-1768521599@calpcomunica.calp.es
SUMMARY:Avanzan las fajas perimetrales en la Sierra de Oltà
DESCRIPTION:
URL:https://calpcomunica.calp.es/evento/avanzan-las-fajas-perimetrales-en-la-sierra-de-olta/
CATEGORIES:Noticia
ATTACH;FMTTYPE=image/jpeg:https://calpcomunica.calp.es/wp-content/uploads/2026/01/Fajas-perimetrales-cartel.jpg
END:VEVENT
BEGIN:VEVENT
DTSTART;VALUE=DATE:20260115
DTEND;VALUE=DATE:20260116
DTSTAMP:20260422T160348
CREATED:20260115T114429Z
LAST-MODIFIED:20260115T114429Z
UID:10003191-1768435200-1768521599@calpcomunica.calp.es
SUMMARY:📘 III Jornada sobre Ética e Integridad en la Contratación Pública
DESCRIPTION:El Ayuntamiento de Calp organiza\, por tercer año consecutivo\, una jornada formativa sobre ética e integridad en la contratación pública\, que se celebrará el viernes 6 de febrero de 2026 en el Auditorio de la Casa de Cultura Jaume Pastor i Fluixà. \nEsta jornada está dirigida a personal funcionario relacionado o interesado en la contratación pública\, responsables políticos municipales y personal docente universitario\, con independencia del grupo de titulación o del puesto que ocupen. \n📝 Inscripción gratuita\nEl plazo de inscripción estará abierto hasta el 28 de enero de 2026\, con plazas limitadas según el aforo del recinto. \n👉 Inscripciones a través del siguiente enlace: \nℹ️ También es posible inscribirse mediante el código QR incluido en el programa informativo. \n 
URL:https://calpcomunica.calp.es/evento/%f0%9f%93%98-iii-jornada-sobre-etica-e-integridad-en-la-contratacion-publica/
CATEGORIES:Noticia
ATTACH;FMTTYPE=image/jpeg:https://calpcomunica.calp.es/wp-content/uploads/2026/01/III-Jornada-etica-e-integridad-Calp_page-0001.jpg
END:VEVENT
BEGIN:VEVENT
DTSTART;VALUE=DATE:20260123
DTEND;VALUE=DATE:20260124
DTSTAMP:20260422T160348
CREATED:20260123T093141Z
LAST-MODIFIED:20260123T093141Z
UID:10003275-1769126400-1769212799@calpcomunica.calp.es
SUMMARY:📣El Ayuntamiento de Calp celebra el Pleno ordinario el próximo martes 27 de enero de 2026 a las 17:00h. 
DESCRIPTION:Os adjuntamos el orden del día y os recordamos que podéis seguirlo en directo por el canal de YouTube del Ayuntamiento en el siguiente enlace:
URL:https://calpcomunica.calp.es/evento/%f0%9f%93%a3el-ayuntamiento-de-calp-celebra-el-pleno-ordinario-el-proximo-martes-27-de-enero-de-2026-a-las-1700h/
CATEGORIES:Noticia
ATTACH;FMTTYPE=image/jpeg:https://calpcomunica.calp.es/wp-content/uploads/2026/01/Convocatoria-Pleno-27-de-enero-2026_page-0001.jpg
END:VEVENT
END:VCALENDAR