BEGIN:VCALENDAR
VERSION:2.0
PRODID:-//Calp - ECPv6.15.20//NONSGML v1.0//EN
CALSCALE:GREGORIAN
METHOD:PUBLISH
X-WR-CALNAME:Calp
X-ORIGINAL-URL:https://calpcomunica.calp.es/?lang=va-val
X-WR-CALDESC:Events for Calp
REFRESH-INTERVAL;VALUE=DURATION:PT1H
X-Robots-Tag:noindex
X-PUBLISHED-TTL:PT1H
BEGIN:VTIMEZONE
TZID:UTC
BEGIN:STANDARD
TZOFFSETFROM:+0000
TZOFFSETTO:+0000
TZNAME:UTC
DTSTART:20250101T000000
END:STANDARD
END:VTIMEZONE
BEGIN:VEVENT
DTSTART;TZID=UTC:20260303T080000
DTEND;TZID=UTC:20260330T170000
DTSTAMP:20260422T154210
CREATED:20260225T120944Z
LAST-MODIFIED:20260225T120944Z
UID:10003789-1772524800-1774890000@calpcomunica.calp.es
SUMMARY:Exposició Grup Arte-Son
DESCRIPTION:
URL:https://calpcomunica.calp.es/evento/exposicio-grup-arte-son/?lang=va-val
CATEGORIES:Cultura
ATTACH;FMTTYPE=image/jpeg:https://calpcomunica.calp.es/wp-content/uploads/2026/02/PHOTO-2026-02-10-19-14-45.jpg
END:VEVENT
BEGIN:VEVENT
DTSTART;TZID=UTC:20260305T190000
DTEND;TZID=UTC:20260305T203000
DTSTAMP:20260422T154210
CREATED:20260302T114939Z
LAST-MODIFIED:20260302T114939Z
UID:10003817-1772737200-1772742600@calpcomunica.calp.es
SUMMARY:40é aniversari de l’entrada en la Unió Europea
DESCRIPTION:
URL:https://calpcomunica.calp.es/evento/40e-aniversari-de-lentrada-en-la-unio-europea-2/?lang=va-val
CATEGORIES:Cultura
ATTACH;FMTTYPE=image/jpeg:https://calpcomunica.calp.es/wp-content/uploads/2026/02/Aniversario-UE-Calpe-1.jpg
END:VEVENT
BEGIN:VEVENT
DTSTART;VALUE=DATE:20260307
DTEND;VALUE=DATE:20260308
DTSTAMP:20260422T154210
CREATED:20260227T112812Z
LAST-MODIFIED:20260227T112812Z
UID:10003801-1772841600-1772927999@calpcomunica.calp.es
SUMMARY:La Nit Encesa
DESCRIPTION:
URL:https://calpcomunica.calp.es/evento/la-nit-encesa/?lang=va-val
CATEGORIES:Cultura
ATTACH;FMTTYPE=image/jpeg:https://calpcomunica.calp.es/wp-content/uploads/2026/02/CARTEL-GRAL-LA-NIT-ENCESA.jpg
END:VEVENT
BEGIN:VEVENT
DTSTART;TZID=UTC:20260311T193000
DTEND;TZID=UTC:20260311T210000
DTSTAMP:20260422T154210
CREATED:20260310T074432Z
LAST-MODIFIED:20260310T074432Z
UID:10003912-1773257400-1773262800@calpcomunica.calp.es
SUMMARY:Actuació de Toronzo Cannon & Blues Band (Chicago\, USA)
DESCRIPTION:
URL:https://calpcomunica.calp.es/evento/actuacio-de-toronzo-cannon-blues-band-chicago-usa/?lang=va-val
CATEGORIES:Cultura
ATTACH;FMTTYPE=image/jpeg:https://calpcomunica.calp.es/wp-content/uploads/2026/03/DEF_TORONZO-500-X-600_MAIL-1.jpg
END:VEVENT
BEGIN:VEVENT
DTSTART;TZID=UTC:20260317T190000
DTEND;TZID=UTC:20260317T203000
DTSTAMP:20260422T154210
CREATED:20260226T070404Z
LAST-MODIFIED:20260226T070404Z
UID:10003792-1773774000-1773779400@calpcomunica.calp.es
SUMMARY:La comèdia “Ifach” d’Azorín i la seua relació amb Calp.
DESCRIPTION:
URL:https://calpcomunica.calp.es/evento/la-comedia-ifach-dazorin-i-la-seua-relacio-amb-calp/?lang=va-val
CATEGORIES:Cultura
ATTACH;FMTTYPE=image/jpeg:https://calpcomunica.calp.es/wp-content/uploads/2026/02/Azorin-Calpe.jpg
END:VEVENT
BEGIN:VEVENT
DTSTART;TZID=UTC:20260327T200000
DTEND;TZID=UTC:20260327T213000
DTSTAMP:20260422T154210
CREATED:20260324T085550Z
LAST-MODIFIED:20260324T085550Z
UID:10004085-1774641600-1774647000@calpcomunica.calp.es
SUMMARY:La fuga perpendicular
DESCRIPTION:
URL:https://calpcomunica.calp.es/evento/la-fuga-perpendicular/?lang=va-val
CATEGORIES:Cultura
ATTACH;FMTTYPE=image/jpeg:https://calpcomunica.calp.es/wp-content/uploads/2026/03/27-03-Cartel-largometraje-PL.jpg
END:VEVENT
BEGIN:VEVENT
DTSTART;TZID=UTC:20260328T183000
DTEND;TZID=UTC:20260328T200000
DTSTAMP:20260422T154211
CREATED:20260325T101950Z
LAST-MODIFIED:20260325T101950Z
UID:10004106-1774722600-1774728000@calpcomunica.calp.es
SUMMARY:Teatre Infantil
DESCRIPTION:
URL:https://calpcomunica.calp.es/evento/teatre-infantil/?lang=va-val
CATEGORIES:Cultura
ATTACH;FMTTYPE=image/jpeg:https://calpcomunica.calp.es/wp-content/uploads/2026/03/28-03-2026-ritmos-animalescosTEATRO-INFANTIL.jpg
END:VEVENT
BEGIN:VEVENT
DTSTART;TZID=UTC:20260331T180000
DTEND;TZID=UTC:20260331T200000
DTSTAMP:20260422T154211
CREATED:20260317T084830Z
LAST-MODIFIED:20260317T084830Z
UID:10004005-1774980000-1774987200@calpcomunica.calp.es
SUMMARY:Activitat Casa Nova
DESCRIPTION:
URL:https://calpcomunica.calp.es/evento/activitat-casa-nova/?lang=va-val
CATEGORIES:Cultura
ATTACH;FMTTYPE=image/jpeg:https://calpcomunica.calp.es/wp-content/uploads/2026/03/Impacto-Calpe.jpg
END:VEVENT
END:VCALENDAR