BEGIN:VCALENDAR
VERSION:2.0
PRODID:-//Calp - ECPv6.15.20//NONSGML v1.0//EN
CALSCALE:GREGORIAN
METHOD:PUBLISH
X-ORIGINAL-URL:https://calpcomunica.calp.es/?lang=va-val
X-WR-CALDESC:Events for Calp
REFRESH-INTERVAL;VALUE=DURATION:PT1H
X-Robots-Tag:noindex
X-PUBLISHED-TTL:PT1H
BEGIN:VTIMEZONE
TZID:UTC
BEGIN:STANDARD
TZOFFSETFROM:+0000
TZOFFSETTO:+0000
TZNAME:UTC
DTSTART:20250101T000000
END:STANDARD
END:VTIMEZONE
BEGIN:VEVENT
DTSTART;VALUE=DATE:20260220
DTEND;VALUE=DATE:20260221
DTSTAMP:20260422T142046
CREATED:20260220T113241Z
LAST-MODIFIED:20260220T113241Z
UID:10003684-1771545600-1771631999@calpcomunica.calp.es
SUMMARY:Canvi horari Teatre Infantil
DESCRIPTION:
URL:https://calpcomunica.calp.es/evento/canvi-horari-teatre-infantil/?lang=va-val
CATEGORIES:Cultura
ATTACH;FMTTYPE=image/jpeg:https://calpcomunica.calp.es/wp-content/uploads/2026/02/CAMBIO-HORARIO-TEATRO-INFANTIL-21-FEBRERO-BOBO.jpg
END:VEVENT
END:VCALENDAR