BEGIN:VCALENDAR
VERSION:2.0
PRODID:-//Calp - ECPv6.15.20//NONSGML v1.0//EN
CALSCALE:GREGORIAN
METHOD:PUBLISH
X-WR-CALNAME:Calp
X-ORIGINAL-URL:https://calpcomunica.calp.es/?lang=va-val
X-WR-CALDESC:Events for Calp
REFRESH-INTERVAL;VALUE=DURATION:PT1H
X-Robots-Tag:noindex
X-PUBLISHED-TTL:PT1H
BEGIN:VTIMEZONE
TZID:UTC
BEGIN:STANDARD
TZOFFSETFROM:+0000
TZOFFSETTO:+0000
TZNAME:UTC
DTSTART:20240101T000000
END:STANDARD
END:VTIMEZONE
BEGIN:VEVENT
DTSTART;VALUE=DATE:20251107
DTEND;VALUE=DATE:20251108
DTSTAMP:20260423T003246
CREATED:20251107T113220Z
LAST-MODIFIED:20251107T113220Z
UID:10002361-1762473600-1762559999@calpcomunica.calp.es
SUMMARY:Pleno ordinari novembre
DESCRIPTION:
URL:https://calpcomunica.calp.es/evento/pleno-ordinari-novembre/?lang=va-val
CATEGORIES:Avisos
ATTACH;FMTTYPE=image/jpeg:https://calpcomunica.calp.es/wp-content/uploads/2025/11/20251106_Comunicacion_Comunicacion-de-la-convocatoria_page-0001.jpg
END:VEVENT
BEGIN:VEVENT
DTSTART;VALUE=DATE:20251125
DTEND;VALUE=DATE:20251126
DTSTAMP:20260423T003246
CREATED:20251125T111640Z
LAST-MODIFIED:20251125T111640Z
UID:10002619-1764028800-1764115199@calpcomunica.calp.es
SUMMARY:Bons comerç
DESCRIPTION:
URL:https://calpcomunica.calp.es/evento/bons-comerc/?lang=va-val
CATEGORIES:Avisos
END:VEVENT
BEGIN:VEVENT
DTSTART;VALUE=DATE:20251125
DTEND;VALUE=DATE:20251126
DTSTAMP:20260423T003246
CREATED:20251125T131006Z
LAST-MODIFIED:20251125T131006Z
UID:10002625-1764028800-1764115199@calpcomunica.calp.es
SUMMARY:Saps en quin contenidor dipositar els teus residus?
DESCRIPTION:
URL:https://calpcomunica.calp.es/evento/saps-en-quin-contenidor-dipositar-els-teus-residus/?lang=va-val
CATEGORIES:Avisos
ATTACH;FMTTYPE=image/jpeg:https://calpcomunica.calp.es/wp-content/uploads/2025/11/REciclatge1.jpg
END:VEVENT
END:VCALENDAR