BEGIN:VCALENDAR
VERSION:2.0
PRODID:-//Calp - ECPv6.15.20//NONSGML v1.0//EN
CALSCALE:GREGORIAN
METHOD:PUBLISH
X-ORIGINAL-URL:https://calpcomunica.calp.es/?lang=va-val
X-WR-CALDESC:Events for Calp
REFRESH-INTERVAL;VALUE=DURATION:PT1H
X-Robots-Tag:noindex
X-PUBLISHED-TTL:PT1H
BEGIN:VTIMEZONE
TZID:UTC
BEGIN:STANDARD
TZOFFSETFROM:+0000
TZOFFSETTO:+0000
TZNAME:UTC
DTSTART:20240101T000000
END:STANDARD
END:VTIMEZONE
BEGIN:VEVENT
DTSTART;VALUE=DATE:20250907
DTEND;VALUE=DATE:20250908
DTSTAMP:20260423T040352
CREATED:20250907T111553Z
LAST-MODIFIED:20250907T111553Z
UID:10001430-1757203200-1757289599@calpcomunica.calp.es
SUMMARY:🌧️⚡ Avís per pluges i tronades (alerta taronja)‼️
DESCRIPTION:
URL:https://calpcomunica.calp.es/evento/%f0%9f%8c%a7%ef%b8%8f%e2%9a%a1-avis-per-pluges-i-tronades-alerta-taronja%e2%80%bc%ef%b8%8f/?lang=va-val
CATEGORIES:Avisos
ATTACH;FMTTYPE=image/jpeg:https://calpcomunica.calp.es/wp-content/uploads/2025/09/Dilluns8.jpg
END:VEVENT
BEGIN:VEVENT
DTSTART;VALUE=DATE:20250909
DTEND;VALUE=DATE:20250910
DTSTAMP:20260423T040352
CREATED:20250909T080504Z
LAST-MODIFIED:20250909T080504Z
UID:10001469-1757376000-1757462399@calpcomunica.calp.es
SUMMARY:📢 El S.P.R.A. recorda que estos gossos estan en adopció
DESCRIPTION:
URL:https://calpcomunica.calp.es/evento/%f0%9f%93%a2-el-s-p-r-a-recorda-que-estos-gossos-estan-en-adopcio/?lang=va-val
CATEGORIES:Avisos
ATTACH;FMTTYPE=image/jpeg:https://calpcomunica.calp.es/wp-content/uploads/2025/09/Perro1-scaled.jpg
END:VEVENT
END:VCALENDAR