BEGIN:VCALENDAR
VERSION:2.0
PRODID:-//Calp Comunica - ECPv6.15.20//NONSGML v1.0//EN
CALSCALE:GREGORIAN
METHOD:PUBLISH
X-ORIGINAL-URL:https://calpcomunica.calp.es
X-WR-CALDESC:Eventos para Calp Comunica
REFRESH-INTERVAL;VALUE=DURATION:PT1H
X-Robots-Tag:noindex
X-PUBLISHED-TTL:PT1H
BEGIN:VTIMEZONE
TZID:UTC
BEGIN:STANDARD
TZOFFSETFROM:+0000
TZOFFSETTO:+0000
TZNAME:UTC
DTSTART:20250101T000000
END:STANDARD
END:VTIMEZONE
BEGIN:VEVENT
DTSTART;VALUE=DATE:20260123
DTEND;VALUE=DATE:20260124
DTSTAMP:20260422T185645
CREATED:20260123T105042Z
LAST-MODIFIED:20260123T105042Z
UID:10003284-1769126400-1769212799@calpcomunica.calp.es
SUMMARY:Día del Árbol de la Comunidad Valenciana
DESCRIPTION:
URL:https://calpcomunica.calp.es/evento/dia-del-arbol-de-la-comunidad-valenciana/
CATEGORIES:Anuncios
ATTACH;FMTTYPE=image/jpeg:https://calpcomunica.calp.es/wp-content/uploads/2026/01/DIA-DEL-ARBOL-scaled.jpeg
END:VEVENT
BEGIN:VEVENT
DTSTART;TZID=UTC:20260127T170000
DTEND;TZID=UTC:20260127T200000
DTSTAMP:20260422T185645
CREATED:20260127T072430Z
LAST-MODIFIED:20260127T072430Z
UID:10003318-1769533200-1769544000@calpcomunica.calp.es
SUMMARY:🌊🌊Jornada Participativa Espai Marí d'Ifac (ZEC).
DESCRIPTION:
URL:https://calpcomunica.calp.es/evento/%f0%9f%8c%8a%f0%9f%8c%8ajornada-participativa-espai-mari-difac-zec/
CATEGORIES:Anuncios
ATTACH;FMTTYPE=image/jpeg:https://calpcomunica.calp.es/wp-content/uploads/2026/01/WhatsApp-Image-2026-01-26-at-14.46.42.jpeg
END:VEVENT
BEGIN:VEVENT
DTSTART;TZID=UTC:20260128T110000
DTEND;TZID=UTC:20260128T133000
DTSTAMP:20260422T185645
CREATED:20260128T083457Z
LAST-MODIFIED:20260128T083457Z
UID:10003335-1769598000-1769607000@calpcomunica.calp.es
SUMMARY:CBBKids
DESCRIPTION:
URL:https://calpcomunica.calp.es/evento/cbbkids/
CATEGORIES:Anuncios
ATTACH;FMTTYPE=image/jpeg:https://calpcomunica.calp.es/wp-content/uploads/2026/01/617512077_1324065759762207_3092257947113488615_n.jpg
END:VEVENT
END:VCALENDAR