BEGIN:VCALENDAR
VERSION:2.0
PRODID:-//Calp Comunica - ECPv6.15.20//NONSGML v1.0//EN
CALSCALE:GREGORIAN
METHOD:PUBLISH
X-ORIGINAL-URL:https://calpcomunica.calp.es
X-WR-CALDESC:Eventos para Calp Comunica
REFRESH-INTERVAL;VALUE=DURATION:PT1H
X-Robots-Tag:noindex
X-PUBLISHED-TTL:PT1H
BEGIN:VTIMEZONE
TZID:UTC
BEGIN:STANDARD
TZOFFSETFROM:+0000
TZOFFSETTO:+0000
TZNAME:UTC
DTSTART:20240101T000000
END:STANDARD
END:VTIMEZONE
BEGIN:VEVENT
DTSTART;TZID=UTC:20251112T193000
DTEND;TZID=UTC:20251112T213000
DTSTAMP:20260422T221412
CREATED:20251106T084803Z
LAST-MODIFIED:20251106T084803Z
UID:10002327-1762975800-1762983000@calpcomunica.calp.es
SUMMARY:Prroyecto Calp Next Solutions
DESCRIPTION:
URL:https://calpcomunica.calp.es/evento/prroyecto-calp-next-solutions/
CATEGORIES:Anuncios,Noticia
ATTACH;FMTTYPE=image/jpeg:https://calpcomunica.calp.es/wp-content/uploads/2025/11/1.jpg
END:VEVENT
BEGIN:VEVENT
DTSTART;TZID=UTC:20251115T100000
DTEND;TZID=UTC:20251115T143000
DTSTAMP:20260422T221412
CREATED:20251113T091349Z
LAST-MODIFIED:20251113T091349Z
UID:10002441-1763200800-1763217000@calpcomunica.calp.es
SUMMARY:Día Mundial de la Infancia
DESCRIPTION:
URL:https://calpcomunica.calp.es/evento/dia-mundial-de-la-infancia/
CATEGORIES:Anuncios
ATTACH;FMTTYPE=image/png:https://calpcomunica.calp.es/wp-content/uploads/2025/11/DIA-DE-LA-INFANCIA.-15.11.25.png
END:VEVENT
END:VCALENDAR