BEGIN:VCALENDAR
VERSION:2.0
PRODID:-//Calp Comunica - ECPv6.15.20//NONSGML v1.0//EN
CALSCALE:GREGORIAN
METHOD:PUBLISH
X-WR-CALNAME:Calp Comunica
X-ORIGINAL-URL:https://calpcomunica.calp.es
X-WR-CALDESC:Eventos para Calp Comunica
REFRESH-INTERVAL;VALUE=DURATION:PT1H
X-Robots-Tag:noindex
X-PUBLISHED-TTL:PT1H
BEGIN:VTIMEZONE
TZID:UTC
BEGIN:STANDARD
TZOFFSETFROM:+0000
TZOFFSETTO:+0000
TZNAME:UTC
DTSTART:20240101T000000
END:STANDARD
END:VTIMEZONE
BEGIN:VEVENT
DTSTART;VALUE=DATE:20250818
DTEND;VALUE=DATE:20250819
DTSTAMP:20260423T094717
CREATED:20250818T111046Z
LAST-MODIFIED:20250818T111046Z
UID:10001171-1755475200-1755561599@calpcomunica.calp.es
SUMMARY:Horarios piscina
DESCRIPTION:
URL:https://calpcomunica.calp.es/evento/horarios-piscina/
CATEGORIES:Anuncios
ATTACH;FMTTYPE=image/jpeg:https://calpcomunica.calp.es/wp-content/uploads/2025/08/532608075_122147871848615261_4703446483078067570_n.jpg
END:VEVENT
END:VCALENDAR