BEGIN:VCALENDAR
VERSION:2.0
PRODID:-//Calp Comunica - ECPv6.15.20//NONSGML v1.0//EN
CALSCALE:GREGORIAN
METHOD:PUBLISH
X-WR-CALNAME:Calp Comunica
X-ORIGINAL-URL:https://calpcomunica.calp.es
X-WR-CALDESC:Eventos para Calp Comunica
REFRESH-INTERVAL;VALUE=DURATION:PT1H
X-Robots-Tag:noindex
X-PUBLISHED-TTL:PT1H
BEGIN:VTIMEZONE
TZID:UTC
BEGIN:STANDARD
TZOFFSETFROM:+0000
TZOFFSETTO:+0000
TZNAME:UTC
DTSTART:20240101T000000
END:STANDARD
END:VTIMEZONE
BEGIN:VEVENT
DTSTART;VALUE=DATE:20250910
DTEND;VALUE=DATE:20250911
DTSTAMP:20260423T034322
CREATED:20250910T082803Z
LAST-MODIFIED:20250910T082803Z
UID:10001488-1757462400-1757548799@calpcomunica.calp.es
SUMMARY:🎶💃 Intercasas 2025 en Calp
DESCRIPTION:📅 Domingo\, 28 de septiembre de 2025\n🕚 A las 11:00 h\n📍 Parque de la Creatividad (Partida Gargasindi\, 1H) \nDisfruta de una jornada de convivencia con:\n🎵 Actuaciones de coros rocieros y cuadros de baile de las casas y asociaciones andaluzas del sur de la Comunitat Valenciana y Albacete\, afiliadas en FECUAS.\n🍴 Al finalizar\, comida de sobaquillo.\n🍹 Habrá servicio de barra a beneficio del Alférez Cristiano. \nOrganiza: Casa de Andalucía de Calp y FECUAS\nColabora: Ayuntamiento de Calp y Junta de Andalucía
URL:https://calpcomunica.calp.es/evento/%f0%9f%8e%b6%f0%9f%92%83-intercasas-2025-en-calp/
CATEGORIES:Actividades
ATTACH;FMTTYPE=image/jpeg:https://calpcomunica.calp.es/wp-content/uploads/2025/09/Intercasas.jpg
END:VEVENT
BEGIN:VEVENT
DTSTART;VALUE=DATE:20250910
DTEND;VALUE=DATE:20250911
DTSTAMP:20260423T034322
CREATED:20250910T084731Z
LAST-MODIFIED:20250910T084731Z
UID:10001491-1757462400-1757548799@calpcomunica.calp.es
SUMMARY:🎶✨ Las Canciones de tu Vida – El Guateque llega a Calp
DESCRIPTION:📅 Viernes\, 19 de septiembre de 2025\n🕘 21:00 h\n📍 Plaza Mayor \nUn espectáculo que repasará los grandes éxitos de varias generaciones\, para disfrutar en familia y con amigos. \n🍹 Habrá servicio de barra a beneficio de la Asociación Alicante para la Lucha contra el Cáncer – Sede Local Calp.
URL:https://calpcomunica.calp.es/evento/%f0%9f%8e%b6%e2%9c%a8-las-canciones-de-tu-vida-el-guateque-llega-a-calp/
CATEGORIES:Actividades
ATTACH;FMTTYPE=image/jpeg:https://calpcomunica.calp.es/wp-content/uploads/2025/09/Cartel_CancionesVida_calpe_32x45_Mesa-de-trabajo-1-scaled.jpg
END:VEVENT
BEGIN:VEVENT
DTSTART;VALUE=DATE:20250922
DTEND;VALUE=DATE:20250923
DTSTAMP:20260423T034322
CREATED:20250922T075557Z
LAST-MODIFIED:20250922T075557Z
UID:10001659-1758499200-1758585599@calpcomunica.calp.es
SUMMARY:📚 Ampliación del periodo de matrícula en la FPA de Calp
DESCRIPTION:🗓️ Fecha de matrícula: 22\, 23\, 24 y 25 de septiembre\n🕖 Horario: de 19:00 h a 21:00 h\n✅ Cursos de Valenciano\nA1 y A2 (Certificación oficial)\nB1 y C1 (Preparación JQCV)\n✅ Cursos de Inglés\nA1\, A2 y B1\nInglés conversación B1 \n 
URL:https://calpcomunica.calp.es/evento/%f0%9f%93%9a-ampliacion-del-periodo-de-matricula-en-la-fpa-de-calp/
CATEGORIES:Actividades
ATTACH;FMTTYPE=image/jpeg:https://calpcomunica.calp.es/wp-content/uploads/2025/09/Ampliacion-ingles.jpg
END:VEVENT
BEGIN:VEVENT
DTSTART;VALUE=DATE:20250925
DTEND;VALUE=DATE:20250926
DTSTAMP:20260423T034322
CREATED:20250925T101631Z
LAST-MODIFIED:20250925T101631Z
UID:10001729-1758758400-1758844799@calpcomunica.calp.es
SUMMARY:👩‍💼✨ Talento femenino en Calp
DESCRIPTION:Ayer se celebró el I Concurso de Pitch para mujeres empresarias de la Marina Alta y Baixa\, organizado por el Ayuntamiento de Calp\, Creama y AEPA.\nCon la participación de 12 empresarias de ambas comarcas\, la jornada puso de relieve el talento y el valor que sus iniciativas aportan a nuestro territorio.\n🏆 Premiadas del concurso:\n🥇 Primer Premio: Ofelia Miralles Ferrando\n🥈 Segundo Premio: Jobotics Systems\, de Claudia Schaidreiter\n🥉 Tercer Premio: Calpe Publicidad y Boutique Márcala\, de Marina Belliure\nEnhorabuena a todas las participantes por su esfuerzo\, creatividad y compromiso con el emprendimiento👏
URL:https://calpcomunica.calp.es/evento/%f0%9f%91%a9%f0%9f%92%bc%e2%9c%a8-talento-femenino-en-calp/
CATEGORIES:Actividades
ATTACH;FMTTYPE=image/jpeg:https://calpcomunica.calp.es/wp-content/uploads/2025/09/Primer-Premio-scaled.jpg
END:VEVENT
BEGIN:VEVENT
DTSTART;VALUE=DATE:20250927
DTEND;VALUE=DATE:20250928
DTSTAMP:20260423T034322
CREATED:20250922T104954Z
LAST-MODIFIED:20250922T104954Z
UID:10001671-1758931200-1759017599@calpcomunica.calp.es
SUMMARY:XXII Campaña de Conciertos de intercambios musicales 2025: Colla Portixol de Xàbia y Colla de Xirimiters del Carellot de Calp.
DESCRIPTION:
URL:https://calpcomunica.calp.es/evento/xxii-campana-de-conciertos-de-intercambios-musicales-2025-colla-portixol-de-xabia-y-colla-de-xirimiters-del-carellot-de-calp/
CATEGORIES:Actividades
ATTACH;FMTTYPE=image/jpeg:https://calpcomunica.calp.es/wp-content/uploads/2025/09/27-09-25-campanya-intercanvis-XIRIMITERES-PORTITXOL-scaled.jpg
END:VEVENT
BEGIN:VEVENT
DTSTART;VALUE=DATE:20250930
DTEND;VALUE=DATE:20251001
DTSTAMP:20260423T034322
CREATED:20250930T073027Z
LAST-MODIFIED:20250930T073027Z
UID:10001798-1759190400-1759276799@calpcomunica.calp.es
SUMMARY:🎉👥 Los festeros de Calp presentan el cartel del Oktoberfesters 2025
DESCRIPTION:El Parc de la Creativitat será el escenario\, los días 8\, 10 y 11 de octubre\, de una nueva edición del Oktoberfesters.\n🎶 Programación destacada:\n📅 Miércoles 8: Música en tendencia\, Don Ewaldo & Marise Fox\, Gran Babylon Fem y DJ Varela.\n📅 Viernes 10: Don Ewaldo & Marise Fox y DJ Ruslana.\n📅 Sábado 11: Don Ewaldo & Marise Fox\, Menphis y Javi Más. \n 
URL:https://calpcomunica.calp.es/evento/%f0%9f%8e%89%f0%9f%91%a5-los-festeros-de-calp-presentan-el-cartel-del-oktoberfesters-2025/
CATEGORIES:Actividades
ATTACH;FMTTYPE=image/jpeg:https://calpcomunica.calp.es/wp-content/uploads/2025/09/Festeros-HOR-Ana.jpeg
END:VEVENT
END:VCALENDAR