BEGIN:VCALENDAR
VERSION:2.0
PRODID:-//Calp - ECPv6.15.20//NONSGML v1.0//EN
CALSCALE:GREGORIAN
METHOD:PUBLISH
X-WR-CALNAME:Calp
X-ORIGINAL-URL:https://calpcomunica.calp.es/?lang=va-val
X-WR-CALDESC:Events for Calp
REFRESH-INTERVAL;VALUE=DURATION:PT1H
X-Robots-Tag:noindex
X-PUBLISHED-TTL:PT1H
BEGIN:VTIMEZONE
TZID:UTC
BEGIN:STANDARD
TZOFFSETFROM:+0000
TZOFFSETTO:+0000
TZNAME:UTC
DTSTART:20240101T000000
END:STANDARD
END:VTIMEZONE
BEGIN:VEVENT
DTSTART;VALUE=DATE:20251007
DTEND;VALUE=DATE:20251008
DTSTAMP:20260422T224341
CREATED:20251007T072711Z
LAST-MODIFIED:20251007T072711Z
UID:10001910-1759795200-1759881599@calpcomunica.calp.es
SUMMARY:🧠💚 10 d'octubre\, Dia Mundial de la Salut Mental
DESCRIPTION:L’Ajuntament de Calp se suma a esta commemoració recordant la importància de cuidar el benestar emocional i de visibilitzar els recursos disponibles al municipi.\nEt deixem ací la Guia de Recursos de Salut Mental Comunitària de Calp que reunix tots els servicis i programes de suport existents:\n✔️ Atenció social\, sanitària i comunitària.\n✔️ Programes d’acompanyament i rehabilitació psicosocial.\n✔️ Iniciatives impulsades per associacions i entitats locals.\n📍 Més informació i atenció en els Servicis Socials de l’Ajuntament: 96 583 72 23
URL:https://calpcomunica.calp.es/evento/%f0%9f%a7%a0%f0%9f%92%9a-10-doctubre-dia-mundial-de-la-salut-mental/?lang=va-val
CATEGORIES:Actividades
ATTACH;FMTTYPE=image/jpeg:https://calpcomunica.calp.es/wp-content/uploads/2025/10/7-octubre-DIPTICO-DIVIDIDO_page-0001.jpg
END:VEVENT
BEGIN:VEVENT
DTSTART;VALUE=DATE:20251020
DTEND;VALUE=DATE:20251021
DTSTAMP:20260422T224341
CREATED:20251020T063616Z
LAST-MODIFIED:20251020T063616Z
UID:10002087-1760918400-1761004799@calpcomunica.calp.es
SUMMARY:🎉⚔️ Les Festes de Moros i Cristians de Calp continuen aquesta setmana ⚔️🎉
DESCRIPTION:Després d’un intens cap de setmana\, les celebracions en honor al Santíssim Crist de la Suor continuen amb alguns dels actes més esperats: amb El Miracle\, les processons i els actes religiosos que posaran el colofó final.\nConsulta ací el programa complet per a no perdre’t res
URL:https://calpcomunica.calp.es/evento/%f0%9f%8e%89%e2%9a%94%ef%b8%8f-les-festes-de-moros-i-cristians-de-calp-continuen-aquesta-setmana-%e2%9a%94%ef%b8%8f%f0%9f%8e%89/?lang=va-val
CATEGORIES:Actividades
ATTACH;FMTTYPE=image/jpeg:https://calpcomunica.calp.es/wp-content/uploads/2025/10/programa-fiestas.jpg
END:VEVENT
BEGIN:VEVENT
DTSTART;VALUE=DATE:20251028
DTEND;VALUE=DATE:20251029
DTSTAMP:20260422T224341
CREATED:20251028T082046Z
LAST-MODIFIED:20251028T082046Z
UID:10002183-1761609600-1761695999@calpcomunica.calp.es
SUMMARY:💡⚽ Renovació de la il·luminació al Camp de Futbol Municipal de Calp
DESCRIPTION:L’Ajuntament de Calp ha dut a terme la renovació completa de la il·luminació del Camp de Futbol Municipal i el camp annex de F8\, amb la instal·lació de 22 noves lluminàries.\nAquesta actuació\, amb una inversió de 29.645 euros\, millora notablement l’eficiència energètica i la qualitat lumínica de les instal·lacions esportives\, afavorint així la pràctica esportiva en horari nocturn i l’estalvi energètic.
URL:https://calpcomunica.calp.es/evento/%f0%9f%92%a1%e2%9a%bd-renovacio-de-la-il%c2%b7luminacio-al-camp-de-futbol-municipal-de-calp/?lang=va-val
CATEGORIES:Actividades
ATTACH;FMTTYPE=image/jpeg:https://calpcomunica.calp.es/wp-content/uploads/2025/10/WhatsApp-Image-2025-10-28-at-08.56.07.jpeg
END:VEVENT
BEGIN:VEVENT
DTSTART;VALUE=DATE:20251030
DTEND;VALUE=DATE:20251031
DTSTAMP:20260422T224341
CREATED:20251030T115435Z
LAST-MODIFIED:20251030T115435Z
UID:10002234-1761782400-1761868799@calpcomunica.calp.es
SUMMARY:🚧 Continuen les obres de millora en el passeig marítim 🚧
DESCRIPTION:L’Ajuntament de Calp continua avançant en les obres de manteniment i adequació del passeig marítim de la platja Arenal-Bol\, que en aquesta fase s’estan desenvolupant en la Plaça Colón.\nAquesta actuació forma part del projecte de millora integral que té com a objectiu incrementar la seguretat dels vianants\, millorar l’estat del paviment i consolidar les estructures de l’entorn\, garantint un espai més segur\, accessible i cuidat per a veïns i visitants.\nEls treballs inclouen la renovació del paviment\, la reparació de la mureta de maçoneria i el reemplaçament de les peces deteriorades\, adaptant el passeig als estàndards de qualitat urbana del municipi.
URL:https://calpcomunica.calp.es/evento/%f0%9f%9a%a7-continuen-les-obres-de-millora-en-el-passeig-maritim-%f0%9f%9a%a7/?lang=va-val
CATEGORIES:Actividades
ATTACH;FMTTYPE=image/jpeg:https://calpcomunica.calp.es/wp-content/uploads/2025/10/WhatsApp-Image-2025-10-30-at-11.24.13.jpeg
END:VEVENT
END:VCALENDAR