BEGIN:VCALENDAR
VERSION:2.0
PRODID:-//Calp - ECPv6.15.20//NONSGML v1.0//EN
CALSCALE:GREGORIAN
METHOD:PUBLISH
X-WR-CALNAME:Calp
X-ORIGINAL-URL:https://calpcomunica.calp.es/?lang=en
X-WR-CALDESC:Events for Calp
REFRESH-INTERVAL;VALUE=DURATION:PT1H
X-Robots-Tag:noindex
X-PUBLISHED-TTL:PT1H
BEGIN:VTIMEZONE
TZID:UTC
BEGIN:STANDARD
TZOFFSETFROM:+0000
TZOFFSETTO:+0000
TZNAME:UTC
DTSTART:20240101T000000
END:STANDARD
END:VTIMEZONE
BEGIN:VEVENT
DTSTART;VALUE=DATE:20250826
DTEND;VALUE=DATE:20250827
DTSTAMP:20260422T065232
CREATED:20250826T075025Z
LAST-MODIFIED:20250826T075025Z
UID:10001275-1756166400-1756252799@calpcomunica.calp.es
SUMMARY:Registration – Adult Learning Center
DESCRIPTION:
URL:https://calpcomunica.calp.es/evento/registration-adult-learning-center/?lang=en
CATEGORIES:Actividades
ATTACH;FMTTYPE=image/jpeg:https://calpcomunica.calp.es/wp-content/uploads/2025/08/538704730_18084835915880709_4445212146580307961_n.jpg
END:VEVENT
BEGIN:VEVENT
DTSTART;VALUE=DATE:20250825
DTEND;VALUE=DATE:20250826
DTSTAMP:20260422T065232
CREATED:20250825T072811Z
LAST-MODIFIED:20250825T072811Z
UID:10001254-1756080000-1756166399@calpcomunica.calp.es
SUMMARY:Registration for the swimming pool
DESCRIPTION:
URL:https://calpcomunica.calp.es/evento/registration-for-the-swimming-pool/?lang=en
CATEGORIES:Actividades
ATTACH;FMTTYPE=image/jpeg:https://calpcomunica.calp.es/wp-content/uploads/2025/08/535416354_122148323492615261_65428363469135930_n.jpg
END:VEVENT
BEGIN:VEVENT
DTSTART;TZID=UTC:20250823T200000
DTEND;TZID=UTC:20250823T233000
DTSTAMP:20260422T065232
CREATED:20250822T071935Z
LAST-MODIFIED:20250822T071935Z
UID:10001236-1755979200-1755991800@calpcomunica.calp.es
SUMMARY:Great Nazarene Festitapa
DESCRIPTION:
URL:https://calpcomunica.calp.es/evento/great-nazarene-festitapa/?lang=en
CATEGORIES:Actividades
ATTACH;FMTTYPE=image/jpeg:https://calpcomunica.calp.es/wp-content/uploads/2025/08/WhatsApp-Image-2025-08-21-at-10.51.19.jpeg
END:VEVENT
BEGIN:VEVENT
DTSTART;VALUE=DATE:20250802
DTEND;VALUE=DATE:20250901
DTSTAMP:20260422T065232
CREATED:20250731T083913Z
LAST-MODIFIED:20250731T083913Z
UID:10000965-1754092800-1756684799@calpcomunica.calp.es
SUMMARY:🎨 Painting Exhibition: "Pinta que pintarás" 🖌️
DESCRIPTION:The Exhibition Hall of the Ajuntament Vell will host throughout August the pictorial work of Paqui Colomina\, a proposal full of colour\, landscapes and artistic sensitivity.📅 From August 2 to 30\, 2025🕖 Opening hours: Wednesday to Sunday\, from 10:00 AM to 1:00 PM and from 6:30 PM to 10:00 PM📍 Exhibition Hall – Ajuntament Vell (C/ Francisco Zaragoza\, 2)🎟️ Free entry🖼️ Opening event: Saturday\, August 2 at 7:00 PM
URL:https://calpcomunica.calp.es/evento/%f0%9f%8e%a8-painting-exhibition-pinta-que-pintaras-%f0%9f%96%8c%ef%b8%8f/?lang=en
CATEGORIES:Actividades
ATTACH;FMTTYPE=image/jpeg:https://calpcomunica.calp.es/wp-content/uploads/2025/07/02-30-08-25-EXPO-AJ-PAQUI-COLOMINA.jpg
END:VEVENT
BEGIN:VEVENT
DTSTART;VALUE=DATE:20250801
DTEND;VALUE=DATE:20250802
DTSTAMP:20260422T065232
CREATED:20250801T104213Z
LAST-MODIFIED:20250801T104213Z
UID:10000989-1754006400-1754092799@calpcomunica.calp.es
SUMMARY:♻️ Recycling gives a new life to our waste!
DESCRIPTION:In Calp\, we’re committed to easy and responsible recycling. Do you know what each colour means? 👇 \n🟡 Yellow: Packaging and wrappers. Plastic bottles\, cans and cartons can have a second useful life. Give them a chance!\n🔵 Blue: Paper and cardboard. Every ton of recycled paper saves around 17 trees. 🌳\n🟢 Green: Glass. Recycled glass becomes new containers and helps reduce air pollution. 🌍\n🟤 Brown: Organic waste. For food and plant scraps. Essential for composting\, turning waste into natural fertiliser. 🌱
URL:https://calpcomunica.calp.es/evento/%e2%99%bb%ef%b8%8f-recycling-gives-a-new-life-to-our-waste/?lang=en
CATEGORIES:Actividades
ATTACH;FMTTYPE=image/jpeg:https://calpcomunica.calp.es/wp-content/uploads/2025/08/Infografia-reciclaje-en-colores.jpg
END:VEVENT
BEGIN:VEVENT
DTSTART;VALUE=DATE:20250801
DTEND;VALUE=DATE:20250802
DTSTAMP:20260422T065232
CREATED:20250801T080942Z
LAST-MODIFIED:20250801T080942Z
UID:10000974-1754006400-1754092799@calpcomunica.calp.es
SUMMARY:🎉 The Patron Saint Festivities in honour of the Mare de Déu de les Neus are here!
DESCRIPTION:📍Check out the full programme on the attached posters or through the official channels of the Town Hall.
URL:https://calpcomunica.calp.es/evento/%f0%9f%8e%89-the-patron-saint-festivities-in-honour-of-the-mare-de-deu-de-les-neus-are-here/?lang=en
CATEGORIES:Actividades
ATTACH;FMTTYPE=image/jpeg:https://calpcomunica.calp.es/wp-content/uploads/2025/07/Programa_Festes_Agost_2025-2_page-0001-scaled.jpg
END:VEVENT
BEGIN:VEVENT
DTSTART;TZID=UTC:20250731T220000
DTEND;TZID=UTC:20250731T233000
DTSTAMP:20260422T065232
CREATED:20250730T074107Z
LAST-MODIFIED:20250730T074107Z
UID:10000936-1753999200-1754004600@calpcomunica.calp.es
SUMMARY:🎬 Cinema by the Sea: CAMPEONEX 🏀
DESCRIPTION:This Thursday\, enjoy an open-air movie night with “Campeonex”\, the long-awaited sequel to the hit comedy Campeones.📅 Thursday\, July 31\, 2025🕙 10:00 PM📍 La Fossa Beach – Calp🎟️ Free entry👦 Ages 7+ | ⏱️ Duration: 124 minutes | 🎭 Comedy
URL:https://calpcomunica.calp.es/evento/%f0%9f%8e%ac-cinema-by-the-sea-campeonex-%f0%9f%8f%80/?lang=en
CATEGORIES:Actividades
ATTACH;FMTTYPE=image/jpeg:https://calpcomunica.calp.es/wp-content/uploads/2025/07/Cinema-a-la-mar-1.jpg
END:VEVENT
BEGIN:VEVENT
DTSTART;TZID=UTC:20250729T200000
DTEND;TZID=UTC:20250729T210000
DTSTAMP:20260422T065232
CREATED:20250728T074854Z
LAST-MODIFIED:20250728T074854Z
UID:10000899-1753819200-1753822800@calpcomunica.calp.es
SUMMARY:🎭 FAMILY THEATRE IN CALP: B.O.B.A.S. 🎺🥁
DESCRIPTION:📅 Tuesday\, July 29\, 2025\n🕗 8:00 PM\n📍 Vallesa Park (Av. Jaime I\, El Conquistador)\n🎟️ Free entry \n👪 Family audience | 👧 Ages 6 and up | ⏱️ 60 minutes\n🎪 A trio of classic and contemporary clowns turns a failed funeral ceremony into a hilarious show full of music\, humor\, and unexpected mishaps. \n✨ Award highlights:\n🏆 Best Street Show – FETÉN 2024\n🏆 Best Show – Umore Azoka 2023\n🏆 Audience Award – Mostra d’Igualada 2024 & ARCA Festival 2023\n🎯 Recommended by the Spanish Network of Theatres \n 
URL:https://calpcomunica.calp.es/evento/%f0%9f%8e%ad-family-theatre-in-calp-b-o-b-a-s-%f0%9f%8e%ba%f0%9f%a5%81/?lang=en
CATEGORIES:Actividades
ATTACH;FMTTYPE=image/jpeg:https://calpcomunica.calp.es/wp-content/uploads/2025/07/29-07-25-Cartel-ESPECTACULO-BOBAS.jpg
END:VEVENT
BEGIN:VEVENT
DTSTART;VALUE=DATE:20250729
DTEND;VALUE=DATE:20250730
DTSTAMP:20260422T065232
CREATED:20250729T094951Z
LAST-MODIFIED:20250729T094951Z
UID:10000921-1753747200-1753833599@calpcomunica.calp.es
SUMMARY:🎉 The Patron Saint Festivities in honour of the Mare de Déu de les Neus are here! 🎆
DESCRIPTION:Calp is filled with tradition\, music\, fireworks\, fun\, and events for all audiences from July 24 to August 10. \n📍Check out the full schedule on the attached posters or on the official channels of the Town Hall.
URL:https://calpcomunica.calp.es/evento/%f0%9f%8e%89-the-patron-saint-festivities-in-honour-of-the-mare-de-deu-de-les-neus-are-here-%f0%9f%8e%86/?lang=en
CATEGORIES:Actividades
ATTACH;FMTTYPE=image/jpeg:https://calpcomunica.calp.es/wp-content/uploads/2025/07/Programa_Festes_Agost_2025-2_page-0001-scaled.jpg
END:VEVENT
BEGIN:VEVENT
DTSTART;TZID=UTC:20250726T203000
DTEND;TZID=UTC:20250726T230000
DTSTAMP:20260422T065232
CREATED:20250724T092436Z
LAST-MODIFIED:20250724T092436Z
UID:10000859-1753561800-1753570800@calpcomunica.calp.es
SUMMARY:🥁 Concert: Connecta Percussió 🎶
DESCRIPTION:This Saturday\, enjoy the group Connecta Percussió at the Auditorium of the Calp Cultural Centre. \n📅 Saturday\, July 26\, 2025\n🕣 8:30 PM\n📍 Auditorium – Calp Cultural Centre (Av. Masnou\, 1)\n🎟️ Free entry until full capacity is reached \n🎼 Event part of the 2025 Music and Theatre Promotion Campaign by the Provincial Council of Alicante.
URL:https://calpcomunica.calp.es/evento/%f0%9f%a5%81-concert-connecta-percussio-%f0%9f%8e%b6/?lang=en
CATEGORIES:Actividades
ATTACH;FMTTYPE=image/jpeg:https://calpcomunica.calp.es/wp-content/uploads/2025/07/26-07-25-Cartel-CONNECTA-PERCUSSIO.jpg
END:VEVENT
BEGIN:VEVENT
DTSTART;TZID=UTC:20250725T200000
DTEND;TZID=UTC:20250725T220000
DTSTAMP:20260422T065232
CREATED:20250723T080745Z
LAST-MODIFIED:20250723T080745Z
UID:10000829-1753473600-1753480800@calpcomunica.calp.es
SUMMARY:🎶 Choral Concert in Calp 🎶
DESCRIPTION:Performance by the Coral Ifach and the Joves Cantors d’Ifach\, conducted by Rafael Domenech. \n📅 Friday\, July 25\, 2025 \n🕗 8:00 PM \n📍 Saló Blau – Calp Cultural Centre (Av. Masnou\, 1) \n🎟️ Free entry until full capacity is reached
URL:https://calpcomunica.calp.es/evento/%f0%9f%8e%b6-choral-concert-in-calp-%f0%9f%8e%b6/?lang=en
CATEGORIES:Actividades
ATTACH;FMTTYPE=image/jpeg:https://calpcomunica.calp.es/wp-content/uploads/2025/07/25-07-25-New-Cartel-CORAL.jpg
END:VEVENT
BEGIN:VEVENT
DTSTART;TZID=UTC:20250724T220000
DTEND;TZID=UTC:20250724T233000
DTSTAMP:20260422T065232
CREATED:20250723T075514Z
LAST-MODIFIED:20250723T075514Z
UID:10000826-1753394400-1753399800@calpcomunica.calp.es
SUMMARY:🎬 Cinema a la Mar returns this Thursday with a fun comedy under the stars 🌊✨
DESCRIPTION:📍 Arenal-Bol Beach\n📅 Thursday\, July 24\n🕙 10:00 PM\n🎟️ Free entry \n📽️ Screening of “Menudas piezas”\, a comedy for ages 12 and up.\n⏱️ Duration: 98 minutes \nDon’t miss it! 🍿
URL:https://calpcomunica.calp.es/evento/%f0%9f%8e%ac-cinema-a-la-mar-returns-this-thursday-with-a-fun-comedy-under-the-stars-%f0%9f%8c%8a%e2%9c%a8/?lang=en
CATEGORIES:Actividades
ATTACH;FMTTYPE=image/jpeg:https://calpcomunica.calp.es/wp-content/uploads/2025/07/24-07-25-MENUDAS-PIEZAS.jpg
END:VEVENT
BEGIN:VEVENT
DTSTART;TZID=UTC:20250724T210000
DTEND;TZID=UTC:20250724T230000
DTSTAMP:20260422T065232
CREATED:20250724T071907Z
LAST-MODIFIED:20250724T071907Z
UID:10000850-1753390800-1753398000@calpcomunica.calp.es
SUMMARY:🎉🎉 Presentation of the 2025 Patron Saint Festivities Book
DESCRIPTION:📅 Thursday\, July 24⌚️ 9:00 PM📍 Saló Blau
URL:https://calpcomunica.calp.es/evento/%f0%9f%8e%89%f0%9f%8e%89-presentation-of-the-2025-patron-saint-festivities-book/?lang=en
CATEGORIES:Actividades
ATTACH;FMTTYPE=image/jpeg:https://calpcomunica.calp.es/wp-content/uploads/2025/07/Llibres-de-festes.jpg
END:VEVENT
BEGIN:VEVENT
DTSTART;TZID=UTC:20250722T220000
DTEND;TZID=UTC:20250722T235900
DTSTAMP:20260422T065232
CREATED:20250721T075103Z
LAST-MODIFIED:20250721T075103Z
UID:10000795-1753221600-1753228740@calpcomunica.calp.es
SUMMARY:🎬🌊 The Cinema a la Mar series continues in Calp!
DESCRIPTION:This Tuesday\, July 22\, come and enjoy an open-air movie night on La Fossa Beach with the screening of “Noah’s Ark\,” a fun animated film for all audiences. \n📅 Tuesday\, July 22🕙 10:00 p.m.📍 La Fossa Beach\, Calp🎟️ Free entry
URL:https://calpcomunica.calp.es/evento/%f0%9f%8e%ac%f0%9f%8c%8a-the-cinema-a-la-mar-series-continues-in-calp/?lang=en
CATEGORIES:Actividades
ATTACH;FMTTYPE=image/jpeg:https://calpcomunica.calp.es/wp-content/uploads/2025/07/22-07-25-EL-ARCA.jpg
END:VEVENT
BEGIN:VEVENT
DTSTART;TZID=UTC:20250719T200000
DTEND;TZID=UTC:20250719T220000
DTSTAMP:20260422T065232
CREATED:20250717T082920Z
LAST-MODIFIED:20250717T082920Z
UID:10000751-1752955200-1752962400@calpcomunica.calp.es
SUMMARY:🎶✨ Celebrate the 25th anniversary of the Xirimiters del Carellot!
DESCRIPTION:This Saturday\, join us at the Odeón Theater in Calp’s Casa de Cultura for a very special concert to mark the 25th anniversary of the local group Xirimiters del Carellot. \n📅 Saturday\, July 19🕗 8:00 p.m.📍 Odeón Theater – Casa de Cultura🎟️ Free entry (limited seating) \nDon’t miss it!
URL:https://calpcomunica.calp.es/evento/%f0%9f%8e%b6%e2%9c%a8-celebrate-the-25th-anniversary-of-the-xirimiters-del-carellot/?lang=en
CATEGORIES:Actividades
ATTACH;FMTTYPE=image/jpeg:https://calpcomunica.calp.es/wp-content/uploads/2025/07/19-07-25-Cartel-CONCIERTO-XIRIMITERS-1.jpg
END:VEVENT
BEGIN:VEVENT
DTSTART;TZID=UTC:20250718T220000
DTEND;TZID=UTC:20250718T235900
DTSTAMP:20260422T065232
CREATED:20250714T072549Z
LAST-MODIFIED:20250714T072549Z
UID:10000695-1752876000-1752883140@calpcomunica.calp.es
SUMMARY:🎸✨ The Cream Pop Minifestival is back in Calp!
DESCRIPTION:19th edition of this festival that combines independent music\, a fun atmosphere\, and the sea breeze at the Port of Calp.This year with concerts by:🎤 Venturi🎸 Alison Darwin🥁 L’Home Brut \n📅 Friday\, July 18📍 Port of Calp🎟️ Free entry
URL:https://calpcomunica.calp.es/evento/%f0%9f%8e%b8%e2%9c%a8-the-cream-pop-minifestival-is-back-in-calp/?lang=en
CATEGORIES:Actividades
ATTACH;FMTTYPE=image/jpeg:https://calpcomunica.calp.es/wp-content/uploads/2025/07/Cream-pop.jpg
END:VEVENT
BEGIN:VEVENT
DTSTART;TZID=UTC:20250717T220000
DTEND;TZID=UTC:20250717T233000
DTSTAMP:20260422T065232
CREATED:20250716T093730Z
LAST-MODIFIED:20250716T093730Z
UID:10000738-1752789600-1752795000@calpcomunica.calp.es
SUMMARY:🎬🌊 Tomorrow we have a new Cinema a la Mar session in Calp!
DESCRIPTION:Come and enjoy an open-air movie night with the screening of “Trolls 3: Band Together”\, a fun animated film for the whole family.📅 Thursday\, 17th July🕙 10:00 PM📍 Arenal-Bol Beach
URL:https://calpcomunica.calp.es/evento/%f0%9f%8e%ac%f0%9f%8c%8a-tomorrow-we-have-a-new-cinema-a-la-mar-session-in-calp/?lang=en
CATEGORIES:Actividades
ATTACH;FMTTYPE=image/jpeg:https://calpcomunica.calp.es/wp-content/uploads/2025/07/Cinema-a-la-mar.jpg
END:VEVENT
BEGIN:VEVENT
DTSTART;TZID=UTC:20250712T210000
DTEND;TZID=UTC:20250712T230000
DTSTAMP:20260422T065232
CREATED:20250704T084031Z
LAST-MODIFIED:20250704T084031Z
UID:10000572-1752354000-1752361200@calpcomunica.calp.es
SUMMARY:🏃‍♂️🏃‍♀️ V Lluna d'Oltà Night Trail
DESCRIPTION:2 options: \n✅ Trail run: 15 km \n✅ Hiking: 10 km \n🗓️ July 12 \n🕘 9:00 p.m. \n📌 Organized by: Grup de Muntanya de Calp \n✅ Registration:
URL:https://calpcomunica.calp.es/evento/%f0%9f%8f%83%e2%99%82%ef%b8%8f%f0%9f%8f%83%e2%99%80%ef%b8%8f-v-lluna-dolta-night-trail/?lang=en
CATEGORIES:Actividades
ATTACH;FMTTYPE=image/jpeg:https://calpcomunica.calp.es/wp-content/uploads/2025/07/Trail-1.jpeg
END:VEVENT
BEGIN:VEVENT
DTSTART;TZID=UTC:20250711T200000
DTEND;TZID=UTC:20250711T220000
DTSTAMP:20260422T065233
CREATED:20250710T074244Z
LAST-MODIFIED:20250710T074244Z
UID:10000662-1752264000-1752271200@calpcomunica.calp.es
SUMMARY:🎶✨ 22nd Musical Exchange Concert Series
DESCRIPTION:This Friday\, enjoy a special concert by the Societat Recreativa Musical d’Altea la Vella and the Agrupació Musical CLAUdeFA de Calp. \n📅 Friday\, July 11🕗 8:00 p.m.📍 Auditorium – Casa de Cultura🎟️ Free entry until full capacity is reached
URL:https://calpcomunica.calp.es/evento/%f0%9f%8e%b6%e2%9c%a8-22nd-musical-exchange-concert-series/?lang=en
CATEGORIES:Actividades
ATTACH;FMTTYPE=image/jpeg:https://calpcomunica.calp.es/wp-content/uploads/2025/07/11-07-25-Cartel-CONCIERTO-INTERCAMBIO-CLAUDEFA.jpg
END:VEVENT
BEGIN:VEVENT
DTSTART;TZID=UTC:20250706T200000
DTEND;TZID=UTC:20250706T220000
DTSTAMP:20260422T065233
CREATED:20250704T090642Z
LAST-MODIFIED:20250704T090642Z
UID:10000578-1751832000-1751839200@calpcomunica.calp.es
SUMMARY:🎶✨ Itinerant Concert in the Historic Centre
DESCRIPTION:The Unió Musical Calp Ifach will fill the streets of the old town with music through an itinerant concert.\n📅 Sunday\, July 6\, 2025\n🕗 8:00 p.m. – Start at C/ La Fuente\n📍 Route through the streets of the Historic Centre
URL:https://calpcomunica.calp.es/evento/%f0%9f%8e%b6%e2%9c%a8-itinerant-concert-in-the-historic-centre/?lang=en
CATEGORIES:Actividades
ATTACH;FMTTYPE=image/jpeg:https://calpcomunica.calp.es/wp-content/uploads/2025/07/concierto-unio-musical.jpg
END:VEVENT
BEGIN:VEVENT
DTSTART;TZID=UTC:20250705T200000
DTEND;TZID=UTC:20250705T233000
DTSTAMP:20260422T065233
CREATED:20250704T085449Z
LAST-MODIFIED:20250704T085449Z
UID:10000575-1751745600-1751758200@calpcomunica.calp.es
SUMMARY:Fair in the square
DESCRIPTION:Fair in the square
URL:https://calpcomunica.calp.es/evento/fair-in-the-square/?lang=en
CATEGORIES:Actividades
ATTACH;FMTTYPE=image/jpeg:https://calpcomunica.calp.es/wp-content/uploads/2025/07/777d8081-31f7-47cf-aaeb-b0c0ab4588ed.jpg
END:VEVENT
BEGIN:VEVENT
DTSTART;TZID=UTC:20250705T190000
DTEND;TZID=UTC:20250705T220000
DTSTAMP:20260422T065233
CREATED:20250703T112533Z
LAST-MODIFIED:20250703T112533Z
UID:10000554-1751742000-1751752800@calpcomunica.calp.es
SUMMARY:🎭✨ Els millors musicals de la història de Broadway arriben a Calp
DESCRIPTION:Un recorregut pels musicals més emblemàtics interpretats per l’Orquestra Simfònica Teatre Castelar\, sota la direcció artística d’Octavio J. Peidrò\, i amb la soprano Cristina Sánchez Montes. \n📅 Dissabte 5 de juliol de 2025🕖 19 h📍 Auditori de la Casa de Cultura (Av. Masnou\, 1)🎟️ Entrada lliure fins a completar aforament \nNo t’ho perdes!
URL:https://calpcomunica.calp.es/evento/%f0%9f%8e%ad%e2%9c%a8-els-millors-musicals-de-la-historia-de-broadway-arriben-a-calp/?lang=en
CATEGORIES:Actividades
ATTACH;FMTTYPE=image/jpeg:https://calpcomunica.calp.es/wp-content/uploads/2025/07/Broadway.jpg
END:VEVENT
BEGIN:VEVENT
DTSTART;TZID=UTC:20250704T170000
DTEND;TZID=UTC:20250704T203000
DTSTAMP:20260422T065233
CREATED:20250704T075043Z
LAST-MODIFIED:20250704T075043Z
UID:10000566-1751648400-1751661000@calpcomunica.calp.es
SUMMARY:❤️🩸 This Friday\, July 4\, 2025\, you have a new opportunity to save lives by donating blood in Calp.
DESCRIPTION:📍 Location: Local Red Cross Assembly (C/ María Jorro\, 1 – local -1) \n🕔 Time: From 5:00 p.m. to 8:30 p.m. \n🔗 Requirements: Be over 18 years old\, weigh more than 50 kg\, and do not come on an empty stomach. \nYour donation can save up to 3 lives. We’re waiting for you!
URL:https://calpcomunica.calp.es/evento/%e2%9d%a4%ef%b8%8f%f0%9f%a9%b8-this-friday-july-4-2025-you-have-a-new-opportunity-to-save-lives-by-donating-blood-in-calp-2/?lang=en
CATEGORIES:Actividades
ATTACH;FMTTYPE=image/jpeg:https://calpcomunica.calp.es/wp-content/uploads/2025/06/04.07-CALPE-CRUZ-ROJAV.jpg
END:VEVENT
BEGIN:VEVENT
DTSTART;TZID=UTC:20250704T170000
DTEND;TZID=UTC:20250704T203000
DTSTAMP:20260422T065233
CREATED:20250630T115132Z
LAST-MODIFIED:20250630T115132Z
UID:10000505-1751648400-1751661000@calpcomunica.calp.es
SUMMARY:❤️🩸 This Friday\, July 4\, 2025\, you have a new opportunity to save lives by donating blood in Calp.
DESCRIPTION:📍 Location: Local Red Cross Assembly (C/ María Jorro\, 1 – local -1)\n🕔 Time: From 5:00 p.m. to 8:30 p.m.\n🔗 Requirements: Be over 18 years old\, weigh more than 50 kg\, and do not come on an empty stomach.\nYour donation can save up to 3 lives. We’re waiting for you!
URL:https://calpcomunica.calp.es/evento/%e2%9d%a4%ef%b8%8f%f0%9f%a9%b8-this-friday-july-4-2025-you-have-a-new-opportunity-to-save-lives-by-donating-blood-in-calp/?lang=en
CATEGORIES:Actividades
ATTACH;FMTTYPE=image/jpeg:https://calpcomunica.calp.es/wp-content/uploads/2025/06/04.07-CALPE-CRUZ-ROJAV.jpg
END:VEVENT
BEGIN:VEVENT
DTSTART;TZID=UTC:20250630T200000
DTEND;TZID=UTC:20250630T220000
DTSTAMP:20260422T065233
CREATED:20250626T090530Z
LAST-MODIFIED:20250626T090730Z
UID:10000452-1751313600-1751320800@calpcomunica.calp.es
SUMMARY:🎶🎶 A Summer Night Concert performed by the Philharmonic Orchestra of the University of Alicante
DESCRIPTION:Guest Conductor: Gena Llévano · Concertmaster: Antonio García Egea \n📅 Monday\, June 30 at 8:00 p.m. at the Auditorium of the Casa de Cultura. \n🎟🎟 Free admission\, subject to venue capacity.
URL:https://calpcomunica.calp.es/evento/%f0%9f%8e%b6%f0%9f%8e%b6-a-summer-night-concert-performed-by-the-philharmonic-orchestra-of-the-university-of-alicante/?lang=en
LOCATION:Auditorio. Casa de Cultura\, Av. Masnou\, 1\, Calp\, Alicante\, 03710\, Spain
CATEGORIES:Actividades
ATTACH;FMTTYPE=image/jpeg:https://calpcomunica.calp.es/wp-content/uploads/2025/06/Concierto-OFA.jpeg
END:VEVENT
BEGIN:VEVENT
DTSTART;TZID=UTC:20250629T180000
DTEND;TZID=UTC:20250629T200000
DTSTAMP:20260422T065233
CREATED:20250625T104109Z
LAST-MODIFIED:20250625T104109Z
UID:10000400-1751220000-1751227200@calpcomunica.calp.es
SUMMARY:🌞💃 Welcome Summer at the Civic Center!
DESCRIPTION:This Sunday\, June 29 at 6:00 p.m.\, join us to celebrate the start of summer with: \n🎶 Dancing🥤 Horchata and fartons for all attendees
URL:https://calpcomunica.calp.es/evento/%f0%9f%8c%9e%f0%9f%92%83-welcome-summer-at-the-civic-center/?lang=en
CATEGORIES:Actividades
ATTACH;FMTTYPE=image/jpeg:https://calpcomunica.calp.es/wp-content/uploads/2025/06/Hola-Verano-Centre-Civic-2025_page-0001.jpg
END:VEVENT
BEGIN:VEVENT
DTSTART;VALUE=DATE:20250626
DTEND;VALUE=DATE:20250627
DTSTAMP:20260422T065233
CREATED:20250626T075216Z
LAST-MODIFIED:20250626T075216Z
UID:10000440-1750896000-1750982399@calpcomunica.calp.es
SUMMARY:CalpPride Celebration
DESCRIPTION:🏳️‍🌈 To celebrate CalPride\, the Calp Town Hall will light up the following landmarks with the colors of the LGTBI+ flag until Sunday: \n✅ Refugio del Viento Roundabout✅ Town Hall Facade
URL:https://calpcomunica.calp.es/evento/calppride-celebration-2/?lang=en
CATEGORIES:Actividades
ATTACH;FMTTYPE=image/jpeg:https://calpcomunica.calp.es/wp-content/uploads/2025/06/505354620_1143675757801209_8260423053314139686_n-1.jpg
END:VEVENT
BEGIN:VEVENT
DTSTART;VALUE=DATE:20250626
DTEND;VALUE=DATE:20250627
DTSTAMP:20260422T065233
CREATED:20250626T074505Z
LAST-MODIFIED:20250626T074505Z
UID:10000436-1750896000-1750982399@calpcomunica.calp.es
SUMMARY:Craft markets
DESCRIPTION:🛍✨ This summer\, don’t miss the Craft Markets of Calp!From June to September\, you can enjoy these traditional seaside markets\, featuring stalls with leather goods\, jewelry\, textiles\, woodcrafts\, scented candles\, and much more.📍 Plaza Mediterráneo (La Fossa Beach)📍 Calle Alemania (Arenal-Bol Beach)🎁 Handcrafted products\, a Mediterranean atmosphere\, and plenty of gift ideas—or the perfect treat for yourself. Come and visit!
URL:https://calpcomunica.calp.es/evento/craft-markets/?lang=en
CATEGORIES:Actividades
ATTACH;FMTTYPE=image/jpeg:https://calpcomunica.calp.es/wp-content/uploads/2025/06/506619192_1143605111141607_5324239223455290458_n.jpg
END:VEVENT
END:VCALENDAR