BEGIN:VCALENDAR
VERSION:2.0
PRODID:-//Calp - ECPv6.15.20//NONSGML v1.0//EN
CALSCALE:GREGORIAN
METHOD:PUBLISH
X-ORIGINAL-URL:https://calpcomunica.calp.es/?lang=en
X-WR-CALDESC:Events for Calp
REFRESH-INTERVAL;VALUE=DURATION:PT1H
X-Robots-Tag:noindex
X-PUBLISHED-TTL:PT1H
BEGIN:VTIMEZONE
TZID:UTC
BEGIN:STANDARD
TZOFFSETFROM:+0000
TZOFFSETTO:+0000
TZNAME:UTC
DTSTART:20240101T000000
END:STANDARD
END:VTIMEZONE
BEGIN:VEVENT
DTSTART;VALUE=DATE:20251202
DTEND;VALUE=DATE:20251203
DTSTAMP:20260422T174944
CREATED:20251202T085340Z
LAST-MODIFIED:20251202T085340Z
UID:10002692-1764633600-1764719999@calpcomunica.calp.es
SUMMARY:Christmas to your balcony
DESCRIPTION:
URL:https://calpcomunica.calp.es/evento/christmas-to-your-balcony/?lang=en
CATEGORIES:Actividades
ATTACH;FMTTYPE=image/jpeg:https://calpcomunica.calp.es/wp-content/uploads/2025/12/485644623_1078843780951074_3168367145662761340_n.jpg
END:VEVENT
BEGIN:VEVENT
DTSTART;VALUE=DATE:20251231
DTEND;VALUE=DATE:20260101
DTSTAMP:20260422T174944
CREATED:20251223T083852Z
LAST-MODIFIED:20251223T083852Z
UID:10002958-1767139200-1767225599@calpcomunica.calp.es
SUMMARY:New Year’s Eve Party
DESCRIPTION:
URL:https://calpcomunica.calp.es/evento/new-years-eve-party/?lang=en
CATEGORIES:Actividades
END:VEVENT
END:VCALENDAR