BEGIN:VCALENDAR
VERSION:2.0
PRODID:-//Calp - ECPv6.15.20//NONSGML v1.0//EN
CALSCALE:GREGORIAN
METHOD:PUBLISH
X-ORIGINAL-URL:https://calpcomunica.calp.es/?lang=en
X-WR-CALDESC:Events for Calp
REFRESH-INTERVAL;VALUE=DURATION:PT1H
X-Robots-Tag:noindex
X-PUBLISHED-TTL:PT1H
BEGIN:VTIMEZONE
TZID:UTC
BEGIN:STANDARD
TZOFFSETFROM:+0000
TZOFFSETTO:+0000
TZNAME:UTC
DTSTART:20240101T000000
END:STANDARD
END:VTIMEZONE
BEGIN:VEVENT
DTSTART;VALUE=DATE:20250910
DTEND;VALUE=DATE:20250911
DTSTAMP:20260423T021746
CREATED:20250910T082803Z
LAST-MODIFIED:20250910T082803Z
UID:10001490-1757462400-1757548799@calpcomunica.calp.es
SUMMARY:🎶💃 Intercasas 2025 in Calp
DESCRIPTION:📅 Sunday\, September 28\, 2025 \n🕚 At 11:00 a.m. \n📍 Parque de la Creatividad (Partida Gargasindi\, 1H) Enjoy a day of community with: \n🎵 Performances by “rociero” choirs and dance groups from Andalusian houses and associations in the south of the Valencian Community and Albacete\, affiliated with FECUAS. \n🍴 Afterwards\, a shared meal. \n🍹 There will be a bar service for the benefit of the Christian Ensign. \nOrganized by: Casa de Andalucía de Calp and FECUAS In collaboration with: Calp Town Council and Junta de Andalucía
URL:https://calpcomunica.calp.es/evento/%f0%9f%8e%b6%f0%9f%92%83-intercasas-2025-in-calp/?lang=en
CATEGORIES:Actividades
ATTACH;FMTTYPE=image/jpeg:https://calpcomunica.calp.es/wp-content/uploads/2025/09/Intercasas.jpg
END:VEVENT
BEGIN:VEVENT
DTSTART;VALUE=DATE:20250910
DTEND;VALUE=DATE:20250911
DTSTAMP:20260423T021746
CREATED:20250910T084731Z
LAST-MODIFIED:20250910T084731Z
UID:10001493-1757462400-1757548799@calpcomunica.calp.es
SUMMARY:🎶✨ The Songs of Your Life – The Party arrives in Calp
DESCRIPTION:📅 Friday\, September 19\, 2025 \n🕘 9:00 p.m. \n📍 Plaza Mayor A show that will review the great hits of several generations\, to enjoy with family and friends. \n🍹 There will be a bar service for the benefit of the Alicante Association for the Fight against Cancer – Calp Local Chapter.
URL:https://calpcomunica.calp.es/evento/%f0%9f%8e%b6%e2%9c%a8-the-songs-of-your-life-the-party-arrives-in-calp/?lang=en
CATEGORIES:Actividades
ATTACH;FMTTYPE=image/jpeg:https://calpcomunica.calp.es/wp-content/uploads/2025/09/Cartel_CancionesVida_calpe_32x45_Mesa-de-trabajo-1-scaled.jpg
END:VEVENT
BEGIN:VEVENT
DTSTART;VALUE=DATE:20250922
DTEND;VALUE=DATE:20250923
DTSTAMP:20260423T021746
CREATED:20250922T075557Z
LAST-MODIFIED:20250922T075557Z
UID:10001661-1758499200-1758585599@calpcomunica.calp.es
SUMMARY:📚 Extended enrollment period at the FPA in Calp
DESCRIPTION:🗓️ Enrollment dates: September 22\, 23\, 24\, and 25 \n🕖 Hours: from 7:00 p.m. to 9:00 p.m. \n✅ Valencian courses \nA1 and A2 (Official certification) \nB1 and C1 (JQCV preparation) \n✅ English courses \nA1\, A2\, and B1 \nEnglish conversation B1
URL:https://calpcomunica.calp.es/evento/%f0%9f%93%9a-extended-enrollment-period-at-the-fpa-in-calp/?lang=en
CATEGORIES:Actividades
ATTACH;FMTTYPE=image/jpeg:https://calpcomunica.calp.es/wp-content/uploads/2025/09/Ampliacion-ingles.jpg
END:VEVENT
BEGIN:VEVENT
DTSTART;VALUE=DATE:20250925
DTEND;VALUE=DATE:20250926
DTSTAMP:20260423T021746
CREATED:20250925T101631Z
LAST-MODIFIED:20250925T101631Z
UID:10001731-1758758400-1758844799@calpcomunica.calp.es
SUMMARY:👩‍💼✨ Female Talent in Calp
DESCRIPTION:Yesterday\, the 1st Pitch Competition for women entrepreneurs of the Marina Alta and Baixa was held\, organized by the Calp Town Council\, Creama\, and AEPA.\nWith the participation of 12 businesswomen from both regions\, the event highlighted the talent and value that their initiatives bring to our territory.\n🏆 Competition Winners:\n🥇 First Prize: Ofelia Miralles Ferrando\n🥈 Second Prize: Jobotics Systems\, by Claudia Schaidreiter\n🥉 Third Prize: Calpe Publicidad and Boutique Márcala\, by Marina Belliure\nCongratulations to all the participants for their effort\, creativity\, and commitment to entrepreneurship👏
URL:https://calpcomunica.calp.es/evento/%f0%9f%91%a9%f0%9f%92%bc%e2%9c%a8-female-talent-in-calp/?lang=en
CATEGORIES:Actividades
ATTACH;FMTTYPE=image/jpeg:https://calpcomunica.calp.es/wp-content/uploads/2025/09/Primer-Premio-scaled.jpg
END:VEVENT
BEGIN:VEVENT
DTSTART;VALUE=DATE:20250927
DTEND;VALUE=DATE:20250928
DTSTAMP:20260423T021746
CREATED:20250922T104954Z
LAST-MODIFIED:20250922T104954Z
UID:10001673-1758931200-1759017599@calpcomunica.calp.es
SUMMARY:22nd Musical Exchange Concert Series 2025: Colla Portitxol of Xàbia and Colla de Xirimiters del Carellot of Calp.
DESCRIPTION:
URL:https://calpcomunica.calp.es/evento/22nd-musical-exchange-concert-series-2025-colla-portitxol-of-xabia-and-colla-de-xirimiters-del-carellot-of-calp/?lang=en
CATEGORIES:Actividades
ATTACH;FMTTYPE=image/jpeg:https://calpcomunica.calp.es/wp-content/uploads/2025/09/27-09-25-campanya-intercanvis-XIRIMITERES-PORTITXOL-scaled.jpg
END:VEVENT
BEGIN:VEVENT
DTSTART;VALUE=DATE:20250930
DTEND;VALUE=DATE:20251001
DTSTAMP:20260423T021746
CREATED:20250930T073027Z
LAST-MODIFIED:20250930T073027Z
UID:10001800-1759190400-1759276799@calpcomunica.calp.es
SUMMARY:🎉👥 The Calp festeros (festival participants) unveil the poster for Oktoberfesters 2025
DESCRIPTION:The Parc de la Creativitat (Creativity Park) will be the setting\, on October 8th\, 10th\, and 11th\, for a new edition of the Oktoberfesters.\n🎶 Highlighted Program:\n📅 Wednesday 8th: Trending music\, Don Ewaldo & Marise Fox\, Gran Babylon Fem\, and DJ Varela.\n📅 Friday 10th: Don Ewaldo & Marise Fox and DJ Ruslana.\n📅 Saturday 11th: Don Ewaldo & Marise Fox\, Menphis\, and Javi Más.
URL:https://calpcomunica.calp.es/evento/%f0%9f%8e%89%f0%9f%91%a5-the-calp-festeros-festival-participants-unveil-the-poster-for-oktoberfesters-2025/?lang=en
CATEGORIES:Actividades
ATTACH;FMTTYPE=image/jpeg:https://calpcomunica.calp.es/wp-content/uploads/2025/09/Festeros-HOR-Ana.jpeg
END:VEVENT
END:VCALENDAR